BEGIN:VCALENDAR
VERSION:2.0
PRODID:-//Oui Speak Fashion (OSF)® - ECPv6.15.20//NONSGML v1.0//EN
CALSCALE:GREGORIAN
METHOD:PUBLISH
X-WR-CALNAME:Oui Speak Fashion (OSF)®
X-ORIGINAL-URL:https://ouispeakfashion.com
X-WR-CALDESC:Events for Oui Speak Fashion (OSF)®
REFRESH-INTERVAL;VALUE=DURATION:PT1H
X-Robots-Tag:noindex
X-PUBLISHED-TTL:PT1H
BEGIN:VTIMEZONE
TZID:America/Halifax
BEGIN:DAYLIGHT
TZOFFSETFROM:-0400
TZOFFSETTO:-0300
TZNAME:ADT
DTSTART:20240310T060000
END:DAYLIGHT
BEGIN:STANDARD
TZOFFSETFROM:-0300
TZOFFSETTO:-0400
TZNAME:AST
DTSTART:20241103T050000
END:STANDARD
BEGIN:DAYLIGHT
TZOFFSETFROM:-0400
TZOFFSETTO:-0300
TZNAME:ADT
DTSTART:20250309T060000
END:DAYLIGHT
BEGIN:STANDARD
TZOFFSETFROM:-0300
TZOFFSETTO:-0400
TZNAME:AST
DTSTART:20251102T050000
END:STANDARD
BEGIN:DAYLIGHT
TZOFFSETFROM:-0400
TZOFFSETTO:-0300
TZNAME:ADT
DTSTART:20260308T060000
END:DAYLIGHT
BEGIN:STANDARD
TZOFFSETFROM:-0300
TZOFFSETTO:-0400
TZNAME:AST
DTSTART:20261101T050000
END:STANDARD
END:VTIMEZONE
BEGIN:VEVENT
DTSTART;VALUE=DATE:20250611
DTEND;VALUE=DATE:20250612
DTSTAMP:20260419T141048
CREATED:20250223T034133Z
LAST-MODIFIED:20250223T034133Z
UID:71209-1749600000-1749686399@ouispeakfashion.com
SUMMARY:ZEGNA Spring/Summer 2026 Show
DESCRIPTION:Italian luxury menswear brand ZEGNA will present its Spring/Summer 2026 show in Dubai on June 11\, 2025. \nZEGNA has traditionally unveiled its new collections at Milan Fashion Week\, but this marks the first time the brand will showcase its collection outside of Milan\, highlighting Italian craftsmanship and innovation. \nRead more:ZEGNA to Unveil Its Spring/Summer 2026 Collection in Dubai
URL:https://ouispeakfashion.com/event/zegna-spring-summer-2026-show/
LOCATION:Dubai\, Dubai\, United Arab Emirates
CATEGORIES:Fashion Show
ATTACH;FMTTYPE=image/jpeg:https://ouispeakfashion.com/wp-content/uploads/2025/02/ZEGNA-SS25-Fashion-Show-June-2024_Milan_HERO.jpg
END:VEVENT
END:VCALENDAR