BEGIN:VCALENDAR
VERSION:2.0
PRODID:-//Oui Speak Fashion (OSF)® - ECPv6.15.20//NONSGML v1.0//EN
CALSCALE:GREGORIAN
METHOD:PUBLISH
X-WR-CALNAME:Oui Speak Fashion (OSF)®
X-ORIGINAL-URL:https://ouispeakfashion.com
X-WR-CALDESC:Events for Oui Speak Fashion (OSF)®
REFRESH-INTERVAL;VALUE=DURATION:PT1H
X-Robots-Tag:noindex
X-PUBLISHED-TTL:PT1H
BEGIN:VTIMEZONE
TZID:America/Halifax
BEGIN:DAYLIGHT
TZOFFSETFROM:-0400
TZOFFSETTO:-0300
TZNAME:ADT
DTSTART:20240310T060000
END:DAYLIGHT
BEGIN:STANDARD
TZOFFSETFROM:-0300
TZOFFSETTO:-0400
TZNAME:AST
DTSTART:20241103T050000
END:STANDARD
BEGIN:DAYLIGHT
TZOFFSETFROM:-0400
TZOFFSETTO:-0300
TZNAME:ADT
DTSTART:20250309T060000
END:DAYLIGHT
BEGIN:STANDARD
TZOFFSETFROM:-0300
TZOFFSETTO:-0400
TZNAME:AST
DTSTART:20251102T050000
END:STANDARD
BEGIN:DAYLIGHT
TZOFFSETFROM:-0400
TZOFFSETTO:-0300
TZNAME:ADT
DTSTART:20260308T060000
END:DAYLIGHT
BEGIN:STANDARD
TZOFFSETFROM:-0300
TZOFFSETTO:-0400
TZNAME:AST
DTSTART:20261101T050000
END:STANDARD
END:VTIMEZONE
BEGIN:VEVENT
DTSTART;VALUE=DATE:20250617
DTEND;VALUE=DATE:20250621
DTSTAMP:20260419T142123
CREATED:20250326T235223Z
LAST-MODIFIED:20250327T000429Z
UID:76777-1750118400-1750463999@ouispeakfashion.com
SUMMARY:​Pitti Uomo 108
DESCRIPTION:Pitti Uomo 108 will be held from Tuesday\, June 17 to Friday\, June 20\, 2025\, at the Fortezza da Basso in Florence\, Italy. \nPitti Uomo is known as one of the world’s leading men’s fashion events. Held twice a year in Florence\, it is an international trade show that brings together brands and buyers from around the globe. At the venue\, the latest menswear and accessories are showcased\, and the event is highly regarded as a hub for business and networking. \nThis season\, HOMME PLISSÉ ISSEY MIYAKE has been selected as the Guest of Honor\, and will present a specially designed menswear collection for the occasion on June 18 in the city of Florence.
URL:https://ouispeakfashion.com/event/pitti-uomo-108/
LOCATION:Fortezza da Basso\, Florence\, Italy
CATEGORIES:Fashion Tradeshow
ATTACH;FMTTYPE=image/png:https://ouispeakfashion.com/wp-content/uploads/2025/03/OSF-Main-8-1.png
END:VEVENT
END:VCALENDAR