BEGIN:VCALENDAR
VERSION:2.0
PRODID:-//Oui Speak Fashion (OSF)® - ECPv6.15.20//NONSGML v1.0//EN
CALSCALE:GREGORIAN
METHOD:PUBLISH
X-ORIGINAL-URL:https://ouispeakfashion.com
X-WR-CALDESC:Events for Oui Speak Fashion (OSF)®
REFRESH-INTERVAL;VALUE=DURATION:PT1H
X-Robots-Tag:noindex
X-PUBLISHED-TTL:PT1H
BEGIN:VTIMEZONE
TZID:America/Halifax
BEGIN:DAYLIGHT
TZOFFSETFROM:-0400
TZOFFSETTO:-0300
TZNAME:ADT
DTSTART:20240310T060000
END:DAYLIGHT
BEGIN:STANDARD
TZOFFSETFROM:-0300
TZOFFSETTO:-0400
TZNAME:AST
DTSTART:20241103T050000
END:STANDARD
BEGIN:DAYLIGHT
TZOFFSETFROM:-0400
TZOFFSETTO:-0300
TZNAME:ADT
DTSTART:20250309T060000
END:DAYLIGHT
BEGIN:STANDARD
TZOFFSETFROM:-0300
TZOFFSETTO:-0400
TZNAME:AST
DTSTART:20251102T050000
END:STANDARD
BEGIN:DAYLIGHT
TZOFFSETFROM:-0400
TZOFFSETTO:-0300
TZNAME:ADT
DTSTART:20260308T060000
END:DAYLIGHT
BEGIN:STANDARD
TZOFFSETFROM:-0300
TZOFFSETTO:-0400
TZNAME:AST
DTSTART:20261101T050000
END:STANDARD
END:VTIMEZONE
BEGIN:VEVENT
DTSTART;VALUE=DATE:20251117
DTEND;VALUE=DATE:20251120
DTSTAMP:20260419T145054
CREATED:20250720T194717Z
LAST-MODIFIED:20250814T170802Z
UID:100051-1763337600-1763596799@ouispeakfashion.com
SUMMARY:The International Apparel and Textile Fair - Dubai
DESCRIPTION:The International Apparel and Textile Fair (IATF) is the Gulf’s leading international B2B fashion trade sourcing fair for apparel\, textiles\, fashion accessories\, footwear\, and related products. Now in its 20th edition\, IATF will be held on 17–19 November 2025 at the Dubai World Trade Centre\, bringing together over 450 exhibitors from more than 25 countries and over 5\,000 buyers from across the GCC\, Africa\, Europe\, and other key global markets. \nIATF provides an unmatched opportunity for buyers\, retailers\, manufacturers\, designers\, and sourcing professionals to explore the latest collections\, connect with trusted suppliers\, and discover emerging trends under one roof. \nThe 20th edition will also feature Moda Sole & Accessories\, a brand-new pavilion spotlighting footwear\, handbags\, and fashion accessories\, adding exciting new dimensions to the show’s well-established apparel and textile categories. \nKey Highlights:– Over 450 exhibitors from more than 25 countries– Over 5\,000 qualified buyers from the GCC\, Africa\, and Europe– Hosted Buyer Program and an exclusive buyer lounge \nWhether the goal is to source the latest fabrics\, discover new production partners\, grow brand presence\, or stay ahead of global fashion trends\, IATF Dubai stands as a key platform for industry professionals to accelerate business growth in one of the world’s most dynamic markets. \nVisitor badge registration is available through this form. \n 
URL:https://ouispeakfashion.com/event/2025-the-international-apparel-and-textile-fair-dubai/
LOCATION:Dubai World Trade Centre\, Trade Centre 2\, Dubai\, United Arab Emirates
CATEGORIES:Fashion Tradeshow,Sourcing Tradeshow
ATTACH;FMTTYPE=image/png:https://ouispeakfashion.com/wp-content/uploads/2025/07/OSF-Main-4-2.png
ORGANIZER;CN="Bhavna Nihalani":MAILTO:bhavna@internationaltextilefair.com
END:VEVENT
END:VCALENDAR