BEGIN:VCALENDAR
VERSION:2.0
PRODID:-//Oui Speak Fashion (OSF)® - ECPv6.15.20//NONSGML v1.0//EN
CALSCALE:GREGORIAN
METHOD:PUBLISH
X-ORIGINAL-URL:https://ouispeakfashion.com
X-WR-CALDESC:Events for Oui Speak Fashion (OSF)®
REFRESH-INTERVAL;VALUE=DURATION:PT1H
X-Robots-Tag:noindex
X-PUBLISHED-TTL:PT1H
BEGIN:VTIMEZONE
TZID:America/Halifax
BEGIN:DAYLIGHT
TZOFFSETFROM:-0400
TZOFFSETTO:-0300
TZNAME:ADT
DTSTART:20240310T060000
END:DAYLIGHT
BEGIN:STANDARD
TZOFFSETFROM:-0300
TZOFFSETTO:-0400
TZNAME:AST
DTSTART:20241103T050000
END:STANDARD
BEGIN:DAYLIGHT
TZOFFSETFROM:-0400
TZOFFSETTO:-0300
TZNAME:ADT
DTSTART:20250309T060000
END:DAYLIGHT
BEGIN:STANDARD
TZOFFSETFROM:-0300
TZOFFSETTO:-0400
TZNAME:AST
DTSTART:20251102T050000
END:STANDARD
BEGIN:DAYLIGHT
TZOFFSETFROM:-0400
TZOFFSETTO:-0300
TZNAME:ADT
DTSTART:20260308T060000
END:DAYLIGHT
BEGIN:STANDARD
TZOFFSETFROM:-0300
TZOFFSETTO:-0400
TZNAME:AST
DTSTART:20261101T050000
END:STANDARD
END:VTIMEZONE
BEGIN:VEVENT
DTSTART;VALUE=DATE:20250620
DTEND;VALUE=DATE:20250625
DTSTAMP:20260419T201215
CREATED:20241014T200312Z
LAST-MODIFIED:20250609T211104Z
UID:44293-1750377600-1750809599@ouispeakfashion.com
SUMMARY:Milan Fashion Week Menswear Spring/Summer 2026
DESCRIPTION:Milan Fashion Week Menswear Spring/Summer 2026 will be held over five days from June 20 to June 24\, 2025. \nMilan Fashion Week Menswear (Milano Moda Uomo) is a fashion event dedicated to men’s fashion\, held every January and June. Organized by the Camera Nazionale della Moda Italiana\, renowned brands such as Giorgio Armani\, Prada\, Gucci\, Dolce & Gabbana\, and Versace participate and showcase their latest collections. \nDiscover the full schedule and lineup of Milan Fashion Week Menswear Spring/Summer 2026 here.
URL:https://ouispeakfashion.com/event/milan-fashion-week-menswear-ss26/
CATEGORIES:Fashion Week
ATTACH;FMTTYPE=image/png:https://ouispeakfashion.com/wp-content/uploads/2024/10/Milan-Fashion-Week-Menswear.png
END:VEVENT
BEGIN:VEVENT
DTSTART;VALUE=DATE:20250624
DTEND;VALUE=DATE:20250630
DTSTAMP:20260419T201215
CREATED:20241001T025946Z
LAST-MODIFIED:20250609T211625Z
UID:42719-1750723200-1751241599@ouispeakfashion.com
SUMMARY:Paris Fashion Week Menswear Spring/Summer 2026
DESCRIPTION:Paris Fashion Week Menswear Spring/Summer 2026 will be held six days from Tuesday\, June 24 to Sunday\, June 29\, 2025. Brands will present their Spring/Summer 2026 collections in a runway show or presentation format. \nDiscover the full schedule and lineup of Paris Fashion Week Menswear Spring/Summer 2026 here.
URL:https://ouispeakfashion.com/event/paris-fashion-week-menswear-spring-summer-2026/
CATEGORIES:Fashion Week
ATTACH;FMTTYPE=image/png:https://ouispeakfashion.com/wp-content/uploads/2024/09/2-1.png
END:VEVENT
BEGIN:VEVENT
DTSTART;VALUE=DATE:20250630
DTEND;VALUE=DATE:20250704
DTSTAMP:20260419T201215
CREATED:20250326T233956Z
LAST-MODIFIED:20250509T170417Z
UID:76773-1751241600-1751587199@ouispeakfashion.com
SUMMARY:Berlin Fashion Week Spring/Summer 2026
DESCRIPTION:The Berlin Fashion Week Spring/Summer 2026 collections will be held over four days from Monday\, June 30 to Thursday\, July 3\, 2025. \nSet against the backdrop of Berlin’s experimental and culturally diverse atmosphere\, the event blends fashion\, art\, music\, and technology\, offering an immersive experience that goes beyond the boundaries of traditional runway shows. \nBerlin Fashion Week is also widely recognized as a hub for sustainable fashion\, attracting environmentally conscious brands from around the world. With a strong focus on circular design\, ethical production\, and creative transparency\, the event continues to draw significant attention from both domestic and international industry professionals.
URL:https://ouispeakfashion.com/event/berlin-fashion-week-spring-summer-2026/
CATEGORIES:Fashion Week
ATTACH;FMTTYPE=image/png:https://ouispeakfashion.com/wp-content/uploads/2025/03/OSF-Main-7-1.png
END:VEVENT
END:VCALENDAR