BEGIN:VCALENDAR
VERSION:2.0
PRODID:-//Oui Speak Fashion (OSF)® - ECPv6.15.20//NONSGML v1.0//EN
CALSCALE:GREGORIAN
METHOD:PUBLISH
X-WR-CALNAME:Oui Speak Fashion (OSF)®
X-ORIGINAL-URL:https://ouispeakfashion.com
X-WR-CALDESC:Events for Oui Speak Fashion (OSF)®
REFRESH-INTERVAL;VALUE=DURATION:PT1H
X-Robots-Tag:noindex
X-PUBLISHED-TTL:PT1H
BEGIN:VTIMEZONE
TZID:America/Halifax
BEGIN:DAYLIGHT
TZOFFSETFROM:-0400
TZOFFSETTO:-0300
TZNAME:ADT
DTSTART:20240310T060000
END:DAYLIGHT
BEGIN:STANDARD
TZOFFSETFROM:-0300
TZOFFSETTO:-0400
TZNAME:AST
DTSTART:20241103T050000
END:STANDARD
BEGIN:DAYLIGHT
TZOFFSETFROM:-0400
TZOFFSETTO:-0300
TZNAME:ADT
DTSTART:20250309T060000
END:DAYLIGHT
BEGIN:STANDARD
TZOFFSETFROM:-0300
TZOFFSETTO:-0400
TZNAME:AST
DTSTART:20251102T050000
END:STANDARD
BEGIN:DAYLIGHT
TZOFFSETFROM:-0400
TZOFFSETTO:-0300
TZNAME:ADT
DTSTART:20260308T060000
END:DAYLIGHT
BEGIN:STANDARD
TZOFFSETFROM:-0300
TZOFFSETTO:-0400
TZNAME:AST
DTSTART:20261101T050000
END:STANDARD
END:VTIMEZONE
BEGIN:VEVENT
DTSTART;VALUE=DATE:20250901
DTEND;VALUE=DATE:20250907
DTSTAMP:20260419T154720
CREATED:20250713T180534Z
LAST-MODIFIED:20251030T203910Z
UID:99387-1756684800-1757203199@ouispeakfashion.com
SUMMARY:Rakuten Fashion Week Tokyo Spring/Summer 2026
DESCRIPTION:Rakuten Fashion Week Tokyo 2026 Spring/Summer will take place over six days\, from Monday\, September 1 to Saturday\, September 6\, 2025\, during which each designer will unveil their latest Spring/Summer 2026 collections via runway shows or presentations. \nThe event is organized by the Japan Fashion Week Organization (JFWO)\, with Rakuten serving as the title sponsor since 2019. For the 2026 Spring/Summer season\, collections will be presented at official venues including Shibuya Hikarie Hall A and B.
URL:https://ouispeakfashion.com/event/rakuten-fashionweek-tokyo-ss26/
LOCATION:Shibuya Hikarie\, Shibuya\, Tokyo\, 150-8510\, Japan
CATEGORIES:Fashion Week
ATTACH;FMTTYPE=image/png:https://ouispeakfashion.com/wp-content/uploads/2025/08/楽天ファッションウィーク東京2026年春夏.png
END:VEVENT
BEGIN:VEVENT
DTSTART;VALUE=DATE:20250911
DTEND;VALUE=DATE:20250917
DTSTAMP:20260419T154720
CREATED:20241014T204740Z
LAST-MODIFIED:20250803T035257Z
UID:44298-1757548800-1758067199@ouispeakfashion.com
SUMMARY:New York Fashion Week Spring/Summer 2026
DESCRIPTION:New York Fashion Week Spring/Summer 2026 will take place over six days from September 11 to Wednesday\, September 16\, 2025\, with each designer presenting their “Spring/Summer 2026 Collection” through runway shows\, presentations\, or digital formats. \nNew York Fashion Week (NYFW) is one of the “Big Four” global fashion events\, alongside Paris\, Milan\, and London\, and is considered one of the most prestigious fashion events in the world. Held every February and September\, it showcases the latest collections for the upcoming season. The event is organized by the Council of Fashion Designers of America (CFDA)\, and it features a wide range of brands\, from established designers to emerging talents. \nDiscover the full schedule and lineup of New York Fashion Week Spring/Summer 2026 here.
URL:https://ouispeakfashion.com/event/new-york-fashion-week-ss26/
LOCATION:New York
CATEGORIES:Fashion Week
ATTACH;FMTTYPE=image/png:https://ouispeakfashion.com/wp-content/uploads/2024/10/New-York-Fashion-Week.png
END:VEVENT
BEGIN:VEVENT
DTSTART;VALUE=DATE:20250918
DTEND;VALUE=DATE:20250923
DTSTAMP:20260419T154720
CREATED:20250713T181424Z
LAST-MODIFIED:20250713T181551Z
UID:99390-1758153600-1758585599@ouispeakfashion.com
SUMMARY:London Fashion Week Spring/Summer 2026
DESCRIPTION:London Fashion Week 2026 Spring/Summer will be held over five days\, from September 18 to September 22\, 2025. \nLondon Fashion Week (LFW) is recognized as one of the “Big Four” global fashion events alongside New York\, Paris\, and Milan. During LFW\, each brand unveils its latest collections through runway shows\, presentations\, or digital formats. Held biannually every February and September\, the event features both iconic fashion houses—such as Burberry\, Vivienne Westwood\, and Alexander McQueen—and up-and-coming designers\, and is celebrated for its diversity\, creativity\, and innovation.
URL:https://ouispeakfashion.com/event/london-fashion-week-spring-summer-2026/
CATEGORIES:Fashion Week
ATTACH;FMTTYPE=image/png:https://ouispeakfashion.com/wp-content/uploads/2025/07/OSF-Main-10.png
END:VEVENT
BEGIN:VEVENT
DTSTART;VALUE=DATE:20250923
DTEND;VALUE=DATE:20250930
DTSTAMP:20260419T154720
CREATED:20250713T183000Z
LAST-MODIFIED:20250713T183000Z
UID:99395-1758585600-1759190399@ouispeakfashion.com
SUMMARY:Milan Fashion Week Spring/Summer 2026
DESCRIPTION:Milano Fashion Week 2026 Spring/Summer will be held over seven days\, from Tuesday\, September 23 to Monday\, September 29\, 2025. During this period\, brands and designers will present their Spring/Summer 2026 collections through runway shows\, presentations\, and digital showcases. \nMilano Fashion Week (MFW) is recognized as one of the “Big Four” global fashion events alongside New York\, Paris\, and London\, and ranks among the world’s most anticipated fashion weeks. Held biannually every February and September\, the event unveils the upcoming season’s latest collections. Organized by the Camera Nazionale della Moda Italiana\, MFW features both prestigious heritage houses such as Fendi\, Prada\, and Gucci\, as well as up-and-coming designers who bring fresh creativity to the runway.
URL:https://ouispeakfashion.com/event/milan-fashion-week-spring-summer-2026/
CATEGORIES:Fashion Week
ATTACH;FMTTYPE=image/webp:https://ouispeakfashion.com/wp-content/uploads/2025/07/OSF-Main-1.webp
END:VEVENT
BEGIN:VEVENT
DTSTART;VALUE=DATE:20250929
DTEND;VALUE=DATE:20251008
DTSTAMP:20260419T154720
CREATED:20240930T013409Z
LAST-MODIFIED:20250803T035123Z
UID:42533-1759104000-1759881599@ouispeakfashion.com
SUMMARY:Paris Fashion Week Spring/Summer 2026 Collection
DESCRIPTION:Paris Fashion Week Spring/Summer 2026 will take place from Monday\, September 29\, to Tuesday\, October 7\, 2025. Participating brands will present their Spring/Summer 2026 Collection through runway shows\, presentations\, or digital formats. \nDiscover the full schedule and lineup of Paris Fashion Week Spring/Summer 2026 here.
URL:https://ouispeakfashion.com/event/paris-fashion-week-spring-summer-2026/
LOCATION:Paris\, Paris\, France
CATEGORIES:Fashion Week
ATTACH;FMTTYPE=image/webp:https://ouispeakfashion.com/wp-content/uploads/2024/09/OSF-Main.webp
END:VEVENT
END:VCALENDAR