BEGIN:VCALENDAR
VERSION:2.0
PRODID:-//Oui Speak Fashion (OSF)® - ECPv6.15.20//NONSGML v1.0//EN
CALSCALE:GREGORIAN
METHOD:PUBLISH
X-ORIGINAL-URL:https://ouispeakfashion.com
X-WR-CALDESC:Events for Oui Speak Fashion (OSF)®
REFRESH-INTERVAL;VALUE=DURATION:PT1H
X-Robots-Tag:noindex
X-PUBLISHED-TTL:PT1H
BEGIN:VTIMEZONE
TZID:America/Halifax
BEGIN:DAYLIGHT
TZOFFSETFROM:-0400
TZOFFSETTO:-0300
TZNAME:ADT
DTSTART:20240310T060000
END:DAYLIGHT
BEGIN:STANDARD
TZOFFSETFROM:-0300
TZOFFSETTO:-0400
TZNAME:AST
DTSTART:20241103T050000
END:STANDARD
BEGIN:DAYLIGHT
TZOFFSETFROM:-0400
TZOFFSETTO:-0300
TZNAME:ADT
DTSTART:20250309T060000
END:DAYLIGHT
BEGIN:STANDARD
TZOFFSETFROM:-0300
TZOFFSETTO:-0400
TZNAME:AST
DTSTART:20251102T050000
END:STANDARD
BEGIN:DAYLIGHT
TZOFFSETFROM:-0400
TZOFFSETTO:-0300
TZNAME:ADT
DTSTART:20260308T060000
END:DAYLIGHT
BEGIN:STANDARD
TZOFFSETFROM:-0300
TZOFFSETTO:-0400
TZNAME:AST
DTSTART:20261101T050000
END:STANDARD
END:VTIMEZONE
BEGIN:VEVENT
DTSTART;VALUE=DATE:20250707
DTEND;VALUE=DATE:20250711
DTSTAMP:20260419T201400
CREATED:20241001T033750Z
LAST-MODIFIED:20250609T210937Z
UID:42724-1751846400-1752191999@ouispeakfashion.com
SUMMARY:Paris Haute Couture Week Fall/Winter 2025-2026
DESCRIPTION:Paris Haute Couture Week Fall/Winter 2025-2026 will take place over four days from Monday\, July 7 to Thursday\, July 10\, 2025. Brands will present their Haute Couture Fall/Winter 2025-2026 collections in a runway show or presentation format. \nDiscover the full schedule and lineup of Paris Haute Couture Week Fall/Winter 2025–2026 here.
URL:https://ouispeakfashion.com/event/paris-haute-couture-week-fall-winter-2025-2026/
CATEGORIES:Fashion Week
ATTACH;FMTTYPE=image/png:https://ouispeakfashion.com/wp-content/uploads/2024/09/OSF-Main-12.png
END:VEVENT
END:VCALENDAR