BEGIN:VCALENDAR
VERSION:2.0
PRODID:-//Oui Speak Fashion (OSF)® - ECPv6.15.20//NONSGML v1.0//EN
CALSCALE:GREGORIAN
METHOD:PUBLISH
X-WR-CALNAME:Oui Speak Fashion (OSF)®
X-ORIGINAL-URL:https://ouispeakfashion.com
X-WR-CALDESC:Events for Oui Speak Fashion (OSF)®
REFRESH-INTERVAL;VALUE=DURATION:PT1H
X-Robots-Tag:noindex
X-PUBLISHED-TTL:PT1H
BEGIN:VTIMEZONE
TZID:America/Halifax
BEGIN:DAYLIGHT
TZOFFSETFROM:-0400
TZOFFSETTO:-0300
TZNAME:ADT
DTSTART:20240310T060000
END:DAYLIGHT
BEGIN:STANDARD
TZOFFSETFROM:-0300
TZOFFSETTO:-0400
TZNAME:AST
DTSTART:20241103T050000
END:STANDARD
BEGIN:DAYLIGHT
TZOFFSETFROM:-0400
TZOFFSETTO:-0300
TZNAME:ADT
DTSTART:20250309T060000
END:DAYLIGHT
BEGIN:STANDARD
TZOFFSETFROM:-0300
TZOFFSETTO:-0400
TZNAME:AST
DTSTART:20251102T050000
END:STANDARD
BEGIN:DAYLIGHT
TZOFFSETFROM:-0400
TZOFFSETTO:-0300
TZNAME:ADT
DTSTART:20260308T060000
END:DAYLIGHT
BEGIN:STANDARD
TZOFFSETFROM:-0300
TZOFFSETTO:-0400
TZNAME:AST
DTSTART:20261101T050000
END:STANDARD
END:VTIMEZONE
BEGIN:VEVENT
DTSTART;VALUE=DATE:20250918
DTEND;VALUE=DATE:20250923
DTSTAMP:20260419T170544
CREATED:20250713T181424Z
LAST-MODIFIED:20250713T181551Z
UID:99390-1758153600-1758585599@ouispeakfashion.com
SUMMARY:London Fashion Week Spring/Summer 2026
DESCRIPTION:London Fashion Week 2026 Spring/Summer will be held over five days\, from September 18 to September 22\, 2025. \nLondon Fashion Week (LFW) is recognized as one of the “Big Four” global fashion events alongside New York\, Paris\, and Milan. During LFW\, each brand unveils its latest collections through runway shows\, presentations\, or digital formats. Held biannually every February and September\, the event features both iconic fashion houses—such as Burberry\, Vivienne Westwood\, and Alexander McQueen—and up-and-coming designers\, and is celebrated for its diversity\, creativity\, and innovation.
URL:https://ouispeakfashion.com/event/london-fashion-week-spring-summer-2026/
CATEGORIES:Fashion Week
ATTACH;FMTTYPE=image/png:https://ouispeakfashion.com/wp-content/uploads/2025/07/OSF-Main-10.png
END:VEVENT
END:VCALENDAR