BEGIN:VCALENDAR
VERSION:2.0
PRODID:-//Oui Speak Fashion (OSF)® - ECPv6.15.20//NONSGML v1.0//EN
CALSCALE:GREGORIAN
METHOD:PUBLISH
X-WR-CALNAME:Oui Speak Fashion (OSF)®
X-ORIGINAL-URL:https://ouispeakfashion.com
X-WR-CALDESC:Events for Oui Speak Fashion (OSF)®
REFRESH-INTERVAL;VALUE=DURATION:PT1H
X-Robots-Tag:noindex
X-PUBLISHED-TTL:PT1H
BEGIN:VTIMEZONE
TZID:America/Halifax
BEGIN:DAYLIGHT
TZOFFSETFROM:-0400
TZOFFSETTO:-0300
TZNAME:ADT
DTSTART:20240310T060000
END:DAYLIGHT
BEGIN:STANDARD
TZOFFSETFROM:-0300
TZOFFSETTO:-0400
TZNAME:AST
DTSTART:20241103T050000
END:STANDARD
BEGIN:DAYLIGHT
TZOFFSETFROM:-0400
TZOFFSETTO:-0300
TZNAME:ADT
DTSTART:20250309T060000
END:DAYLIGHT
BEGIN:STANDARD
TZOFFSETFROM:-0300
TZOFFSETTO:-0400
TZNAME:AST
DTSTART:20251102T050000
END:STANDARD
BEGIN:DAYLIGHT
TZOFFSETFROM:-0400
TZOFFSETTO:-0300
TZNAME:ADT
DTSTART:20260308T060000
END:DAYLIGHT
BEGIN:STANDARD
TZOFFSETFROM:-0300
TZOFFSETTO:-0400
TZNAME:AST
DTSTART:20261101T050000
END:STANDARD
END:VTIMEZONE
BEGIN:VEVENT
DTSTART;VALUE=DATE:20251009
DTEND;VALUE=DATE:20251017
DTSTAMP:20260419T154041
CREATED:20250718T212228Z
LAST-MODIFIED:20250718T212228Z
UID:99786-1759968000-1760659199@ouispeakfashion.com
SUMMARY:Shanghai Fashion Week Spring/Summer 2026
DESCRIPTION:“Shanghai Fashion Week Spring/Summer 2026” will be held from October 9 to 16\, 2025. Throughout the week\, more than ten iconic fashion landmarks across the city will host a concentrated series of “first-time shows\,” “debut exhibitions\,” and “premiere unveilings.” \nIn addition\, over 1\,000 brands are set to present their latest collections\, delivering bold and diverse presentations in a variety of formats.
URL:https://ouispeakfashion.com/event/shanghai-fashion-week-spring-summer-2026/
LOCATION:shanghai\, Shanghai\, China
CATEGORIES:Fashion Week
ATTACH;FMTTYPE=image/webp:https://ouispeakfashion.com/wp-content/uploads/2025/07/OSF-Main-1-3.webp
END:VEVENT
END:VCALENDAR