BEGIN:VCALENDAR
VERSION:2.0
PRODID:-//Oui Speak Fashion (OSF)® - ECPv6.15.20//NONSGML v1.0//EN
CALSCALE:GREGORIAN
METHOD:PUBLISH
X-WR-CALNAME:Oui Speak Fashion (OSF)®
X-ORIGINAL-URL:https://ouispeakfashion.com
X-WR-CALDESC:Events for Oui Speak Fashion (OSF)®
REFRESH-INTERVAL;VALUE=DURATION:PT1H
X-Robots-Tag:noindex
X-PUBLISHED-TTL:PT1H
BEGIN:VTIMEZONE
TZID:America/Halifax
BEGIN:DAYLIGHT
TZOFFSETFROM:-0400
TZOFFSETTO:-0300
TZNAME:ADT
DTSTART:20250309T060000
END:DAYLIGHT
BEGIN:STANDARD
TZOFFSETFROM:-0300
TZOFFSETTO:-0400
TZNAME:AST
DTSTART:20251102T050000
END:STANDARD
BEGIN:DAYLIGHT
TZOFFSETFROM:-0400
TZOFFSETTO:-0300
TZNAME:ADT
DTSTART:20260308T060000
END:DAYLIGHT
BEGIN:STANDARD
TZOFFSETFROM:-0300
TZOFFSETTO:-0400
TZNAME:AST
DTSTART:20261101T050000
END:STANDARD
BEGIN:DAYLIGHT
TZOFFSETFROM:-0400
TZOFFSETTO:-0300
TZNAME:ADT
DTSTART:20270314T060000
END:DAYLIGHT
BEGIN:STANDARD
TZOFFSETFROM:-0300
TZOFFSETTO:-0400
TZNAME:AST
DTSTART:20271107T050000
END:STANDARD
END:VTIMEZONE
BEGIN:VEVENT
DTSTART;VALUE=DATE:20260130
DTEND;VALUE=DATE:20260203
DTSTAMP:20260419T103606
CREATED:20251130T024638Z
LAST-MODIFIED:20251130T024814Z
UID:107289-1769731200-1770076799@ouispeakfashion.com
SUMMARY:Berlin Fashion Week Autumn/Winter 2026
DESCRIPTION:Berlin Fashion Week’s Autumn/Winter 2026 collections will take place from January 30 to February 2\, 2026. \nKnown for its innovative and avant-garde spirit\, Berlin Fashion Week has established a distinct presence within the European fashion landscape\, with a strong focus on sustainability\, culture\, and craftsmanship. Each season\, the event brings together emerging and established designers from Germany and abroad\, presenting runway shows\, presentations\, and multidisciplinary programs that blend fashion with art—showcasing the unique creative pulse and urban culture of Berlin. \nFor the Autumn/Winter 2026 season\, designers representing the city’s vibrant creative scene will unveil their latest collections\, offering a compelling expression of Berlin’s diversity\, freedom of creativity\, and forward-thinking approach to fashion.
URL:https://ouispeakfashion.com/event/berlin-fashion-week-autumn-winter-2026/
LOCATION:Berlin\, Berlin\, Germany
CATEGORIES:Fashion Week
ATTACH;FMTTYPE=image/jpeg:https://ouispeakfashion.com/wp-content/uploads/2025/11/13_rebekka_ruetz_SS26_Backstge_1_by_Milena-Zara_for_BFW-1.jpg
END:VEVENT
END:VCALENDAR