BEGIN:VCALENDAR
VERSION:2.0
PRODID:-//Oui Speak Fashion (OSF)® - ECPv6.15.20//NONSGML v1.0//EN
CALSCALE:GREGORIAN
METHOD:PUBLISH
X-WR-CALNAME:Oui Speak Fashion (OSF)®
X-ORIGINAL-URL:https://ouispeakfashion.com
X-WR-CALDESC:Events for Oui Speak Fashion (OSF)®
REFRESH-INTERVAL;VALUE=DURATION:PT1H
X-Robots-Tag:noindex
X-PUBLISHED-TTL:PT1H
BEGIN:VTIMEZONE
TZID:America/Halifax
BEGIN:DAYLIGHT
TZOFFSETFROM:-0400
TZOFFSETTO:-0300
TZNAME:ADT
DTSTART:20250309T060000
END:DAYLIGHT
BEGIN:STANDARD
TZOFFSETFROM:-0300
TZOFFSETTO:-0400
TZNAME:AST
DTSTART:20251102T050000
END:STANDARD
BEGIN:DAYLIGHT
TZOFFSETFROM:-0400
TZOFFSETTO:-0300
TZNAME:ADT
DTSTART:20260308T060000
END:DAYLIGHT
BEGIN:STANDARD
TZOFFSETFROM:-0300
TZOFFSETTO:-0400
TZNAME:AST
DTSTART:20261101T050000
END:STANDARD
BEGIN:DAYLIGHT
TZOFFSETFROM:-0400
TZOFFSETTO:-0300
TZNAME:ADT
DTSTART:20270314T060000
END:DAYLIGHT
BEGIN:STANDARD
TZOFFSETFROM:-0300
TZOFFSETTO:-0400
TZNAME:AST
DTSTART:20271107T050000
END:STANDARD
END:VTIMEZONE
BEGIN:VEVENT
DTSTART;VALUE=DATE:20260224
DTEND;VALUE=DATE:20260304
DTSTAMP:20260419T092052
CREATED:20250731T232035Z
LAST-MODIFIED:20260219T224332Z
UID:100311-1771891200-1772582399@ouispeakfashion.com
SUMMARY:Milan Fashion Week Fall/Winter 2026
DESCRIPTION:Milan Fashion Week Fall/Winter 2026 will be held over 7 days\, from February 24 to March 2\, 2026. During this period\, brands and designers will present their Fall/Winter 2026 collections through runway shows\, presentations\, and digital formats. \nRecognized as one of the “Big Four” fashion capitals alongside New York\, Paris\, and London\, Milan Fashion Week (MFW) is one of the most anticipated fashion events in the world. Held annually in February and September\, it showcases the latest collections for the upcoming season. Organized by the Camera Nazionale della Moda Italiana\, MFW features renowned houses such as Fendi\, Prada\, and Gucci\, alongside emerging designers bringing fresh perspectives to the industry. \nCheck out the official schedule for Milan Fashion Week Fall/Winter 2026 here.
URL:https://ouispeakfashion.com/event/milan-fashion-week-fall-winter-2026/
LOCATION:Milano\, Milano\, Italy
CATEGORIES:Fashion Week
ATTACH;FMTTYPE=image/webp:https://ouispeakfashion.com/wp-content/uploads/2025/07/OSF-Main-3-2.webp
END:VEVENT
BEGIN:VEVENT
DTSTART;VALUE=DATE:20260226
DTEND;VALUE=DATE:20260302
DTSTAMP:20260419T092052
CREATED:20260207T205921Z
LAST-MODIFIED:20260207T205921Z
UID:110134-1772064000-1772409599@ouispeakfashion.com
SUMMARY:WHITE Milano
DESCRIPTION:WHITE at the Heart of Milan Fashion Week\nWHITE is an international showcase within the global fashion landscape\, dedicated to all-around ready-to-wear collections. \nRecognized as one of the most relevant and dynamic events during Milan Fashion Week\, WHITE attracts buyers\, media\, and fashion industry professionals from around the world. Milan Fashion Week itself generates over €92 billion in annual revenue and accounts for approximately €80 billion in export value. \nWHITE is firmly positioned within a strong ecosystem comprising more than 12\,000 fashion companies and nearly 90\,000 fashion professionals who attend Milan Fashion Week each year. \nConceived as a platform for innovative projects\, WHITE offers a carefully curated selection of sustainable brands defined by avant-garde stylistic codes\, alongside established maisons\, experimental designers\, and next-generation startups. \nBlending art\, design\, culture\, and technology\, WHITE focuses on the exploration of new fashion languages through innovative installations. These projects are conceived by WHITE’s founder\, Massimiliano Bizzi\, and presented within a visual layout aligned with the most cutting-edge aesthetic standards. \nPress\, buyers\, and exhibitors are invited to apply via the official application form here.
URL:https://ouispeakfashion.com/event/white-milano-2026/
LOCATION:Tortona Fashion District – Via Tortona\, 27\, Via Tortona\, 20\, Milan\, 20144\, Italy
CATEGORIES:Fashion Tradeshow,Fashion Week
ATTACH;FMTTYPE=image/webp:https://ouispeakfashion.com/wp-content/uploads/2026/02/WHITE-Milan.webp
ORGANIZER;CN="Massimiliano Bizzi":MAILTO:press@whiteshow.com
END:VEVENT
END:VCALENDAR