BEGIN:VCALENDAR
VERSION:2.0
PRODID:-//Oui Speak Fashion (OSF)® - ECPv6.15.20//NONSGML v1.0//EN
CALSCALE:GREGORIAN
METHOD:PUBLISH
X-WR-CALNAME:Oui Speak Fashion (OSF)®
X-ORIGINAL-URL:https://ouispeakfashion.com
X-WR-CALDESC:Events for Oui Speak Fashion (OSF)®
REFRESH-INTERVAL;VALUE=DURATION:PT1H
X-Robots-Tag:noindex
X-PUBLISHED-TTL:PT1H
BEGIN:VTIMEZONE
TZID:America/Halifax
BEGIN:DAYLIGHT
TZOFFSETFROM:-0400
TZOFFSETTO:-0300
TZNAME:ADT
DTSTART:20230312T060000
END:DAYLIGHT
BEGIN:STANDARD
TZOFFSETFROM:-0300
TZOFFSETTO:-0400
TZNAME:AST
DTSTART:20231105T050000
END:STANDARD
BEGIN:DAYLIGHT
TZOFFSETFROM:-0400
TZOFFSETTO:-0300
TZNAME:ADT
DTSTART:20240310T060000
END:DAYLIGHT
BEGIN:STANDARD
TZOFFSETFROM:-0300
TZOFFSETTO:-0400
TZNAME:AST
DTSTART:20241103T050000
END:STANDARD
BEGIN:DAYLIGHT
TZOFFSETFROM:-0400
TZOFFSETTO:-0300
TZNAME:ADT
DTSTART:20250309T060000
END:DAYLIGHT
BEGIN:STANDARD
TZOFFSETFROM:-0300
TZOFFSETTO:-0400
TZNAME:AST
DTSTART:20251102T050000
END:STANDARD
END:VTIMEZONE
BEGIN:VEVENT
DTSTART;VALUE=DATE:20240523
DTEND;VALUE=DATE:20240524
DTSTAMP:20260422T135231
CREATED:20240516T192849Z
LAST-MODIFIED:20240530T193621Z
UID:18638-1716422400-1716508799@ouispeakfashion.com
SUMMARY:Louis Vuitton Cruise 2025
DESCRIPTION:Louis Vuitton will hold its Cruise 2025 show in Barcelona on May 23.
URL:https://ouispeakfashion.com/event/louis-vuitton-cruise-2025/
LOCATION:barcelona\, Barcerona\, Spain
CATEGORIES:Sample Sale
ATTACH;FMTTYPE=image/jpeg:https://ouispeakfashion.com/wp-content/uploads/2024/05/LVBA.jpg
END:VEVENT
END:VCALENDAR