BEGIN:VCALENDAR
VERSION:2.0
PRODID:-//Oui Speak Fashion (OSF)® - ECPv6.15.20//NONSGML v1.0//EN
CALSCALE:GREGORIAN
METHOD:PUBLISH
X-ORIGINAL-URL:https://ouispeakfashion.com
X-WR-CALDESC:Events for Oui Speak Fashion (OSF)®
REFRESH-INTERVAL;VALUE=DURATION:PT1H
X-Robots-Tag:noindex
X-PUBLISHED-TTL:PT1H
BEGIN:VTIMEZONE
TZID:America/Halifax
BEGIN:DAYLIGHT
TZOFFSETFROM:-0400
TZOFFSETTO:-0300
TZNAME:ADT
DTSTART:20230312T060000
END:DAYLIGHT
BEGIN:STANDARD
TZOFFSETFROM:-0300
TZOFFSETTO:-0400
TZNAME:AST
DTSTART:20231105T050000
END:STANDARD
BEGIN:DAYLIGHT
TZOFFSETFROM:-0400
TZOFFSETTO:-0300
TZNAME:ADT
DTSTART:20240310T060000
END:DAYLIGHT
BEGIN:STANDARD
TZOFFSETFROM:-0300
TZOFFSETTO:-0400
TZNAME:AST
DTSTART:20241103T050000
END:STANDARD
BEGIN:DAYLIGHT
TZOFFSETFROM:-0400
TZOFFSETTO:-0300
TZNAME:ADT
DTSTART:20250309T060000
END:DAYLIGHT
BEGIN:STANDARD
TZOFFSETFROM:-0300
TZOFFSETTO:-0400
TZNAME:AST
DTSTART:20251102T050000
END:STANDARD
END:VTIMEZONE
BEGIN:VEVENT
DTSTART;TZID=America/Halifax:20241219T110000
DTEND;TZID=America/Halifax:20241221T170000
DTSTAMP:20260422T022636
CREATED:20241216T202857Z
LAST-MODIFIED:20241216T203543Z
UID:54547-1734606000-1734800400@ouispeakfashion.com
SUMMARY:Bibhu Mohapatra VIP Sample Sale
DESCRIPTION:Bibhu Mohapatra VIP Sample Sale is open exclusively to their VIP clientele with exclusive access to one-of-a-kind\, sample-size designs. \nSpace is limited and appointments are required.\nYou may register via the link or simply email sales@bibhu.com with a date and time request.
URL:https://ouispeakfashion.com/event/bibhu-mohapatra-vip-sample-sale/
LOCATION:Bibhu Mohapatra\, 174 Duane St\, New York\, NY\, 10013\, United States
CATEGORIES:Sample Sale
ATTACH;FMTTYPE=image/jpeg:https://ouispeakfashion.com/wp-content/uploads/2024/12/unnamed-1.jpg
END:VEVENT
END:VCALENDAR