BEGIN:VCALENDAR
VERSION:2.0
PRODID:-//Oui Speak Fashion (OSF)® - ECPv6.15.20//NONSGML v1.0//EN
CALSCALE:GREGORIAN
METHOD:PUBLISH
X-ORIGINAL-URL:https://ouispeakfashion.com
X-WR-CALDESC:Events for Oui Speak Fashion (OSF)®
REFRESH-INTERVAL;VALUE=DURATION:PT1H
X-Robots-Tag:noindex
X-PUBLISHED-TTL:PT1H
BEGIN:VTIMEZONE
TZID:America/Halifax
BEGIN:DAYLIGHT
TZOFFSETFROM:-0400
TZOFFSETTO:-0300
TZNAME:ADT
DTSTART:20240310T060000
END:DAYLIGHT
BEGIN:STANDARD
TZOFFSETFROM:-0300
TZOFFSETTO:-0400
TZNAME:AST
DTSTART:20241103T050000
END:STANDARD
BEGIN:DAYLIGHT
TZOFFSETFROM:-0400
TZOFFSETTO:-0300
TZNAME:ADT
DTSTART:20250309T060000
END:DAYLIGHT
BEGIN:STANDARD
TZOFFSETFROM:-0300
TZOFFSETTO:-0400
TZNAME:AST
DTSTART:20251102T050000
END:STANDARD
BEGIN:DAYLIGHT
TZOFFSETFROM:-0400
TZOFFSETTO:-0300
TZNAME:ADT
DTSTART:20260308T060000
END:DAYLIGHT
BEGIN:STANDARD
TZOFFSETFROM:-0300
TZOFFSETTO:-0400
TZNAME:AST
DTSTART:20261101T050000
END:STANDARD
END:VTIMEZONE
BEGIN:VEVENT
DTSTART;VALUE=DATE:20250131
DTEND;VALUE=DATE:20250204
DTSTAMP:20260419T193440
CREATED:20241014T184158Z
LAST-MODIFIED:20241014T184158Z
UID:44285-1738281600-1738627199@ouispeakfashion.com
SUMMARY:Berlin Fashion Week Fall/Winter 2025
DESCRIPTION:Berlin Fashion Week Fall/Winter 2025 will take place over four days from January 31 to February 3\, 2025. \nBerlin Fashion Week is one of Germany’s major fashion events\, held every January and July\, providing a platform for emerging designers and creative talents. It brings together established brands and avant-garde designers\, focusing on sustainability and innovative fashion concepts. With runway shows\, trade fairs\, and exhibitions\, the event attracts fashion professionals\, media\, and influencers from around the world.
URL:https://ouispeakfashion.com/event/berlin-fashion-week-fall-winter-2025/
CATEGORIES:Fashion Week
ATTACH;FMTTYPE=image/png:https://ouispeakfashion.com/wp-content/uploads/2024/10/Berlin-Fashion-Week.png
END:VEVENT
BEGIN:VEVENT
DTSTART;VALUE=DATE:20250206
DTEND;VALUE=DATE:20250212
DTSTAMP:20260419T193440
CREATED:20241211T231632Z
LAST-MODIFIED:20241211T231632Z
UID:54020-1738800000-1739318399@ouispeakfashion.com
SUMMARY:New York Fashion Week Fall/Winter 2025 Collection
DESCRIPTION:New York Fashion Week Fall/Winter 2025 will be held over six days\, from Thursday\, February 6\, to Tuesday\, February 11\, 2025. During this period\, various brands and designers will showcase their “Fall/Winter 2025 collections” through runway shows\, presentations\, and digital formats. \nNew York Fashion Week (NYFW) is recognized as one of the “Big Four\,” alongside Paris\, Milan\, and London\, and is considered one of the world’s most prestigious fashion events. Held annually in February and September\, it serves as a platform for unveiling the latest collections for the upcoming seasons. Organized by the Council of Fashion Designers of America (CFDA)\, the event attracts a diverse range of participants\, from established designers to emerging talents.
URL:https://ouispeakfashion.com/event/new-york-fashion-week-fall-winter-2025/
CATEGORIES:Fashion Week
ATTACH;FMTTYPE=image/png:https://ouispeakfashion.com/wp-content/uploads/2024/12/New-York-Fashion-Week-2025-FallWinter.png
END:VEVENT
BEGIN:VEVENT
DTSTART;VALUE=DATE:20250212
DTEND;VALUE=DATE:20250214
DTSTAMP:20260419T193440
CREATED:20250202T220730Z
LAST-MODIFIED:20250202T220730Z
UID:64409-1739318400-1739491199@ouispeakfashion.com
SUMMARY:SS26 Italian yarn collections in New York
DESCRIPTION:The SS26 Italian Yarn Collections in New York will take place over two days\, on February 12 and 13\, at Hudson Yards in New York.
URL:https://ouispeakfashion.com/event/ss26-italian-yarn-collections-ny/
LOCATION:Hudson Yards\, 450 West 31st Street\, 7th floor\,\, New York\, NY\, United States
CATEGORIES:Sourcing Tradeshow
ATTACH;FMTTYPE=image/png:https://ouispeakfashion.com/wp-content/uploads/2025/02/Italian-Yarn-Collection-in-New-York.png
END:VEVENT
BEGIN:VEVENT
DTSTART;VALUE=DATE:20250218
DTEND;VALUE=DATE:20250220
DTSTAMP:20260419T193440
CREATED:20250202T221607Z
LAST-MODIFIED:20250202T221823Z
UID:64414-1739836800-1740009599@ouispeakfashion.com
SUMMARY:SS26 Italian yarn collections in London
DESCRIPTION:The SS26 Italian Yarn Collections in London will take place over two days\, on February 18 and 19\, at the Queen Elizabeth II Centre in London.
URL:https://ouispeakfashion.com/event/ss26-italian-yarn-collections-in-london/
LOCATION:Queen Elizabeth II Centre\, Broad Sanctuary\,\, London\, SW1P 3EE\, United Kingdom
CATEGORIES:Sourcing Tradeshow
ATTACH;FMTTYPE=image/png:https://ouispeakfashion.com/wp-content/uploads/2025/02/SS26-Italian-yarn-collections-in-London.png
END:VEVENT
BEGIN:VEVENT
DTSTART;VALUE=DATE:20250218
DTEND;VALUE=DATE:20250221
DTSTAMP:20260419T193440
CREATED:20250202T225027Z
LAST-MODIFIED:20250202T225027Z
UID:64422-1739836800-1740095999@ouispeakfashion.com
SUMMARY:COTERIE New York
DESCRIPTION:The Coterie New York event scheduled for February 18-20\, 2025\, will be held at the Javits Center in New York City. This three-day event will feature the latest Fall/Winter collections for buyers. \nAbout Coterie New York\nCoterie New York is a premier fashion trade show that connects high-end and contemporary brands with global buyers\, influencers\, and industry professionals. It is held biannually in New York City\, typically in February (Fall/Winter collections) and September (Spring/Summer collections). \nKey Features of Coterie New York:\n\nLuxury and Contemporary Focus: Showcases women’s apparel\, accessories\, and footwear from established designers and emerging brands.\nBuyer Attendance: Attracts key buyers from department stores\, boutiques\, and online retailers worldwide.\nNetworking Opportunities: Provides a platform for brand exposure\, business partnerships\, and industry insights.\nTrend Forecasting: Features expert panels\, styling sessions\, and discussions on upcoming fashion trends.\nPart of Informa Markets: Organized by Informa Markets Fashion\, which also hosts MAGIC and PROJECT trade shows.\n\nThe event is a must-attend for brands looking to expand into the U.S. market\, as it offers access to a highly curated audience of fashion professionals.
URL:https://ouispeakfashion.com/event/coterie-new-york-fw25/
LOCATION:Jacob Javits Convention Center\, 429 11th Ave\, New York\, 10001\, United States
CATEGORIES:Fashion Tradeshow
ATTACH;FMTTYPE=image/png:https://ouispeakfashion.com/wp-content/uploads/2025/02/OSF-Main.png
END:VEVENT
BEGIN:VEVENT
DTSTART;VALUE=DATE:20250218
DTEND;VALUE=DATE:20250221
DTSTAMP:20260419T193440
CREATED:20250203T011329Z
LAST-MODIFIED:20250203T011329Z
UID:64425-1739836800-1740095999@ouispeakfashion.com
SUMMARY:MAGIC New York
DESCRIPTION:The MAGIC New York event scheduled for February 18-20\, 2025\, will be held at the Javits Center in New York City. This three-day event will feature the latest Fall/Winter collections for buyers. \nABout MAGIC New York\nMAGIC New York is a premier fashion trade show that connects brands\, buyers\, press\, influencers\, and industry experts in the U.S. fashion capital. The event is held biannually\, typically in February and September\, at the Jacob K. Javits Convention Center in New York City. \nKey Features of MAGIC New York:\n\nComprehensive Fashion Categories: The event showcases a wide range of women’s apparel\, accessories\, and footwear\, including trend-driven\, young contemporary\, and modern sportswear collections.\nNetworking Opportunities: MAGIC New York serves as a hub for industry professionals\, offering opportunities to connect with retail buyers—from big-box retailers to boutiques—and other key stakeholders in the fashion industry.\nEducational Sessions: Attendees can participate in seminars and panel discussions that provide insights into the latest fashion trends\, market strategies\, and industry innovations.\nCommunity Engagement: The event fosters a vibrant community atmosphere\, encouraging collaboration and creativity among participants.
URL:https://ouispeakfashion.com/event/magic-new-york-fw25/
LOCATION:Jacob Javits Convention Center\, 429 11th Ave\, New York\, 10001\, United States
CATEGORIES:Fashion Tradeshow
ATTACH;FMTTYPE=image/png:https://ouispeakfashion.com/wp-content/uploads/2025/02/Screenshot-2025-02-02-at-5.53.29 PM.png
END:VEVENT
BEGIN:VEVENT
DTSTART;VALUE=DATE:20250220
DTEND;VALUE=DATE:20250225
DTSTAMP:20260419T193440
CREATED:20241014T191924Z
LAST-MODIFIED:20241217T214023Z
UID:44289-1740009600-1740441599@ouispeakfashion.com
SUMMARY:London Fashion Week Fall/Winter 2025
DESCRIPTION:London Fashion Week Fall/Winter 2025 will be held over five days from February 20 to February 24\, 2025. \nLondon Fashion Week (LFW) is one of the “Big Four” global fashion events\, alongside New York\, Paris\, and Milan\, where various brands showcase their latest collections through runway shows\, presentations\, and digital formats. Held every February and September\, LFW features iconic fashion houses like Burberry\, Vivienne Westwood\, and Alexander McQueen\, as well as emerging designers. It is renowned for its diversity\, creativity\, and innovation. \nThe Official Schedule and Participating Brands for London Fashion Week Fall/Winter 2025 are available here. \n 
URL:https://ouispeakfashion.com/event/london-fashion-week-fall-winter-2025/
CATEGORIES:Fashion Week
ATTACH;FMTTYPE=image/png:https://ouispeakfashion.com/wp-content/uploads/2024/10/OSF-Main-5-5.png
END:VEVENT
BEGIN:VEVENT
DTSTART;VALUE=DATE:20250225
DTEND;VALUE=DATE:20250304
DTSTAMP:20260419T193440
CREATED:20241212T170126Z
LAST-MODIFIED:20250223T161435Z
UID:54127-1740441600-1741046399@ouispeakfashion.com
SUMMARY:Milan Fashion Week Fall/Winter 2025
DESCRIPTION:Milan Fashion Week Fall/Winter 2025 will take place over seven days\, from Tuesday\, February 25\, 2025\, to Monday\, March 3\, 2025. Various brands and designers will unveil their “Fall/Winter 2025 Collections” during this period through runway shows\, presentations\, and digital formats. \nMilan Fashion Week (MFW) is recognized as one of the “Big Four\,” alongside New York\, Paris\, and London\, and is one of the world’s most highly anticipated fashion events. Held every February and September\, it showcases the latest collections for the upcoming seasons. Organized by the Camera Nazionale della Moda Italiana (The National Chamber of Italian Fashion)\, the event features prestigious brands such as Fendi\, Prada\, and Gucci\, along with emerging designers who bring fresh perspectives and innovation to the fashion world. \nCheck Milan Fashion Week Fall/Winter 2025 Official Schedule and Participating Brands
URL:https://ouispeakfashion.com/event/milan-fashion-week-fall-winter-2025/
CATEGORIES:Fashion Week
ATTACH;FMTTYPE=image/png:https://ouispeakfashion.com/wp-content/uploads/2025/02/OSF-Main-12.png
END:VEVENT
BEGIN:VEVENT
DTSTART;VALUE=DATE:20250226
DTEND;VALUE=DATE:20250301
DTSTAMP:20260419T193440
CREATED:20240822T040622Z
LAST-MODIFIED:20240822T040622Z
UID:35378-1740528000-1740787199@ouispeakfashion.com
SUMMARY:Vietnam International Trade Fair for Apparel\, Textiles and Textile Technologies (VIATT)
DESCRIPTION:Vietnam International Trade Fair for Apparel\, Textiles\, and Textile Technologies (VIATT) is ASEAN’S comprehensive platform for the entire textile value chain\, bringing together suppliers of apparel fabrics\, yarns & fibers\, and garments; home textiles; as well as technical textiles\, textile processing\, and printing solutions. \nThe debut edition in 2024 welcomed 409 exhibitors from 17 countries and regions and 17\,262 visits.
URL:https://ouispeakfashion.com/event/vietnam-international-trade-fair-2025/
LOCATION:Saigon Exhibition and Convention Center (SECC)\, Ho Chi Minh City\, Vietnam
CATEGORIES:Trade Show
ATTACH;FMTTYPE=image/png:https://ouispeakfashion.com/wp-content/uploads/2024/08/2.png
ORGANIZER;CN="Messe Frankfurt (HK) Ltd":MAILTO:textile@hongkong.messefrankfurt.com
END:VEVENT
END:VCALENDAR