BEGIN:VCALENDAR
VERSION:2.0
PRODID:-//Oui Speak Fashion (OSF)® - ECPv6.15.20//NONSGML v1.0//EN
CALSCALE:GREGORIAN
METHOD:PUBLISH
X-WR-CALNAME:Oui Speak Fashion (OSF)®
X-ORIGINAL-URL:https://ouispeakfashion.com
X-WR-CALDESC:Events for Oui Speak Fashion (OSF)®
REFRESH-INTERVAL;VALUE=DURATION:PT1H
X-Robots-Tag:noindex
X-PUBLISHED-TTL:PT1H
BEGIN:VTIMEZONE
TZID:America/Halifax
BEGIN:DAYLIGHT
TZOFFSETFROM:-0400
TZOFFSETTO:-0300
TZNAME:ADT
DTSTART:20240310T060000
END:DAYLIGHT
BEGIN:STANDARD
TZOFFSETFROM:-0300
TZOFFSETTO:-0400
TZNAME:AST
DTSTART:20241103T050000
END:STANDARD
BEGIN:DAYLIGHT
TZOFFSETFROM:-0400
TZOFFSETTO:-0300
TZNAME:ADT
DTSTART:20250309T060000
END:DAYLIGHT
BEGIN:STANDARD
TZOFFSETFROM:-0300
TZOFFSETTO:-0400
TZNAME:AST
DTSTART:20251102T050000
END:STANDARD
BEGIN:DAYLIGHT
TZOFFSETFROM:-0400
TZOFFSETTO:-0300
TZNAME:ADT
DTSTART:20260308T060000
END:DAYLIGHT
BEGIN:STANDARD
TZOFFSETFROM:-0300
TZOFFSETTO:-0400
TZNAME:AST
DTSTART:20261101T050000
END:STANDARD
END:VTIMEZONE
BEGIN:VEVENT
DTSTART;VALUE=DATE:20250505
DTEND;VALUE=DATE:20250506
DTSTAMP:20260419T141123
CREATED:20250310T052219Z
LAST-MODIFIED:20250312T144128Z
UID:75117-1746403200-1746489599@ouispeakfashion.com
SUMMARY:2025 Met Gala
DESCRIPTION:The 2025 Met Gala will be held on May 5\, 2025\, at the Metropolitan Museum of Art in New York City\, marking the opening of The Costume Institute’s annual exhibition. \nThis year’s theme is “Superfine: Tailoring Black Style\,” which explores the rich history and cultural significance of Black dandyism\, drawing inspiration from Monica L. Miller’s book\, Slaves to Fashion: Black Dandyism and the Styling of Black Diasporic Identity. \nFor more details: The Theme of the 2025 Met Gala is Superfine: Tailoring Black Style
URL:https://ouispeakfashion.com/event/2025-met-gala/
LOCATION:The Metropolitan Museum of Art\, New York\, United States
CATEGORIES:Fashion Show
ATTACH;FMTTYPE=image/png:https://ouispeakfashion.com/wp-content/uploads/2025/03/2-6.png
END:VEVENT
BEGIN:VEVENT
DTSTART;VALUE=DATE:20250507
DTEND;VALUE=DATE:20250509
DTSTAMP:20260419T141123
CREATED:20250318T150529Z
LAST-MODIFIED:20250318T150646Z
UID:76412-1746576000-1746748799@ouispeakfashion.com
SUMMARY:LUXE PACK New York in May 2025
DESCRIPTION:The most anticipated annual B2B trade show\, where luxury brands from every sector—cosmetics\, fragrance\, wine & spirits\, gourmet food\, beverages\, home goods\, technology\, and beyond—converge. \nDiscover and engage with innovative primary and secondary packaging suppliers\, materials\, and products. Elevate your business through powerful partnerships. Be part of the most vibrant and expansive East Coast event to date. Celebrating over two decades of excellence\, we proudly continue to unite the industry\, adapting to the ever-evolving market and building connections that drive your brand and retail triumphs. \nRegister now and get your show badge using the link below!\nREQUEST YOUR BADGE
URL:https://ouispeakfashion.com/event/luxe-pack-new-york-may-2025/
LOCATION:Jacob Javits Convention Center\, 429 11th Ave\, New York\, 10001\, United States
CATEGORIES:Sourcing Tradeshow
ATTACH;FMTTYPE=image/png:https://ouispeakfashion.com/wp-content/uploads/2025/03/LUXE-PACK-NEW-YORK.png
ORGANIZER;CN="LUXE PACK":MAILTO:lvillalobos@infopro-digital.com
END:VEVENT
BEGIN:VEVENT
DTSTART;VALUE=DATE:20250514
DTEND;VALUE=DATE:20250517
DTSTAMP:20260419T141123
CREATED:20250419T191109Z
LAST-MODIFIED:20250419T192849Z
UID:81074-1747180800-1747439999@ouispeakfashion.com
SUMMARY:Tokyo Textile Scope 2026 Spring/Summer
DESCRIPTION:The Japan Fashion Week Organization (JFW) will launch a brand-new comprehensive textile trade show\, Tokyo Textile Scope (TTS) 2026 Spring/Summer\, from May 14 to 16\, 2025\, at the Tokyo Metropolitan Industrial Trade Center Hamamatsucho-kan. \nThis inaugural event goes beyond the conventional framework of textile exhibitions\, serving as a next-generation platform for innovation and connection\, bridging creativity and technology\, local production region\,s and the global market. A total of 83 exhibitors will showcase their latest materials across four full floors (2F to 5F)\, presenting the diversity and craftsmanship of Japanese textiles to both domestic and international buyers and designers.
URL:https://ouispeakfashion.com/event/tokyo-textile-scope-2026-spring-summer/
LOCATION:Tokyo Metropolitan Industrial Trade Center Hamamatsucho-kan\, 1-7-1\,Kaigan\, Tokyo\, Minato-ku\, 105-7501\, Japan
CATEGORIES:Sourcing Tradeshow
ATTACH;FMTTYPE=image/png:https://ouispeakfashion.com/wp-content/uploads/2025/04/OSF-Main-4-2.png
END:VEVENT
BEGIN:VEVENT
DTSTART;VALUE=DATE:20250515
DTEND;VALUE=DATE:20250516
DTSTAMP:20260419T141123
CREATED:20250504T042637Z
LAST-MODIFIED:20250504T043528Z
UID:87137-1747267200-1747353599@ouispeakfashion.com
SUMMARY:Gucci 2026 Cruise Show
DESCRIPTION:Gucci will present its Cruise 2026 collection with a fashion show in Florence\, Italy\, on May 15\, 2025. Titled “Gucci Firenze\,” the event pays tribute to the city where the brand was founded in 1921\, offering a special evening that connects history with creativity. \nFounder Guccio Gucci was inspired by his experience working at London’s iconic Savoy Hotel\, and upon returning to Italy\, he opened a leather goods store and atelier in his hometown of Florence. Following this heritage\, the brand held its previous Cruise show in London. The journey continues in Florence—Gucci’s place of origin—as the house deepens its dialogue between past and future.
URL:https://ouispeakfashion.com/event/gucci-2026-cruise-show/
LOCATION:Florence\, Italy
CATEGORIES:Fashion Show
ATTACH;FMTTYPE=image/jpeg:https://ouispeakfashion.com/wp-content/uploads/2025/05/OSF-Main-4.jpg
END:VEVENT
BEGIN:VEVENT
DTSTART;VALUE=DATE:20250522
DTEND;VALUE=DATE:20250523
DTSTAMP:20260419T141123
CREATED:20250419T175150Z
LAST-MODIFIED:20251130T011333Z
UID:81070-1747872000-1747958399@ouispeakfashion.com
SUMMARY:Louis Vuitton Cruise 2026 Show
DESCRIPTION:Louis Vuitton will present its Cruise 2026 collection on Thursday\, May 22\, 2025\, in Avignon\, France. The chosen venue is the Palais des Papes\, a 14th-century Gothic architectural landmark and UNESCO World Heritage site. This will mark the first time a fashion show has ever been held at this historic location. \nThe latest collection\, designed by women’s artistic director Nicolas Ghesquière\, is expected to offer a unique presentation that blends contemporary fashion with the grandeur of a historical setting. \nFor more details\, click here.
URL:https://ouispeakfashion.com/event/louis-vuitton-2026-cruise-show/
LOCATION:Palais des Papes\, Pl. du Palais\, Avignon\, 84000\, France
CATEGORIES:Fashion Show
ATTACH;FMTTYPE=image/png:https://ouispeakfashion.com/wp-content/uploads/2025/04/OSF-Main-3-5.png
END:VEVENT
BEGIN:VEVENT
DTSTART;VALUE=DATE:20250527
DTEND;VALUE=DATE:20250528
DTSTAMP:20260419T141123
CREATED:20250504T044457Z
LAST-MODIFIED:20251130T011231Z
UID:87149-1748304000-1748390399@ouispeakfashion.com
SUMMARY:Dior Cruise 2026 Show
DESCRIPTION:On May 27\, 2025\, Maria Grazia Chiuri will present Dior’s Cruise 2026 collection in her hometown of Rome\, following past shows in Athens\, Seville\, Mexico City\, and Edinburgh. \nThis choice of location continues to highlight the enduring cultural connection between Italy and the House of Dior—a bond that has remained strong since the maison’s founding and continues to evolve with each season.
URL:https://ouispeakfashion.com/event/dior-2026-cruise-show/
LOCATION:Rome\, Italy
CATEGORIES:Fashion Show
ATTACH;FMTTYPE=image/jpeg:https://ouispeakfashion.com/wp-content/uploads/2025/05/OSF-Main-5.jpg
END:VEVENT
END:VCALENDAR