BEGIN:VCALENDAR
VERSION:2.0
PRODID:-//Oui Speak Fashion (OSF)® - ECPv6.15.20//NONSGML v1.0//EN
CALSCALE:GREGORIAN
METHOD:PUBLISH
X-WR-CALNAME:Oui Speak Fashion (OSF)®
X-ORIGINAL-URL:https://ouispeakfashion.com
X-WR-CALDESC:Events for Oui Speak Fashion (OSF)®
REFRESH-INTERVAL;VALUE=DURATION:PT1H
X-Robots-Tag:noindex
X-PUBLISHED-TTL:PT1H
BEGIN:VTIMEZONE
TZID:America/Halifax
BEGIN:DAYLIGHT
TZOFFSETFROM:-0400
TZOFFSETTO:-0300
TZNAME:ADT
DTSTART:20250309T060000
END:DAYLIGHT
BEGIN:STANDARD
TZOFFSETFROM:-0300
TZOFFSETTO:-0400
TZNAME:AST
DTSTART:20251102T050000
END:STANDARD
BEGIN:DAYLIGHT
TZOFFSETFROM:-0400
TZOFFSETTO:-0300
TZNAME:ADT
DTSTART:20260308T060000
END:DAYLIGHT
BEGIN:STANDARD
TZOFFSETFROM:-0300
TZOFFSETTO:-0400
TZNAME:AST
DTSTART:20261101T050000
END:STANDARD
BEGIN:DAYLIGHT
TZOFFSETFROM:-0400
TZOFFSETTO:-0300
TZNAME:ADT
DTSTART:20270314T060000
END:DAYLIGHT
BEGIN:STANDARD
TZOFFSETFROM:-0300
TZOFFSETTO:-0400
TZNAME:AST
DTSTART:20271107T050000
END:STANDARD
END:VTIMEZONE
BEGIN:VEVENT
DTSTART;VALUE=DATE:20260106
DTEND;VALUE=DATE:20260110
DTSTAMP:20260419T224415
CREATED:20251206T003630Z
LAST-MODIFIED:20251206T005144Z
UID:107578-1767657600-1768003199@ouispeakfashion.com
SUMMARY:CES 2026  (Consumer Electronics Show)
DESCRIPTION:CES (Consumer Electronics Show) is one of the world’s largest technology trade fairs\, bringing together the latest innovations in consumer electronics\, digital devices\, AI\, robotics\, mobility\, and more. Since its launch in New York in 1967\, the event has grown into a global stage where thousands of companies—from major international corporations to emerging startups—participate each year\, attracting over 200\,000 attendees. Today\, it stands as one of the most influential showcases shaping the global technology industry. \nAs a hub for cutting-edge innovation\, CES serves as an essential platform for brand announcements\, product launches\, industry networking\, and media engagement\, connecting companies\, creators\, investors\, and journalists from around the world. \nThe 2026 edition of CES will once again take place at the Las Vegas Convention Center\, with continued expansion expected across key sectors including AI\, next-generation mobility\, health tech\, smart home technologies\, XR (AR/VR)\, and robotics.
URL:https://ouispeakfashion.com/event/ces-2026/
LOCATION:Las Vegas Convention Center\, 3150 Paradise Rd\, Las Vegas\, NV\, 89109\, United States
CATEGORIES:Trade Show
ATTACH;FMTTYPE=image/jpeg:https://ouispeakfashion.com/wp-content/uploads/2025/12/CTA_CES_2025_Opening_Day_Keynote-scaled.jpg
END:VEVENT
END:VCALENDAR