BEGIN:VCALENDAR
VERSION:2.0
PRODID:-//Oui Speak Fashion (OSF)® - ECPv6.15.20//NONSGML v1.0//EN
CALSCALE:GREGORIAN
METHOD:PUBLISH
X-ORIGINAL-URL:https://ouispeakfashion.com
X-WR-CALDESC:Events for Oui Speak Fashion (OSF)®
REFRESH-INTERVAL;VALUE=DURATION:PT1H
X-Robots-Tag:noindex
X-PUBLISHED-TTL:PT1H
BEGIN:VTIMEZONE
TZID:America/Halifax
BEGIN:DAYLIGHT
TZOFFSETFROM:-0400
TZOFFSETTO:-0300
TZNAME:ADT
DTSTART:20240310T060000
END:DAYLIGHT
BEGIN:STANDARD
TZOFFSETFROM:-0300
TZOFFSETTO:-0400
TZNAME:AST
DTSTART:20241103T050000
END:STANDARD
BEGIN:DAYLIGHT
TZOFFSETFROM:-0400
TZOFFSETTO:-0300
TZNAME:ADT
DTSTART:20250309T060000
END:DAYLIGHT
BEGIN:STANDARD
TZOFFSETFROM:-0300
TZOFFSETTO:-0400
TZNAME:AST
DTSTART:20251102T050000
END:STANDARD
BEGIN:DAYLIGHT
TZOFFSETFROM:-0400
TZOFFSETTO:-0300
TZNAME:ADT
DTSTART:20260308T060000
END:DAYLIGHT
BEGIN:STANDARD
TZOFFSETFROM:-0300
TZOFFSETTO:-0400
TZNAME:AST
DTSTART:20261101T050000
END:STANDARD
END:VTIMEZONE
BEGIN:VEVENT
DTSTART;VALUE=DATE:20250415
DTEND;VALUE=DATE:20250416
DTSTAMP:20260422T153238
CREATED:20250227T232638Z
LAST-MODIFIED:20250227T232638Z
UID:72657-1744675200-1744761599@ouispeakfashion.com
SUMMARY:Dior 2025 Pre-Fall Show
DESCRIPTION:Dior will present its 2025 Pre-Fall Collection on Tuesday\, April 15\, 2025\, in Kyoto\, Japan. \nThe show will take place at To-ji Temple and its gardens\, a historic site recognized as a UNESCO World Heritage. \nFor more details\, click here.
URL:https://ouispeakfashion.com/event/dior-2025-pre-fall-show/
LOCATION:To-ji Temple\, Kyoto\, Japan
CATEGORIES:Fashion Show
ATTACH;FMTTYPE=image/png:https://ouispeakfashion.com/wp-content/uploads/2025/02/Dior-1755x900-1.png
END:VEVENT
END:VCALENDAR