BEGIN:VCALENDAR
VERSION:2.0
PRODID:-//Oui Speak Fashion (OSF)® - ECPv6.15.20//NONSGML v1.0//EN
CALSCALE:GREGORIAN
METHOD:PUBLISH
X-WR-CALNAME:Oui Speak Fashion (OSF)®
X-ORIGINAL-URL:https://ouispeakfashion.com
X-WR-CALDESC:Events for Oui Speak Fashion (OSF)®
REFRESH-INTERVAL;VALUE=DURATION:PT1H
X-Robots-Tag:noindex
X-PUBLISHED-TTL:PT1H
BEGIN:VTIMEZONE
TZID:America/Halifax
BEGIN:DAYLIGHT
TZOFFSETFROM:-0400
TZOFFSETTO:-0300
TZNAME:ADT
DTSTART:20240310T060000
END:DAYLIGHT
BEGIN:STANDARD
TZOFFSETFROM:-0300
TZOFFSETTO:-0400
TZNAME:AST
DTSTART:20241103T050000
END:STANDARD
BEGIN:DAYLIGHT
TZOFFSETFROM:-0400
TZOFFSETTO:-0300
TZNAME:ADT
DTSTART:20250309T060000
END:DAYLIGHT
BEGIN:STANDARD
TZOFFSETFROM:-0300
TZOFFSETTO:-0400
TZNAME:AST
DTSTART:20251102T050000
END:STANDARD
BEGIN:DAYLIGHT
TZOFFSETFROM:-0400
TZOFFSETTO:-0300
TZNAME:ADT
DTSTART:20260308T060000
END:DAYLIGHT
BEGIN:STANDARD
TZOFFSETFROM:-0300
TZOFFSETTO:-0400
TZNAME:AST
DTSTART:20261101T050000
END:STANDARD
END:VTIMEZONE
BEGIN:VEVENT
DTSTART;VALUE=DATE:20250701
DTEND;VALUE=DATE:20250703
DTSTAMP:20260421T002211
CREATED:20250406T214710Z
LAST-MODIFIED:20250406T225210Z
UID:78185-1751328000-1751500799@ouispeakfashion.com
SUMMARY:Edition Spéciale by LUXE PACK 2025
DESCRIPTION:Edition Spéciale by LUXE PACK 2025 is a trade show dedicated to sustainable packaging and the circular economy. Focused on eco-friendly packaging solutions for luxury brands\, the event serves as a key platform to discover the latest innovations in sustainability\, materials\, and design. \nDates: Tuesday\, July 1 – Wednesday\, July 2\, 2025Venue: Carrousel du Louvre\, Paris\, France \nRegister now and get your show badge using the link below!\nREQUEST YOUR BADGE
URL:https://ouispeakfashion.com/event/edition-speciale-by-luxe-pack-2025/
LOCATION:Carrousel du Louvre\, 99 rue de Rivoli\, Paris\, 75001\, France
CATEGORIES:Sourcing Tradeshow
ATTACH;FMTTYPE=image/png:https://ouispeakfashion.com/wp-content/uploads/2025/04/Edition-Speciale-by-LUXE-PACK-.png
END:VEVENT
END:VCALENDAR