BEGIN:VCALENDAR
VERSION:2.0
PRODID:-//Oui Speak Fashion (OSF)® - ECPv6.15.20//NONSGML v1.0//EN
CALSCALE:GREGORIAN
METHOD:PUBLISH
X-WR-CALNAME:Oui Speak Fashion (OSF)®
X-ORIGINAL-URL:https://ouispeakfashion.com
X-WR-CALDESC:Events for Oui Speak Fashion (OSF)®
REFRESH-INTERVAL;VALUE=DURATION:PT1H
X-Robots-Tag:noindex
X-PUBLISHED-TTL:PT1H
BEGIN:VTIMEZONE
TZID:America/Halifax
BEGIN:DAYLIGHT
TZOFFSETFROM:-0400
TZOFFSETTO:-0300
TZNAME:ADT
DTSTART:20230312T060000
END:DAYLIGHT
BEGIN:STANDARD
TZOFFSETFROM:-0300
TZOFFSETTO:-0400
TZNAME:AST
DTSTART:20231105T050000
END:STANDARD
BEGIN:DAYLIGHT
TZOFFSETFROM:-0400
TZOFFSETTO:-0300
TZNAME:ADT
DTSTART:20240310T060000
END:DAYLIGHT
BEGIN:STANDARD
TZOFFSETFROM:-0300
TZOFFSETTO:-0400
TZNAME:AST
DTSTART:20241103T050000
END:STANDARD
BEGIN:DAYLIGHT
TZOFFSETFROM:-0400
TZOFFSETTO:-0300
TZNAME:ADT
DTSTART:20250309T060000
END:DAYLIGHT
BEGIN:STANDARD
TZOFFSETFROM:-0300
TZOFFSETTO:-0400
TZNAME:AST
DTSTART:20251102T050000
END:STANDARD
END:VTIMEZONE
BEGIN:VEVENT
DTSTART;VALUE=DATE:20241015
DTEND;VALUE=DATE:20241018
DTSTAMP:20260422T031200
CREATED:20241015T195646Z
LAST-MODIFIED:20241015T195920Z
UID:44363-1728950400-1729209599@ouispeakfashion.com
SUMMARY:FaW TOKYO -FASHION WORLD TOKYO Fall 2024
DESCRIPTION:Fashion World Tokyo Autumn (FaW TOKYO 2024 Autumn) is one of Japan’s largest trade shows for the fashion industry\, serving as a global business platform for a wide range of fashion-related products and services\, including fashion brands\, accessories\, textiles\, OEM/ODM\, and fashion tech. The 2024 autumn edition will take place over three days from October 15 to October 17\, 2024. \nThe event is held in Tokyo every spring and autumn\, attracting buyers\, suppliers\, designers\, and industry professionals from around the world.
URL:https://ouispeakfashion.com/event/faw-tokyo-fall-2024/
CATEGORIES:Fashion Tradeshow
ATTACH;FMTTYPE=image/png:https://ouispeakfashion.com/wp-content/uploads/2024/10/OSF-Main-8-5.png
END:VEVENT
END:VCALENDAR