BEGIN:VCALENDAR
VERSION:2.0
PRODID:-//Oui Speak Fashion (OSF)® - ECPv6.15.20//NONSGML v1.0//EN
CALSCALE:GREGORIAN
METHOD:PUBLISH
X-ORIGINAL-URL:https://ouispeakfashion.com
X-WR-CALDESC:Events for Oui Speak Fashion (OSF)®
REFRESH-INTERVAL;VALUE=DURATION:PT1H
X-Robots-Tag:noindex
X-PUBLISHED-TTL:PT1H
BEGIN:VTIMEZONE
TZID:America/Halifax
BEGIN:DAYLIGHT
TZOFFSETFROM:-0400
TZOFFSETTO:-0300
TZNAME:ADT
DTSTART:20250309T060000
END:DAYLIGHT
BEGIN:STANDARD
TZOFFSETFROM:-0300
TZOFFSETTO:-0400
TZNAME:AST
DTSTART:20251102T050000
END:STANDARD
BEGIN:DAYLIGHT
TZOFFSETFROM:-0400
TZOFFSETTO:-0300
TZNAME:ADT
DTSTART:20260308T060000
END:DAYLIGHT
BEGIN:STANDARD
TZOFFSETFROM:-0300
TZOFFSETTO:-0400
TZNAME:AST
DTSTART:20261101T050000
END:STANDARD
BEGIN:DAYLIGHT
TZOFFSETFROM:-0400
TZOFFSETTO:-0300
TZNAME:ADT
DTSTART:20270314T060000
END:DAYLIGHT
BEGIN:STANDARD
TZOFFSETFROM:-0300
TZOFFSETTO:-0400
TZNAME:AST
DTSTART:20271107T050000
END:STANDARD
END:VTIMEZONE
BEGIN:VEVENT
DTSTART;VALUE=DATE:20260311
DTEND;VALUE=DATE:20260314
DTSTAMP:20260419T130528
CREATED:20250713T173445Z
LAST-MODIFIED:20250713T173445Z
UID:99376-1773187200-1773446399@ouispeakfashion.com
SUMMARY:Intertextile Shanghai Apparel Fabrics – Spring Edition 2026
DESCRIPTION:Intertextile Shanghai Apparel Fabrics – Spring Edition (ITSAS26) will take place over three days\, from Wednesday\, March 11 to Friday\, March 13\, 2026\, at the National Exhibition and Convention Center in Shanghai. \nRecognized as one of the world’s largest and most comprehensive trade fairs dedicated to apparel textiles\, this international event brings together textile manufacturers\, apparel brands\, buyers\, and industry professionals from around the globe. For businesses aiming to enter the Chinese market or establish new partnerships\, ITSA26 offers an exceptional opportunity for growth and exposure. \nThe product categories showcased span a wide range—from natural fibers such as cotton\, wool\, silk\, linen\, and ramie to man-made fibers\, functional and performance fabrics\, printed textiles\, lingerie and swimwear fabrics\, embroidery and lace\, yarns\, accessories\, textile-related CAD/CAM/CIM technologies\, styling solutions\, and industry publications. \nIn addition\, the show provides rich opportunities to gain insights into upcoming seasonal trends and market developments through dedicated seminars and showcases. With abundant chances for international networking\, ITSA26 serves as a high-value platform for brands and buyers looking to add a competitive edge to their business. \nTo apply for your visitor badge\, please fill out the form here.
URL:https://ouispeakfashion.com/event/intertextile-shanghai-apparel-fabrics-spring-edition-2026/
LOCATION:National Exhibition and Convention Center (Shanghai)\, Shanghai\, China
CATEGORIES:Sourcing Tradeshow
ATTACH;FMTTYPE=image/png:https://ouispeakfashion.com/wp-content/uploads/2025/07/Intertextile-Shanghai-Apparel-Fabrics-–-Spring-Edition.png
ORGANIZER;CN="Messe Frankfurt (HK) Ltd":MAILTO:textile@hongkong.messefrankfurt.com
END:VEVENT
END:VCALENDAR