BEGIN:VCALENDAR
VERSION:2.0
PRODID:-//Oui Speak Fashion (OSF)® - ECPv6.15.20//NONSGML v1.0//EN
CALSCALE:GREGORIAN
METHOD:PUBLISH
X-WR-CALNAME:Oui Speak Fashion (OSF)®
X-ORIGINAL-URL:https://ouispeakfashion.com
X-WR-CALDESC:Events for Oui Speak Fashion (OSF)®
REFRESH-INTERVAL;VALUE=DURATION:PT1H
X-Robots-Tag:noindex
X-PUBLISHED-TTL:PT1H
BEGIN:VTIMEZONE
TZID:America/Halifax
BEGIN:DAYLIGHT
TZOFFSETFROM:-0400
TZOFFSETTO:-0300
TZNAME:ADT
DTSTART:20230312T060000
END:DAYLIGHT
BEGIN:STANDARD
TZOFFSETFROM:-0300
TZOFFSETTO:-0400
TZNAME:AST
DTSTART:20231105T050000
END:STANDARD
BEGIN:DAYLIGHT
TZOFFSETFROM:-0400
TZOFFSETTO:-0300
TZNAME:ADT
DTSTART:20240310T060000
END:DAYLIGHT
BEGIN:STANDARD
TZOFFSETFROM:-0300
TZOFFSETTO:-0400
TZNAME:AST
DTSTART:20241103T050000
END:STANDARD
BEGIN:DAYLIGHT
TZOFFSETFROM:-0400
TZOFFSETTO:-0300
TZNAME:ADT
DTSTART:20250309T060000
END:DAYLIGHT
BEGIN:STANDARD
TZOFFSETFROM:-0300
TZOFFSETTO:-0400
TZNAME:AST
DTSTART:20251102T050000
END:STANDARD
END:VTIMEZONE
BEGIN:VEVENT
DTSTART;VALUE=DATE:20241023
DTEND;VALUE=DATE:20241025
DTSTAMP:20260422T035727
CREATED:20241015T190059Z
LAST-MODIFIED:20241015T190216Z
UID:44348-1729641600-1729814399@ouispeakfashion.com
SUMMARY:KINGPINS AMSTERDAM\, October 2024
DESCRIPTION:Kingpins Amsterdam is a denim trade show held twice a year in Amsterdam\, Netherlands\, and this season it will take place from October 23 to October 24 at the SugarFactory. The show focuses on the entire denim supply chain\, bringing together fabric suppliers\, manufacturers\, chemical companies\, and denim mills. \nKey features of Kingpins Amsterdam are as follows: \nShowcasing Innovative Denim: The exhibition highlights cutting-edge denim technologies that focus on sustainable and eco-friendly practices. Brands and suppliers present the latest fabric technologies\, sustainable dyeing processes\, and environmentally-conscious manufacturing techniques. \nExhibitors: Leading industry players such as denim mills\, chemical suppliers\, garment manufacturers\, and technology providers gather at this event\, offering attendees the opportunity to explore a wide range of denim-related products and services. \nEmphasis on Sustainability: The show places a strong emphasis on sustainability\, showcasing innovations that reduce environmental impact\, including water-saving technologies\, eco-friendly fibers\, and circular fashion initiatives. \nNetworking and Collaboration: Kingpins Amsterdam serves as a networking hub where buyers\, designers\, and industry professionals come together to exchange ideas\, build partnerships\, and discuss trends. The intimate setting fosters deep conversations and collaboration opportunities. \nEducational Programs: The event also features seminars\, workshops\, and panel discussions where industry leaders share insights on market trends\, innovations\, and sustainability strategies. These programs provide learning and inspiration for participants.
URL:https://ouispeakfashion.com/event/kingpins-amsterdam-2024/
LOCATION:Sugarfactory\, Kristalpromenade 7\, Halfweg\, PD\, 1165\, Netherlands
CATEGORIES:Fashion Tradeshow
ATTACH;FMTTYPE=image/png:https://ouispeakfashion.com/wp-content/uploads/2024/10/OSF-Main-5-7.png
END:VEVENT
END:VCALENDAR