BEGIN:VCALENDAR
VERSION:2.0
PRODID:-//Oui Speak Fashion (OSF)® - ECPv6.15.20//NONSGML v1.0//EN
CALSCALE:GREGORIAN
METHOD:PUBLISH
X-ORIGINAL-URL:https://ouispeakfashion.com
X-WR-CALDESC:Events for Oui Speak Fashion (OSF)®
REFRESH-INTERVAL;VALUE=DURATION:PT1H
X-Robots-Tag:noindex
X-PUBLISHED-TTL:PT1H
BEGIN:VTIMEZONE
TZID:UTC
BEGIN:STANDARD
TZOFFSETFROM:+0000
TZOFFSETTO:+0000
TZNAME:UTC
DTSTART:20230101T000000
END:STANDARD
END:VTIMEZONE
BEGIN:VEVENT
DTSTART;VALUE=DATE:20240529
DTEND;VALUE=DATE:20240606
DTSTAMP:20260419T183208
CREATED:20240501T031131Z
LAST-MODIFIED:20240530T194432Z
UID:18273-1716940800-1717631999@ouispeakfashion.com
SUMMARY:Miami Swim Week- 2024
DESCRIPTION:Miami Swim Week- 2024 will be held from May 29\, 2024\, to June 5\, 2024. \nMiami Swim Week is an annual event that showcases the latest trends in swimwear and resort wear from both established and emerging designers. It includes runway shows\, trade shows\, and parties\, serving as a platform for networking and business in the fashion industry. \nThe event attracts a diverse audience\, including buyers\, media\, and fashion enthusiasts\, and plays a significant role in shaping swimwear trends globally. For more detailed information\, you can visit their official website: Miami Swim Week.
URL:https://ouispeakfashion.com/event/miami-swim-week/
CATEGORIES:Sample Sale
ATTACH;FMTTYPE=image/png:https://ouispeakfashion.com/wp-content/uploads/2024/04/OSF-Main-11-1.png
END:VEVENT
END:VCALENDAR