BEGIN:VCALENDAR
VERSION:2.0
PRODID:-//Oui Speak Fashion (OSF)® - ECPv6.15.20//NONSGML v1.0//EN
CALSCALE:GREGORIAN
METHOD:PUBLISH
X-WR-CALNAME:Oui Speak Fashion (OSF)®
X-ORIGINAL-URL:https://ouispeakfashion.com
X-WR-CALDESC:Events for Oui Speak Fashion (OSF)®
REFRESH-INTERVAL;VALUE=DURATION:PT1H
X-Robots-Tag:noindex
X-PUBLISHED-TTL:PT1H
BEGIN:VTIMEZONE
TZID:America/Halifax
BEGIN:DAYLIGHT
TZOFFSETFROM:-0400
TZOFFSETTO:-0300
TZNAME:ADT
DTSTART:20230312T060000
END:DAYLIGHT
BEGIN:STANDARD
TZOFFSETFROM:-0300
TZOFFSETTO:-0400
TZNAME:AST
DTSTART:20231105T050000
END:STANDARD
BEGIN:DAYLIGHT
TZOFFSETFROM:-0400
TZOFFSETTO:-0300
TZNAME:ADT
DTSTART:20240310T060000
END:DAYLIGHT
BEGIN:STANDARD
TZOFFSETFROM:-0300
TZOFFSETTO:-0400
TZNAME:AST
DTSTART:20241103T050000
END:STANDARD
BEGIN:DAYLIGHT
TZOFFSETFROM:-0400
TZOFFSETTO:-0300
TZNAME:ADT
DTSTART:20250309T060000
END:DAYLIGHT
BEGIN:STANDARD
TZOFFSETFROM:-0300
TZOFFSETTO:-0400
TZNAME:AST
DTSTART:20251102T050000
END:STANDARD
END:VTIMEZONE
BEGIN:VEVENT
DTSTART;VALUE=DATE:20241120
DTEND;VALUE=DATE:20241122
DTSTAMP:20260421T233046
CREATED:20241015T194505Z
LAST-MODIFIED:20241015T194505Z
UID:44359-1732060800-1732233599@ouispeakfashion.com
SUMMARY:PERFORMANCE DAYS in Portland\, USA
DESCRIPTION:PERFORMANCE DAYS in Portland\, USA\, is a specialized trade show focusing on functional fabrics and materials for sports\, outdoor\, and active lifestyle apparel. This season\, the event will be held over two days from November 20 to 21\, 2024\, at the Oregon Convention Center. \nThe main features of PERFORMANCE DAYS in Portland are as follows: \n\nShowcase of Functional Fabrics: The event will feature the latest high-performance textiles such as moisture-wicking\, windproof\, waterproof\, and sustainable materials. Exhibitors will present cutting-edge fabrics for sports\, outdoor activities\, and athleisure markets.\nSustainability: Sustainability is a major focus of PERFORMANCE DAYS\, with many exhibitors showcasing eco-friendly materials and technologies. Recycled fabrics\, biodegradable options\, and manufacturing processes that reduce environmental impact will be on display.\nInnovative Technologies: The trade show highlights advancements in textile technology\, such as smart fabrics\, breathable materials\, and thermoregulation technologies. Attendees can explore how these innovations improve performance and comfort.\nEducational Seminars and Workshops: Throughout the event\, industry leaders will hold seminars\, workshops\, and expert panel discussions\, covering topics such as fabric technology\, sustainability\, trends\, and challenges in the activewear and outdoor industries.\nNetworking Opportunities: PERFORMANCE DAYS provides a key networking platform for designers\, buyers\, product managers\, and fabric suppliers in the sportswear and outdoor industries. It offers opportunities to build new partnerships and stay informed on market trends.\nTrend Forum: The show will feature a “Trend Forum\,” where curated materials and color trends for upcoming seasons are displayed\, providing insights into future design directions in the performance apparel market.
URL:https://ouispeakfashion.com/event/2024-performance-days-in-portland/
LOCATION:Oregon Convention Center\, Portland\, OR\, United States
CATEGORIES:Sourcing Tradeshow
ATTACH;FMTTYPE=image/png:https://ouispeakfashion.com/wp-content/uploads/2024/10/パフォーマンス-デイズ.png
END:VEVENT
END:VCALENDAR