BEGIN:VCALENDAR
VERSION:2.0
PRODID:-//Oui Speak Fashion (OSF)® - ECPv6.15.20//NONSGML v1.0//EN
CALSCALE:GREGORIAN
METHOD:PUBLISH
X-ORIGINAL-URL:https://ouispeakfashion.com
X-WR-CALDESC:Events for Oui Speak Fashion (OSF)®
REFRESH-INTERVAL;VALUE=DURATION:PT1H
X-Robots-Tag:noindex
X-PUBLISHED-TTL:PT1H
BEGIN:VTIMEZONE
TZID:America/Halifax
BEGIN:DAYLIGHT
TZOFFSETFROM:-0400
TZOFFSETTO:-0300
TZNAME:ADT
DTSTART:20230312T060000
END:DAYLIGHT
BEGIN:STANDARD
TZOFFSETFROM:-0300
TZOFFSETTO:-0400
TZNAME:AST
DTSTART:20231105T050000
END:STANDARD
BEGIN:DAYLIGHT
TZOFFSETFROM:-0400
TZOFFSETTO:-0300
TZNAME:ADT
DTSTART:20240310T060000
END:DAYLIGHT
BEGIN:STANDARD
TZOFFSETFROM:-0300
TZOFFSETTO:-0400
TZNAME:AST
DTSTART:20241103T050000
END:STANDARD
BEGIN:DAYLIGHT
TZOFFSETFROM:-0400
TZOFFSETTO:-0300
TZNAME:ADT
DTSTART:20250309T060000
END:DAYLIGHT
BEGIN:STANDARD
TZOFFSETFROM:-0300
TZOFFSETTO:-0400
TZNAME:AST
DTSTART:20251102T050000
END:STANDARD
END:VTIMEZONE
BEGIN:VEVENT
DTSTART;VALUE=DATE:20241015
DTEND;VALUE=DATE:20241018
DTSTAMP:20260422T064745
CREATED:20241015T183705Z
LAST-MODIFIED:20241015T183705Z
UID:44342-1728950400-1729209599@ouispeakfashion.com
SUMMARY:The 28th Taipei Innovative Textiles Application Show（TITAS）
DESCRIPTION:The 28th Taipei Innovative Textile Application Show (TITAS) will be held from October 15 to 17\, 2024\, at the Taipei Nangang Exhibition Center\, Hall 1\, in Taiwan. This season’s main themes are “Sustainability\,” “Functional Applications\,” and “Intelligent Manufacturing\,” highlighting the research and innovation capabilities of Taiwan’s textile industry. \nTITAS is one of Asia’s leading trade shows for high-tech and high-performance materials\, and it serves as a key sourcing hub for global buyers seeking functional textiles and advanced fabric technologies. Participants not only get the opportunity to see the latest products and innovations but also to meet new business partners and stay informed on industry trends. \n 
URL:https://ouispeakfashion.com/event/the-28th-titas/
LOCATION:Taipei Nangang Exhibition Center\, No. 1\, Jingmao 2nd Rd\, Taipei City\, Nangang District\, Taiwan
CATEGORIES:Sourcing Tradeshow
ATTACH;FMTTYPE=image/png:https://ouispeakfashion.com/wp-content/uploads/2024/10/1-4.png
END:VEVENT
END:VCALENDAR