BEGIN:VCALENDAR
VERSION:2.0
PRODID:-//Oui Speak Fashion (OSF)® - ECPv6.15.20//NONSGML v1.0//EN
CALSCALE:GREGORIAN
METHOD:PUBLISH
X-WR-CALNAME:Oui Speak Fashion (OSF)®
X-ORIGINAL-URL:https://ouispeakfashion.com
X-WR-CALDESC:Events for Oui Speak Fashion (OSF)®
REFRESH-INTERVAL;VALUE=DURATION:PT1H
X-Robots-Tag:noindex
X-PUBLISHED-TTL:PT1H
BEGIN:VTIMEZONE
TZID:America/Halifax
BEGIN:DAYLIGHT
TZOFFSETFROM:-0400
TZOFFSETTO:-0300
TZNAME:ADT
DTSTART:20250309T060000
END:DAYLIGHT
BEGIN:STANDARD
TZOFFSETFROM:-0300
TZOFFSETTO:-0400
TZNAME:AST
DTSTART:20251102T050000
END:STANDARD
BEGIN:DAYLIGHT
TZOFFSETFROM:-0400
TZOFFSETTO:-0300
TZNAME:ADT
DTSTART:20260308T060000
END:DAYLIGHT
BEGIN:STANDARD
TZOFFSETFROM:-0300
TZOFFSETTO:-0400
TZNAME:AST
DTSTART:20261101T050000
END:STANDARD
BEGIN:DAYLIGHT
TZOFFSETFROM:-0400
TZOFFSETTO:-0300
TZNAME:ADT
DTSTART:20270314T060000
END:DAYLIGHT
BEGIN:STANDARD
TZOFFSETFROM:-0300
TZOFFSETTO:-0400
TZNAME:AST
DTSTART:20271107T050000
END:STANDARD
END:VTIMEZONE
BEGIN:VEVENT
DTSTART;VALUE=DATE:20260226
DTEND;VALUE=DATE:20260301
DTSTAMP:20260420T002623
CREATED:20250701T182516Z
LAST-MODIFIED:20250701T183235Z
UID:97989-1772064000-1772323199@ouispeakfashion.com
SUMMARY:Vietnam International Trade Fair for Apparel\, Textiles and Textile Technologies (VIATT 2026)
DESCRIPTION:The Vietnam International Trade Fair for Apparel\, Textiles and Textile Technologies (VIATT 2026) will be held over three days from Thursday\, February 26 to Saturday\, February 28\, 2026\, in Ho Chi Minh City\, Vietnam. \nVietnam ranks as the world’s third-largest exporter of apparel and textiles\, and is also among the largest importers of sewing machinery. The host city\, Ho Chi Minh\, serves as the country’s key economic hub\, home to Vietnam’s largest international airport and seaport\, and attracts approximately 35% of all foreign direct investment. \nThe trade fair will feature a wide array of products\, including fibers\, yarns\, apparel fabrics\, industrial textiles\, spinning and weaving machinery\, printing and sewing equipment\, home textiles\, and finished garments. \nFor companies looking to expand into the Asian market\, VATT 2026 offers a valuable opportunity to tap into the energy and momentum of Vietnam’s booming textile and garment industry. \nTo apply for your visitor badge\, please fill out the form here.
URL:https://ouispeakfashion.com/event/viatt-2026/
LOCATION:Saigon Exhibition and Convention Center (SECC)\, Ho Chi Minh City\, Vietnam
CATEGORIES:Sourcing Tradeshow
ATTACH;FMTTYPE=image/png:https://ouispeakfashion.com/wp-content/uploads/2025/07/VIATT-2026.png
ORGANIZER;CN="Messe Frankfurt (HK) Ltd":MAILTO:textile@hongkong.messefrankfurt.com
END:VEVENT
END:VCALENDAR