BEGIN:VCALENDAR
VERSION:2.0
PRODID:-//Oui Speak Fashion Japan (OSF)® [ウィ スピーク ファッション ジャパン] - ECPv6.15.20//NONSGML v1.0//EN
CALSCALE:GREGORIAN
METHOD:PUBLISH
X-WR-CALNAME:Oui Speak Fashion Japan (OSF)® [ウィ スピーク ファッション ジャパン]
X-ORIGINAL-URL:https://ouispeakfashion.com/jp
X-WR-CALDESC:Oui Speak Fashion Japan (OSF)® [ウィ スピーク ファッション ジャパン] のイベント
REFRESH-INTERVAL;VALUE=DURATION:PT1H
X-Robots-Tag:noindex
X-PUBLISHED-TTL:PT1H
BEGIN:VTIMEZONE
TZID:America/Halifax
BEGIN:DAYLIGHT
TZOFFSETFROM:-0400
TZOFFSETTO:-0300
TZNAME:ADT
DTSTART:20230312T060000
END:DAYLIGHT
BEGIN:STANDARD
TZOFFSETFROM:-0300
TZOFFSETTO:-0400
TZNAME:AST
DTSTART:20231105T050000
END:STANDARD
BEGIN:DAYLIGHT
TZOFFSETFROM:-0400
TZOFFSETTO:-0300
TZNAME:ADT
DTSTART:20240310T060000
END:DAYLIGHT
BEGIN:STANDARD
TZOFFSETFROM:-0300
TZOFFSETTO:-0400
TZNAME:AST
DTSTART:20241103T050000
END:STANDARD
BEGIN:DAYLIGHT
TZOFFSETFROM:-0400
TZOFFSETTO:-0300
TZNAME:ADT
DTSTART:20250309T060000
END:DAYLIGHT
BEGIN:STANDARD
TZOFFSETFROM:-0300
TZOFFSETTO:-0400
TZNAME:AST
DTSTART:20251102T050000
END:STANDARD
END:VTIMEZONE
BEGIN:VEVENT
DTSTART;TZID=America/Halifax:20240506T180000
DTEND;TZID=America/Halifax:20240506T200000
DTSTAMP:20260421T062331
CREATED:20240429T111650Z
LAST-MODIFIED:20240429T114712Z
UID:19631-1715018400-1715025600@ouispeakfashion.com
SUMMARY:2024年 メット・ガラ（MET GALA）
DESCRIPTION:米ヴォーグ（Vogue）編集長のアナ ウィンター（Anna Wintour）よって主催されている、ファッション界最大の祭典であるメット・ガラ（MET GALA）。ニューヨークのメトロポリタン美術館の「The Costume Institute（コスチューム インスティテュート）」が毎年開催している特別展を祝福する為のこのオープニングイベントは、今年、2024年5月6日に行われる。今年のテーマは、「Sleeping Beauties: Reawakening Fashion（眠れる美女たち – 蘇るファッション）」だ。
URL:https://ouispeakfashion.com/jp/event/2024-met-gala/
LOCATION:The Metropolitan Museum of Art\, New York\, NY\, United States
CATEGORIES:Fashion Event
ATTACH;FMTTYPE=image/webp:https://ouispeakfashion.com/jp/wp-content/uploads/2024/01/Met-gala-2023-OSF.webp
END:VEVENT
END:VCALENDAR