BEGIN:VCALENDAR
VERSION:2.0
PRODID:-//Oui Speak Fashion Japan (OSF)® [ウィ スピーク ファッション ジャパン] - ECPv6.15.20//NONSGML v1.0//EN
CALSCALE:GREGORIAN
METHOD:PUBLISH
X-WR-CALNAME:Oui Speak Fashion Japan (OSF)® [ウィ スピーク ファッション ジャパン]
X-ORIGINAL-URL:https://ouispeakfashion.com/jp
X-WR-CALDESC:Oui Speak Fashion Japan (OSF)® [ウィ スピーク ファッション ジャパン] のイベント
REFRESH-INTERVAL;VALUE=DURATION:PT1H
X-Robots-Tag:noindex
X-PUBLISHED-TTL:PT1H
BEGIN:VTIMEZONE
TZID:UTC
BEGIN:STANDARD
TZOFFSETFROM:+0000
TZOFFSETTO:+0000
TZNAME:UTC
DTSTART:20230101T000000
END:STANDARD
END:VTIMEZONE
BEGIN:VTIMEZONE
TZID:America/New_York
BEGIN:DAYLIGHT
TZOFFSETFROM:-0500
TZOFFSETTO:-0400
TZNAME:EDT
DTSTART:20230312T070000
END:DAYLIGHT
BEGIN:STANDARD
TZOFFSETFROM:-0400
TZOFFSETTO:-0500
TZNAME:EST
DTSTART:20231105T060000
END:STANDARD
BEGIN:DAYLIGHT
TZOFFSETFROM:-0500
TZOFFSETTO:-0400
TZNAME:EDT
DTSTART:20240310T070000
END:DAYLIGHT
BEGIN:STANDARD
TZOFFSETFROM:-0400
TZOFFSETTO:-0500
TZNAME:EST
DTSTART:20241103T060000
END:STANDARD
BEGIN:DAYLIGHT
TZOFFSETFROM:-0500
TZOFFSETTO:-0400
TZNAME:EDT
DTSTART:20250309T070000
END:DAYLIGHT
BEGIN:STANDARD
TZOFFSETFROM:-0400
TZOFFSETTO:-0500
TZNAME:EST
DTSTART:20251102T060000
END:STANDARD
END:VTIMEZONE
BEGIN:VEVENT
DTSTART;VALUE=DATE:20250106
DTEND;VALUE=DATE:20250108
DTSTAMP:20260420T150547
CREATED:20241017T104945Z
LAST-MODIFIED:20241017T113657Z
UID:42676-1736121600-1736294399@ouispeakfashion.com
SUMMARY:マジック マイアミ
DESCRIPTION:マジック マイアミ（MAGIC Miami）は、2025年1月6日から7日にマイアミ・コンベンションセンターで開催される、即時仕入れに焦点を当てたウィメンズマーケットイベントだ。 \nトレンドを意識したアパレル、フットウェア、アクセサリー、ホーム、ビューティーブランドが出展され、ホリデー後のリテールの在庫補充や新しいトレンド探索、業界内の重要なつながりを築く場を提供する。また、手頃な価格帯からミドルレンジまで、幅広いコレクションが揃っている。
URL:https://ouispeakfashion.com/jp/event/magic-miami%e2%88%922025/
LOCATION:Miami Convention Center\, Miami\, FL\, United States
CATEGORIES:Fashion Tradeshow
ATTACH;FMTTYPE=image/png:https://ouispeakfashion.com/jp/wp-content/uploads/2024/10/OSF-Main-7-5.png
END:VEVENT
BEGIN:VEVENT
DTSTART;VALUE=DATE:20241211
DTEND;VALUE=DATE:20241213
DTSTAMP:20260420T150547
CREATED:20241017T103230Z
LAST-MODIFIED:20241017T103230Z
UID:42670-1733875200-1734047999@ouispeakfashion.com
SUMMARY:ブロッサム・プルミエール・ヴィジョン 2026年春夏
DESCRIPTION:ブロッサム・プルミエール・ヴィジョン （Blossom Première Vision）は、2024年12月11日から12日にかけてパリのカルー・デュ・タンプルで開催されるファッション業界向けのプレコレクションイベント。 \n2026年春夏シーズンのプレコレクションを展示するグローバルなテキスタイル、ファブリック、アクセサリーのトップ企業が集結する。このイベントは、イノベーションと高品質な素材に焦点を当て、業界の専門家向けに新しいトレンドを紹介する。
URL:https://ouispeakfashion.com/jp/event/%e3%83%96%e3%83%ad%e3%83%83%e3%82%b5%e3%83%a0%e3%83%bb%e3%83%97%e3%83%ab%e3%83%9f%e3%82%a8%e3%83%bc%e3%83%ab%e3%83%bb%e3%83%b4%e3%82%a3%e3%82%b8%e3%83%a7%e3%83%b3-2026%e5%b9%b4%e6%98%a5%e5%a4%8f/
LOCATION:Le Carreau du Temple\, 4 rue Eugène Spuller\, Paris\, 75003\, France
CATEGORIES:Sourcing Tradeshow
ATTACH;FMTTYPE=image/png:https://ouispeakfashion.com/jp/wp-content/uploads/2024/10/BLOSSOM-PREMIERE-VISION.png
END:VEVENT
BEGIN:VEVENT
DTSTART;VALUE=DATE:20241204
DTEND;VALUE=DATE:20241206
DTSTAMP:20260420T150547
CREATED:20241017T101903Z
LAST-MODIFIED:20241017T103509Z
UID:42664-1733270400-1733443199@ouispeakfashion.com
SUMMARY:デニム・プルミエール・ヴィジョン・ミラノ 2026年春夏
DESCRIPTION:デニム・プルミエール・ヴィジョン・ミラノ（Denim Première Vision Milan）は、2024年12月4日から5日にかけてミラノのスーパースタジオ・ピウで開催される、デニム業界の最新トレンドを紹介するイベント。 \n来場者は、2026年春夏コレクションを展示する様々なブランドや若手デザイナーによる展示を通じて、イノベーションに触れることが出来る。またワークショップやカンファレンスも開催され、物理的なイベントとオンライン市場を組み合わせたハイブリッド体験が提供される。
URL:https://ouispeakfashion.com/jp/event/denim-premiere-vision-milan/
LOCATION:Superstudio Più\, Milan\, Italy
CATEGORIES:Fashion Tradeshow
ATTACH;FMTTYPE=image/png:https://ouispeakfashion.com/jp/wp-content/uploads/2024/10/OSF-Main-5-10.png
END:VEVENT
BEGIN:VEVENT
DTSTART;VALUE=DATE:20241120
DTEND;VALUE=DATE:20241122
DTSTAMP:20260420T150547
CREATED:20241015T104242Z
LAST-MODIFIED:20241015T104242Z
UID:42366-1732060800-1732233599@ouispeakfashion.com
SUMMARY:パフォーマンス デイズ（米国、ポートランド）
DESCRIPTION:米国、ポートランドにて開催されるパフォーマンス デイズ（PERFORMANCE DAYS（PERFORMANCE DAYS in Portland\, USA）は、スポーツ、アウトドア、アクティブライフスタイル向けの機能性ファブリックや素材に特化した展示会である。今シーズンは、2024年11月20日から21日の2日間にかけて、オレゴン・コンベンション・センターにて行われる。 \nポートランドで開かれるパフォーマンス デイズの主な特徴は以下の通り： \n\n機能性ファブリックの展示：このイベントでは、吸湿速乾、防風、防水、サステナブルな素材など、パフォーマンス性の高い最新のテキスタイルが紹介される。スポーツ、アウトドア、アスレジャー向けの最先端の素材を展示する出展者が集まる。\nサステナビリティ：パフォーマンス デイズでは、サステナビリティが大きな焦点となっており、環境に優しい素材や技術を紹介する出展者が多く参加している。リサイクル素材や生分解性のファブリック、環境負荷を低減する製造技術などが展示される。\n革新的な技術：この展示会では、スマートファブリックや通気性、温度調整機能を備えた素材など、テキスタイル技術の進化が強調される。これらの革新が、運動能力や快適性をどのように向上させるかを体験できる。\n教育セミナーやワークショップ：イベント中には、業界リーダーがファブリック技術やサステナビリティ、アクティブウェアやアウトドア産業のトレンドや課題について議論するセミナーやワークショップ、専門家によるパネルディスカッションが行われる。\nネットワーキングの機会：パフォーマンス デイズは、スポーツウェアやアウトドア業界のデザイナー、バイヤー、プロダクトマネージャー、ファブリックサプライヤーにとって重要なネットワーキングの場であり、新たなパートナーシップを築き、市場トレンドを把握する機会を提供する。\nトレンドフォーラム：この展示会では、今後のシーズンに向けた素材やカラーのトレンドがキュレーションされた「トレンドフォーラム」も開催され、パフォーマンスアパレル市場におけるデザインの方向性に関する洞察が得られる。
URL:https://ouispeakfashion.com/jp/event/2024-performance-days-in-portland/
LOCATION:Oregon Convention Center\, Portland\, OR\, United States
CATEGORIES:Sourcing Tradeshow
ATTACH;FMTTYPE=image/png:https://ouispeakfashion.com/jp/wp-content/uploads/2024/10/パフォーマンス-デイズ.png
END:VEVENT
BEGIN:VEVENT
DTSTART;VALUE=DATE:20241119
DTEND;VALUE=DATE:20241124
DTSTAMP:20260420T150547
CREATED:20241014T084057Z
LAST-MODIFIED:20241014T084057Z
UID:42256-1731974400-1732406399@ouispeakfashion.com
SUMMARY:2024年度 マイアミ ファッションウィーク（MIAFW）
DESCRIPTION:アメリカで2番目に重要なファッションイベントとされているマイアミファッションウィーク（MIAFW）。2024年度は、11月19日から11月23日の４日間に渡って開催される。 \nこのイベントは、ファッション、美容、音楽、アート、チャリティー、最新トレンド、ガストロノミー、ラグジュアリー、ライフスタイルが融合する場とされ、会期中は、200以上のメディア、マイアミのトップVIP、6\,000人以上の来場者が参加する。
URL:https://ouispeakfashion.com/jp/event/miafw-2024/
CATEGORIES:Fashion Week
ATTACH;FMTTYPE=image/png:https://ouispeakfashion.com/jp/wp-content/uploads/2024/10/Miami-Fashion-Week.png
END:VEVENT
BEGIN:VEVENT
DTSTART;VALUE=DATE:20241108
DTEND;VALUE=DATE:20241112
DTSTAMP:20260420T150547
CREATED:20241015T102540Z
LAST-MODIFIED:20241015T102540Z
UID:42361-1731024000-1731369599@ouispeakfashion.com
SUMMARY:2024年11月 テックスワールド アディスアベバ
DESCRIPTION:テックスワールド アディスアベバ（Texworld Addis Ababa）は、エチオピアおよびアフリカ全域の繊維・アパレル産業に焦点を当てた展示会である。今シーズンは、2024年11月8日から2024年11月11日の4日間に渡って開催される。 \n世界的に展開しているテックスワールドブランドの一部として、テックスワールド アディスアベバは、製造業者、バイヤー、業界関係者が集まり、アフリカの繊維とファッション分野でのビジネス機会を探るためのプラットフォームを提供している。 \nテックスワールド アディスアベバの主な特徴は以下の通り： \n\n繊維・アパレルの調達：この展示会には、地元および国際的な出展者が集まり、繊維業界の様々なセグメント（生地、繊維、アクセサリー、既製服など）を紹介している。バイヤーにとって、アフリカの繊維製造能力を探索するための調達ハブとして機能している。\n持続可能な実践への焦点：他のテックスワールド展示会と同様に、アディスアベバ版でも、持続可能で環境に優しい実践に焦点を当てている。出展者は革新的な素材、オーガニック生地、サステナブルな製造プロセスを紹介している。\nネットワーキングの機会：テックスワールド アディスアベバは、デザイナー、ブランド、卸売業者、製造業者などの業界専門家にとって重要なネットワーキングプラットフォームであり、コラボレーションや知識交換を促進し、アフリカの繊維・アパレル産業の成長を支援している。\n教育的セミナーやワークショップ：展示会では、市場のトレンド、業界の課題、アフリカの繊維産業における機会に焦点を当てたセミナーやワークショップ、パネルディスカッションが開催される。これらのセッションは、参加者に最新の業界動向や将来の展望についての洞察を提供することを目的としている。\n戦略的な立地：エチオピア、特にアディスアベバは、その戦略的な立地、政府の支援、競争力のある労働コストにより、繊維・アパレル生産の成長ハブとなっている。テックスワールド アディスアベバは、これらの利点を強調し、地域への投資を促進している。
URL:https://ouispeakfashion.com/jp/event/2024-texworld-addis-ababa/
CATEGORIES:Sourcing Tradeshow
ATTACH;FMTTYPE=image/png:https://ouispeakfashion.com/jp/wp-content/uploads/2024/10/OSF-Main-7-4.png
END:VEVENT
BEGIN:VEVENT
DTSTART;VALUE=DATE:20241023
DTEND;VALUE=DATE:20241025
DTSTAMP:20260420T150547
CREATED:20241015T095320Z
LAST-MODIFIED:20241015T095747Z
UID:42354-1729641600-1729814399@ouispeakfashion.com
SUMMARY:2024年10月 キングピンズ アムステルダム
DESCRIPTION:キングピンズ アムステルダム（Kingpins Amsterdam）は、オランダのアムステルダムで年に2回開催されるデニムの展示会であり、今シーズンは、10月23日から10月24日の2日間にかけてシュガーファクトリーで行われる。同展示会は、デニムのサプライチェーン全体に焦点を当てており、ファブリックサプライヤー、製造業者、化学会社、デニム工場などが参加する。 \nキングピンズ アムステルダムの主な特徴は次の通り： \n革新的なデニムの紹介：この展示会では、サステナブルで環境に優しい実践に焦点を当てた最先端のデニム技術が紹介される。ブランドやサプライヤーが、最新のファブリック技術、サステナブルな染色プロセス、環境に配慮した製造技術を展示する。 \n出展者：このイベントには、デニム工場、化学サプライヤー、衣料品製造業者、技術プロバイダーなど、業界のリーディングプレイヤーが集結し、参加者は多岐にわたるデニム関連製品やサービスを探索する機会が提供される。 \nサステナビリティ重視：サステナビリティに強く焦点を当てており、水の節約技術やエコフレンドリーな繊維、循環型ファッションの取り組みなど、環境への影響を減らすための革新が多く紹介される。 \nネットワーキングとコラボレーション：Kingpins Amsterdamは、バイヤー、デザイナー、業界の専門家が集まり、アイデアを交換し、パートナーシップを築き、トレンドについて話し合うネットワーキングのハブである。この親密な環境により、深い会話やコラボレーションの機会が促進される。 \n教育プログラム：展示会では、セミナーやワークショップ、パネルディスカッションが行われ、業界のリーダーたちが市場トレンドや革新、サステナビリティ戦略に関する洞察を共有する。これらのプログラムは、参加者に学びやインスピレーションを与える。
URL:https://ouispeakfashion.com/jp/event/kingpins-amsterdam-2024/
LOCATION:Sugarfactory\, Kristalpromenade 7\, Halfweg\, PD\, 1165\, Netherlands
CATEGORIES:Fashion Tradeshow
ATTACH;FMTTYPE=image/png:https://ouispeakfashion.com/jp/wp-content/uploads/2024/10/OSF-Main-5-6.png
END:VEVENT
BEGIN:VEVENT
DTSTART;VALUE=DATE:20241017
DTEND;VALUE=DATE:20241022
DTSTAMP:20260420T150547
CREATED:20241012T125829Z
LAST-MODIFIED:20241012T130529Z
UID:42179-1729123200-1729555199@ouispeakfashion.com
SUMMARY:台北ファッションウィーク 2025年春夏コレクション
DESCRIPTION:台北ファッションウィーク 2025年春夏は、2024年10月17日から2024年10月21日の5日間に渡って開催される。初日に行われる開幕ショーのテーマは、「Taiwan Type Fashion Atlas」。 \n今回のキービジュアル発表では、コンセプトの「Atlas」を通して、台湾の日常におけるファッションの多彩な様子を記録。パリ五輪金メダリストの林郁婷とモデルたちが共演し、台湾の人々の日常生活の場を都市の中の「ランウェイ」として、台北の歴史的街並みや現代建築を歩く様子が撮影されている。
URL:https://ouispeakfashion.com/jp/event/taipei-fashionweek-ss2025/
LOCATION:松山文創園区\, Taipei City\, Taiwan
CATEGORIES:Fashion Week
ATTACH;FMTTYPE=image/webp:https://ouispeakfashion.com/jp/wp-content/uploads/2024/10/kv.webp
END:VEVENT
BEGIN:VEVENT
DTSTART;VALUE=DATE:20241017
DTEND;VALUE=DATE:20241022
DTSTAMP:20260420T150547
CREATED:20241015T111432Z
LAST-MODIFIED:20241015T111938Z
UID:42373-1729123200-1729555199@ouispeakfashion.com
SUMMARY:タイペイ・イン・スタイル 2025年春夏展示会
DESCRIPTION:タイペイ・イン・スタイル2025年春夏見本市は、台北ファッションウィークの開催に併せて、2024年10月17日から21日までの5日間に渡り開催される。 \n2006年から始まった台湾最大のファッション総合展示会は、台湾のファッションやクリエイティブ産業をアジアの主要なファッションイベントとの連携を通じて世界に向けて発信することを目指すものだ。 \nサプライヤーや製造業者からのアパレルおよびテキスタイル分野の研究開発を紹介し、個々のデザイナーやブランドが斬新な創造性や志を発揮できるプラットフォームを提供し、台湾の繊維産業の競争力を高めていくことで、ブランドやデザインの価値を向上させている。
URL:https://ouispeakfashion.com/jp/event/taipei-in-style-ss25/
CATEGORIES:Fashion Tradeshow
ATTACH;FMTTYPE=image/png:https://ouispeakfashion.com/jp/wp-content/uploads/2024/10/2-4.png
END:VEVENT
BEGIN:VEVENT
DTSTART;TZID=America/New_York:20241015T183000
DTEND;TZID=America/New_York:20241015T200000
DTSTAMP:20260420T150547
CREATED:20241014T194722Z
LAST-MODIFIED:20241014T194722Z
UID:42338-1729017000-1729022400@ouispeakfashion.com
SUMMARY:2024年ヴィクトリアズ シークレット ファッションショー
DESCRIPTION:2024年のヴィクトリアズ シークレット・ファッションショー（Victoria’s Secret Fashion Show）は、現地時間の10月15日（火）にニューヨークで開催される。 \nショーの幕開けは、米国東部時間の10月15日午後7時、日本時間の10月16日午前8時から。さらに、「ピンクカーペット」は、米国東部時間の10月15日午後6時30分、日本時間の10月16日午前7時30分からスタートする。 \n2024年ヴィクトリアズ シークレット ファッションショーのさらに詳細はこちらから。
URL:https://ouispeakfashion.com/jp/event/2024-victorias-secret-fashion-show/
CATEGORIES:Fashion Show
ATTACH;FMTTYPE=image/png:https://ouispeakfashion.com/jp/wp-content/uploads/2024/10/Victorias-Secret-Fashion-Show-2024.png
END:VEVENT
BEGIN:VEVENT
DTSTART;VALUE=DATE:20241015
DTEND;VALUE=DATE:20241018
DTSTAMP:20260420T150547
CREATED:20241015T105650Z
LAST-MODIFIED:20241015T105650Z
UID:42370-1728950400-1729209599@ouispeakfashion.com
SUMMARY:ファッションワールド東京 秋 | FaW TOKYO 2024秋
DESCRIPTION:ファッションワールド東京 秋 (FaW TOKYO 2024秋) は、日本最大級のファッション業界向けの展示会であり、ファッションブランド、アクセサリー、繊維、OEM/ODM、ファッションテックなど、幅広いファッション関連商品やサービスを扱うグローバルなビジネスプラットフォームである。2024年秋は、2024年10月15日から2024年10月17日の３日間に渡って行われる。\n\n同イベントは毎年春と秋に東京で開催され、世界中からバイヤー、サプライヤー、デザイナー、業界関係者が集結する。
URL:https://ouispeakfashion.com/jp/event/faw-tokyo-2024/
CATEGORIES:Fashion Tradeshow
ATTACH;FMTTYPE=image/png:https://ouispeakfashion.com/jp/wp-content/uploads/2024/10/OSF-Main-8-5.png
END:VEVENT
BEGIN:VEVENT
DTSTART;VALUE=DATE:20241015
DTEND;VALUE=DATE:20241018
DTSTAMP:20260420T150547
CREATED:20241015T093428Z
LAST-MODIFIED:20241015T093428Z
UID:42348-1728950400-1729209599@ouispeakfashion.com
SUMMARY:第28回台北国際紡織アプリケーション見本市（TITAS）
DESCRIPTION:第28回台北国際紡織アプリケーション見本市（TITAS）は、2024年10月15日から17日まで、台湾・台北の南港展示ホール1で開催される。今シーズンの主なテーマは「持続可能性」「機能的応用」「インテリジェント製造」の3つで、これにより台湾の繊維業界の研究開発力や技術革新が強調される。 \n台北国際紡織アプリケーション見本市は、アジアを代表するハイテク・ハイパフォーマンス素材の展示会であり、特に機能性繊維や先進的なテキスタイル技術を求めるグローバルバイヤーにとって重要な調達ハブとされている。参加者は最新の製品や技術を実際に見ることができるだけでなく、新たなビジネスパートナーとの出会いや業界の動向を把握する絶好の機会でもある。
URL:https://ouispeakfashion.com/jp/event/2024-oct-titas/
CATEGORIES:Sourcing Tradeshow
ATTACH;FMTTYPE=image/png:https://ouispeakfashion.com/jp/wp-content/uploads/2024/10/1-4.png
END:VEVENT
BEGIN:VEVENT
DTSTART;VALUE=DATE:20241010
DTEND;VALUE=DATE:20241019
DTSTAMP:20260420T150547
CREATED:20240520T105013Z
LAST-MODIFIED:20240614T055653Z
UID:20099-1728518400-1729295999@ouispeakfashion.com
SUMMARY:上海ファッションウィーク 2025年春夏コレクション
DESCRIPTION:上海ファッションウィーク2025年春夏コレクション（Shanghai Fashion Week Spring/Summer 2025）は、2024年10月10日から10月18日までの9日間にわたって開催される。
URL:https://ouispeakfashion.com/jp/event/shanghai-fashion-week-spring-summer-2025/
CATEGORIES:Fashion Week
ATTACH;FMTTYPE=image/webp:https://ouispeakfashion.com/jp/wp-content/uploads/2024/05/OSF-Main-16.webp
END:VEVENT
BEGIN:VEVENT
DTSTART;VALUE=DATE:20241008
DTEND;VALUE=DATE:20241011
DTSTAMP:20260420T150547
CREATED:20240429T132630Z
LAST-MODIFIED:20240614T055857Z
UID:19661-1728345600-1728604799@ouispeakfashion.com
SUMMARY:2024年 ニューヨーク ブライダル ファッションウィーク
DESCRIPTION:2024年10月のニューヨーク ブライダル ファッションウィーク（New York Bridal Fashion Week 2024）は、10月8日〜10日の3日間に渡り開催される。
URL:https://ouispeakfashion.com/jp/event/new-york-bridal-fashion-week-2024/
CATEGORIES:Fashion Week
ATTACH;FMTTYPE=image/avif:https://ouispeakfashion.com/jp/wp-content/uploads/2024/04/Lela-Rose-Bridal-Fall-24-1-1.avif
END:VEVENT
BEGIN:VEVENT
DTSTART;VALUE=DATE:20240923
DTEND;VALUE=DATE:20241002
DTSTAMP:20260420T150547
CREATED:20240429T132426Z
LAST-MODIFIED:20240804T143238Z
UID:19657-1727049600-1727827199@ouispeakfashion.com
SUMMARY:パリファッションウィーク 2025年春夏コレクション
DESCRIPTION:ニューヨーク、ロンドン、ミラノと続き、世界4大ファッションウィークの大トリを務めるのが、「パリファッションウィーク（PFW）」だ。 \n「パリファッションウィーク 2025年春夏」は、2024年9月23日（月）〜2024年10月1日（火）までの9日間に渡り開催され、参加ブランドは「2025年春夏コレクション」をランウェイショー、プレゼンテーション、デジタル形式のいずれかで発表する。 \nパリ ファッションウィークは、ファッション界における最高峰のイベントであり、世界中のデザイナー、モデル、バイヤー、ファッションジャーナリストが一堂に会する場である。また、世界4大ファッションウィークで発表されるコレクションは、次のシーズンのトレンドを左右する重要なものとなり、多くの注目と期待が寄せられる。 \nパリ ファッションウィーク 2025年春夏の公式スケジュールと参加ブランドはこちらから。
URL:https://ouispeakfashion.com/jp/event/paris-fashion-week-spring-summer-2025/
CATEGORIES:Fashion Week
ATTACH;FMTTYPE=image/webp:https://ouispeakfashion.com/jp/wp-content/uploads/2024/04/shutterstock_1189771234-scaled-1.webp
END:VEVENT
BEGIN:VEVENT
DTSTART;VALUE=DATE:20240922
DTEND;VALUE=DATE:20240925
DTSTAMP:20260420T150547
CREATED:20240519T190627Z
LAST-MODIFIED:20240614T060558Z
UID:20095-1726963200-1727222399@ouispeakfashion.com
SUMMARY:コーテリー・ニューヨーク（COTERIE New York）
DESCRIPTION:東海岸最大のアパレル見本市であるコーテリー・ニューヨーク（COTERIE New York）は、2024年9月22日から24日までの３日間に渡り、開催される。
URL:https://ouispeakfashion.com/jp/event/coterie-new-york/
LOCATION:Jacob Javits Convention Center\, 429 11th Ave\, New York\, 10001\, United States
CATEGORIES:Trade Show
ATTACH;FMTTYPE=image/webp:https://ouispeakfashion.com/jp/wp-content/uploads/2024/05/OSF-Main-7-1.webp
END:VEVENT
BEGIN:VEVENT
DTSTART;VALUE=DATE:20240922
DTEND;VALUE=DATE:20240925
DTSTAMP:20260420T150547
CREATED:20240519T184807Z
LAST-MODIFIED:20240821T195348Z
UID:20091-1726963200-1727222399@ouispeakfashion.com
SUMMARY:マジック・ニューヨーク（MAGIC New York）
DESCRIPTION:マジック・ニューヨークは、ニューヨークを含む様々な場所で開催される代表的なファッション見本市である。ファッションブランド、小売業者、業界関係者が一堂に会し、ファッション業界の最新トレンド、イノベーション、製品を紹介する。
URL:https://ouispeakfashion.com/jp/event/magic-new-york/
LOCATION:Jacob Javits Convention Center\, 429 11th Ave\, New York\, 10001\, United States
CATEGORIES:Trade Show
ATTACH;FMTTYPE=image/webp:https://ouispeakfashion.com/jp/wp-content/uploads/2024/05/OSF-Main-8-2.webp
END:VEVENT
BEGIN:VEVENT
DTSTART;VALUE=DATE:20240917
DTEND;VALUE=DATE:20240924
DTSTAMP:20260420T150547
CREATED:20240429T132150Z
LAST-MODIFIED:20240804T142737Z
UID:19655-1726531200-1727135999@ouispeakfashion.com
SUMMARY:ミラノ ファッションウィーク 2025年春夏コレクション
DESCRIPTION:ニューヨーク、ロンドンのファッションウィークの次に開催されるのが、世界4大コレクションの一つ「ミラノ・ファッションウィーク（MFW）」である。 \n「ミラノ ファッションウィーク 2025年春夏」は、2024年9月17日（火）〜2024年9月23日（月）までの7日間に渡り開催され、参加ブランドは、「2025年春夏コレクション」をランウェイショー、プレゼンテーション、デジタル形式のいずれかで発表する。 \n 
URL:https://ouispeakfashion.com/jp/event/milan-fashion-week-spring-summer-2025/
CATEGORIES:Fashion Week
ATTACH;FMTTYPE=image/jpeg:https://ouispeakfashion.com/jp/wp-content/uploads/2024/02/shutterstock_1369388246-scaled.jpg
END:VEVENT
BEGIN:VEVENT
DTSTART;VALUE=DATE:20240913
DTEND;VALUE=DATE:20240918
DTSTAMP:20260420T150547
CREATED:20240429T131710Z
LAST-MODIFIED:20240804T142333Z
UID:19647-1726185600-1726617599@ouispeakfashion.com
SUMMARY:ロンドン ファッションウィーク 2025年春夏コレクション
DESCRIPTION:世界4大コレクションの一つである「ロンドン・ファッションウィーク（LFW）」。 \n「ロンドン ファッションウィーク 2025年春夏」は、は2024年9月13日（金）〜2024年9月17日（火）までの5日間に渡り開催され、参加ブランドは「2025年春夏コレクション」をランウェイショー、プレゼンテーション、デジタル形式のいずれかで発表する。 \nまた会期中には、多くのブランドのポップアップイベントやアフターパーティなども開催される。
URL:https://ouispeakfashion.com/jp/event/london-fashion-week-spring-summer-2025/
CATEGORIES:Fashion Week
ATTACH;FMTTYPE=image/jpeg:https://ouispeakfashion.com/jp/wp-content/uploads/2023/08/shutterstock_1143739697-scaled.jpg
END:VEVENT
BEGIN:VEVENT
DTSTART;VALUE=DATE:20240906
DTEND;VALUE=DATE:20240912
DTSTAMP:20260420T150547
CREATED:20240429T131455Z
LAST-MODIFIED:20240804T173140Z
UID:19644-1725580800-1726099199@ouispeakfashion.com
SUMMARY:ニューヨーク ファッションウィーク 2025年春夏コレクション
DESCRIPTION:世界4大コレクションの一つであり、このファッションウィーク・サーキットの幕を開けるのが「ニューヨーク・ファッションウィーク（NYFW）」だ。 \n「ニューヨーク ファッションウィーク 2025年春夏」は、2024年9月6日（金）〜 2024年9月11日（水）の6日間に渡って開催され、約60以上のデザイナーが「2025年春夏コレクション」をランウェイショー、プレゼンテーション、デジタル形式のいずれかで発表する。 \n2024年9月開催のニューヨークファッションウィーク（NYFW）のスケジュールと参加ブランド一覧はこちらから。
URL:https://ouispeakfashion.com/jp/event/nyfw-spring-summer-2025/
CATEGORIES:Fashion Week
ATTACH;FMTTYPE=image/jpeg:https://ouispeakfashion.com/jp/wp-content/uploads/2024/01/shutterstock_1504185266-scaled.jpg
END:VEVENT
BEGIN:VEVENT
DTSTART;VALUE=DATE:20240903
DTEND;VALUE=DATE:20240908
DTSTAMP:20260420T150547
CREATED:20240501T123542Z
LAST-MODIFIED:20240804T175838Z
UID:19705-1725321600-1725753599@ouispeakfashion.com
SUMMARY:ソウルファッションウィーク 2025年春夏コレクション
DESCRIPTION:ソウルファッションウィーク 2025年春夏は、2024年9月3日（火）から9月7日（土）までの5日間に渡り開催される。 \n各ブランドは、「2025年春夏コレクション」をランウェイショー、プレゼンテーション、デジタル形式のいずれかで発表する。
URL:https://ouispeakfashion.com/jp/event/seoul-fashion-week-ss25/
CATEGORIES:Fashion Week
ATTACH;FMTTYPE=image/png:https://ouispeakfashion.com/jp/wp-content/uploads/2024/05/Screenshot-2024-05-01-at-5.34.26 PM.png
END:VEVENT
BEGIN:VEVENT
DTSTART;VALUE=DATE:20240902
DTEND;VALUE=DATE:20240908
DTSTAMP:20260420T150547
CREATED:20240822T021124Z
LAST-MODIFIED:20240822T031229Z
UID:32445-1725235200-1725753599@ouispeakfashion.com
SUMMARY:楽天ファッションウィーク東京 2025年春夏コレクション
DESCRIPTION:『楽天ファッションウィーク東京 2025年春夏コレクション』は、2024年9月2日（月）～9月7日（土）の6日間にわたり開催される。 \n\n\n\n今シーズンは計33ブランドが参加し、そのうち26ブランドがフィジカルでの発表、7ブランドがデジタル形式での発表を行う。なお、ショーのメイン会場は、前シーズンに引き続き渋谷ヒカリエと表参道ヒルズとなっている。 \n\n\n\n楽天ファッションウィーク東京 2025年春夏コレクション（Rakuten Fashion Week Tokyo 2025 Spring/Summer）の日程＆ブランドラインナップはこちらから。 \n\n\n\n\n\n\n\n\n\n\n\n\n\n 
URL:https://ouispeakfashion.com/jp/event/tokyofashionweek-ss25/
LOCATION:渋谷ヒカリエ\, 東京都\, 渋谷区渋谷2丁目21-1\, 150-8510\, Japan
CATEGORIES:Fashion Week
ATTACH;FMTTYPE=image/png:https://ouispeakfashion.com/jp/wp-content/uploads/2024/08/Rakuten-Fashion-Week-Tokyo.png
END:VEVENT
BEGIN:VEVENT
DTSTART;VALUE=DATE:20240819
DTEND;VALUE=DATE:20240822
DTSTAMP:20260420T150547
CREATED:20240519T184405Z
LAST-MODIFIED:20240519T184405Z
UID:20086-1724025600-1724284799@ouispeakfashion.com
SUMMARY:マジック・ラスベガス（MAGIC Las Vegas）
DESCRIPTION:マジック・ラスベガスは、ラスベガスを含む様々な場所で開催される主要なファッション見本市である。ファッションブランド、小売業者、業界関係者が一堂に会し、ファッション業界の最新トレンド、イノベーション、製品を紹介する。
URL:https://ouispeakfashion.com/jp/event/magic-las-vegas/
LOCATION:Las Vegas Convention Center\, 3150 Paradise Rd\, Las Vegas\, NV\, 89109\, United States
CATEGORIES:Trade Show
ATTACH;FMTTYPE=image/webp:https://ouispeakfashion.com/jp/wp-content/uploads/2024/05/OSF-Main-9-1.webp
END:VEVENT
BEGIN:VEVENT
DTSTART;VALUE=DATE:20240813
DTEND;VALUE=DATE:20240815
DTSTAMP:20260420T150547
CREATED:20240519T182724Z
LAST-MODIFIED:20240731T205002Z
UID:20082-1723507200-1723679999@ouispeakfashion.com
SUMMARY:テックスワールド＆アパレル・ソーシング・ロサンゼルス（TEXWORLD AND APPAREL SOURCING LOS ANGELES）
DESCRIPTION:
URL:https://ouispeakfashion.com/jp/event/texworld-and-apparel-sourcing-los-angeles/
LOCATION:California Market Center\, 110 E 9th St\, Los Angeles\, CA\, 90079\, United States
CATEGORIES:Trade Show
ATTACH;FMTTYPE=image/jpeg:https://ouispeakfashion.com/jp/wp-content/uploads/2024/05/1-1-scaled.jpg
END:VEVENT
BEGIN:VEVENT
DTSTART;VALUE=DATE:20240805
DTEND;VALUE=DATE:20240810
DTSTAMP:20260420T150547
CREATED:20240430T151858Z
LAST-MODIFIED:20240520T105320Z
UID:19693-1722816000-1723247999@ouispeakfashion.com
SUMMARY:コペンハーゲン ファッションウィーク 2025年春夏コレクション
DESCRIPTION:コペンハーゲン ファッションウィーク2025年春夏コレクションは、2024年8月5日〜9日までの5日間に渡り開催される。
URL:https://ouispeakfashion.com/jp/event/copenhagen-fashion-week-spring-summer-2025/
CATEGORIES:Fashion Week
ATTACH;FMTTYPE=image/png:https://ouispeakfashion.com/jp/wp-content/uploads/2024/04/OSF-Main-10-1.png
END:VEVENT
BEGIN:VEVENT
DTSTART;VALUE=DATE:20240701
DTEND;VALUE=DATE:20240705
DTSTAMP:20260420T150547
CREATED:20240519T182307Z
LAST-MODIFIED:20240520T105526Z
UID:20079-1719792000-1720137599@ouispeakfashion.com
SUMMARY:ベルリン ファッションウィーク 2025年春夏コレクション
DESCRIPTION:ベルリン ファッション・ウィーク2025年春夏は、2024年7月1日から4日までの4日間開催される。各ブランドはランウェイショーやプレゼンテーション形式で2025年春夏コレクションを発表する。
URL:https://ouispeakfashion.com/jp/event/berlin-fashion-week-spring-summer-2025/
CATEGORIES:Fashion Week
ATTACH;FMTTYPE=image/webp:https://ouispeakfashion.com/jp/wp-content/uploads/2024/05/OSF-Main-17.webp
END:VEVENT
BEGIN:VEVENT
DTSTART;TZID=UTC:20240624T100000
DTEND;TZID=UTC:20240627T180000
DTSTAMP:20260420T150547
CREATED:20240428T184245Z
LAST-MODIFIED:20240429T072312Z
UID:19615-1719223200-1719511200@ouispeakfashion.com
SUMMARY:パリ オートクチュールウィーク 2024-2025年秋冬コレクション
DESCRIPTION:「パリ オートクチュール ウィーク2024年-2025年 秋冬」は6月24日から27日までの4日間に渡って開催され、30のファッションブランドがランウェイで最新コレクションを発表する。
URL:https://ouispeakfashion.com/jp/event/paris-haute-couture-week-fall-winter-2024/
CATEGORIES:Fashion Week
ATTACH;FMTTYPE=image/png:https://ouispeakfashion.com/jp/wp-content/uploads/2024/04/Screenshot-2024-04-26-at-3.19.20 PM.png
END:VEVENT
BEGIN:VEVENT
DTSTART;TZID=UTC:20240618T153000
DTEND;TZID=UTC:20240623T173000
DTSTAMP:20260420T150547
CREATED:20240429T072158Z
LAST-MODIFIED:20240429T131803Z
UID:19626-1718724600-1719163800@ouispeakfashion.com
SUMMARY:パリ ファッションウィークメンズ 2025年 春夏コレクション
DESCRIPTION:パリファッションウィークメンズ 2025年 春夏コレクション（PARIS FASHION WEEK MEN’S Spring/Summer 2025）が、パリ現地時間の2024年6月18日〜6月23日までの6日間に渡って開催される。各ブランドは、ランウェイショーもしくはプレゼンテーション形式にて、2025年春夏コレクションを発表する。
URL:https://ouispeakfashion.com/jp/event/paris-fashion-week-mens-spring-summer-2025/
CATEGORIES:Fashion Week
ATTACH;FMTTYPE=image/png:https://ouispeakfashion.com/jp/wp-content/uploads/2024/04/Screenshot-2024-04-29-at-11.04.08 AM.png
END:VEVENT
BEGIN:VEVENT
DTSTART;VALUE=DATE:20240614
DTEND;VALUE=DATE:20240619
DTSTAMP:20260420T150547
CREATED:20240517T103644Z
LAST-MODIFIED:20240517T103747Z
UID:20059-1718323200-1718755199@ouispeakfashion.com
SUMMARY:ミラノ ファッション ウィーク メンズ 2025年 春夏コレクション
DESCRIPTION:ミラノ ファッション ウィーク メンズ 2025年 春夏コレクションは、2024年6月18日から23日までの6日間開催される。各ブランドはランウェイショーやプレゼンテーション形式で2025年春夏コレクションを発表する。
URL:https://ouispeakfashion.com/jp/event/milan-fashion-week-menswear-spring-summer-2025/
CATEGORIES:Fashion Week
ATTACH;FMTTYPE=image/jpeg:https://ouispeakfashion.com/jp/wp-content/uploads/2024/05/shutterstock_377382433-scaled.jpg
END:VEVENT
BEGIN:VEVENT
DTSTART;VALUE=DATE:20240611
DTEND;VALUE=DATE:20240615
DTSTAMP:20260420T150547
CREATED:20240429T115758Z
LAST-MODIFIED:20240430T111938Z
UID:19640-1718064000-1718409599@ouispeakfashion.com
SUMMARY:ピッティ・ウォモ（PITTI IMMAGINE UOMO）
DESCRIPTION:ピッティ・ウォモ（PITTI IMMAGINE UOMO）は、イタリアのフローレンスで開催される世界最大級のメンズプレタポルテの見本市。毎年1月と6月に定期開催されており、今年の夏は6月11日から14日の4日間に渡り行われる。
URL:https://ouispeakfashion.com/jp/event/pitti-immagine-uomo-2024/
LOCATION:Fortezza da Basso\, Florence\, Italy
CATEGORIES:Trade Show
ATTACH;FMTTYPE=image/webp:https://ouispeakfashion.com/jp/wp-content/uploads/2024/04/NWS_marine_serre.webp
END:VEVENT
END:VCALENDAR