BEGIN:VCALENDAR
VERSION:2.0
PRODID:-//Oui Speak Fashion Japan (OSF)® [ウィ スピーク ファッション ジャパン] - ECPv6.15.20//NONSGML v1.0//EN
CALSCALE:GREGORIAN
METHOD:PUBLISH
X-WR-CALNAME:Oui Speak Fashion Japan (OSF)® [ウィ スピーク ファッション ジャパン]
X-ORIGINAL-URL:https://ouispeakfashion.com/jp
X-WR-CALDESC:Oui Speak Fashion Japan (OSF)® [ウィ スピーク ファッション ジャパン] のイベント
REFRESH-INTERVAL;VALUE=DURATION:PT1H
X-Robots-Tag:noindex
X-PUBLISHED-TTL:PT1H
BEGIN:VTIMEZONE
TZID:UTC
BEGIN:STANDARD
TZOFFSETFROM:+0000
TZOFFSETTO:+0000
TZNAME:UTC
DTSTART:20230101T000000
END:STANDARD
END:VTIMEZONE
BEGIN:VEVENT
DTSTART;VALUE=DATE:20250429
DTEND;VALUE=DATE:20250430
DTSTAMP:20260420T074929
CREATED:20250227T141425Z
LAST-MODIFIED:20250227T141425Z
UID:71510-1745884800-1745971199@ouispeakfashion.com
SUMMARY:シャネル（Chanel）2026年クルーズショー
DESCRIPTION:シャネル（Chanel）は、「2026年クルーズショー」を、2025年4月29日に、イタリアの美しいコモ湖にて発表する。コモ湖はその壮大なヴィラ群と自然美で知られ、ラグジュアリーブランドがイベントを行う場所としても長年にわたり高い評価を受けている場所だ。 \n詳細はこちらから。
URL:https://ouispeakfashion.com/jp/event/chanel-2026-cruise-show/
LOCATION:Lake Como\, Italy
CATEGORIES:Fashion Show
ATTACH;FMTTYPE=image/png:https://ouispeakfashion.com/jp/wp-content/uploads/2025/02/Chanel-2026-Cruise.png
END:VEVENT
BEGIN:VEVENT
DTSTART;VALUE=DATE:20250417
DTEND;VALUE=DATE:20250418
DTSTAMP:20260420T074929
CREATED:20250312T054754Z
LAST-MODIFIED:20250312T055110Z
UID:75603-1744848000-1744934399@ouispeakfashion.com
SUMMARY:ラルフ ローレン（Ralph Lauren）2025年秋冬ショー
DESCRIPTION:ラルフ ローレン（Ralph Lauren）は、2025年4月17日に、「2025年秋冬ショー」をニューヨークで開催する。ニューヨーク ファッションウィークの公式日程外で行われるこのショーは、昨年9月にハンプトンズで披露された2025年春夏コレクション以来となる。 \n詳細：ラルフ ローレン（Ralph Lauren）、4月17日にニューヨークで「2025年秋冬ショー」を開催へ
URL:https://ouispeakfashion.com/jp/event/ralph-lauren-fw25/
CATEGORIES:Fashion Event
ATTACH;FMTTYPE=image/png:https://ouispeakfashion.com/jp/wp-content/uploads/2025/03/OSF-Main-10-1755x900-1.png
END:VEVENT
BEGIN:VEVENT
DTSTART;VALUE=DATE:20250415
DTEND;VALUE=DATE:20250416
DTSTAMP:20260420T074929
CREATED:20250227T142926Z
LAST-MODIFIED:20250227T142954Z
UID:71517-1744675200-1744761599@ouispeakfashion.com
SUMMARY:ディオール（Dior）2025年プレフォールショー
DESCRIPTION:ディオール（Dior）は、2025年4月15日（火）に、「2025年 プレフォールコレクション」を、日本の京都で発表する。ショーの舞台となるのは、世界遺産にも登録されている歴史的な寺院、東寺とその庭園だ。 \n詳細は、こちらから。
URL:https://ouispeakfashion.com/jp/event/dior-2025-pre-fall-show/
LOCATION:東寺\, 南区九条町１\, 京都市\, 京都府\, Japan
CATEGORIES:Fashion Week
ATTACH;FMTTYPE=image/png:https://ouispeakfashion.com/jp/wp-content/uploads/2025/02/Dior-1755x900-1.png
END:VEVENT
BEGIN:VEVENT
DTSTART;VALUE=DATE:20250408
DTEND;VALUE=DATE:20250414
DTSTAMP:20260420T074929
CREATED:20250408T021155Z
LAST-MODIFIED:20250408T021408Z
UID:80190-1744070400-1744588799@ouispeakfashion.com
SUMMARY:ミラノサローネ 2025（第63回ミラノ国際家具見本市）
DESCRIPTION:世界最大級の国際家具・デザイン見本市として知られる、「ミラノサローネ 2025（第63回ミラノ国際家具見本市）」は、2025年4月8日（火）〜13日（日）の6日間に渡り、Fiera Milanoおよびミラノ市内各所にて開催される。 \n会期中は、持続可能性、素材の革新、文化的対話をテーマに、展示会、インスタレーション、マスタークラス、トークイベントが実施され、また、ビジネス・文化・ネットワーキングのハブとしての役割も担う。 \n2025年は照明のビエンナーレ「ユーロルーチェ」の開催年でもあり、初の「ユーロルーチェ国際照明フォーラム」も実施。さらに、映画監督パオロ・ソレンティーノやアーティストのエス・デヴリンをはじめとする世界的クリエイターたちによるインスタレーションも見どころの一つだ。 \nチケットは公式サイトより購入可能。来場者向けには実用ガイドや会場内マップも用意されている。
URL:https://ouispeakfashion.com/jp/event/salone-internazionale-del-mobile2025/
LOCATION:Fiera Milano\, Milan\, Rho\, 20017\, Italy
CATEGORIES:Trade Show
ATTACH;FMTTYPE=image/png:https://ouispeakfashion.com/jp/wp-content/uploads/2025/04/OSF-Main-3-3.png
END:VEVENT
BEGIN:VEVENT
DTSTART;VALUE=DATE:20250407
DTEND;VALUE=DATE:20250411
DTSTAMP:20260420T074929
CREATED:20250309T201510Z
LAST-MODIFIED:20250312T080828Z
UID:74542-1743984000-1744329599@ouispeakfashion.com
SUMMARY:2025年4月 ニューヨーク ブライダル ファッションウィーク
DESCRIPTION:2025年4月7日（月）から4月10日（木）までの4日間にわたり、ニューヨークブライダルファッションウィーク（NYBFW）が開催される。 同イベントは、世界中のブライダルデザイナーが最新のウェディングドレスコレクションを発表する場として知られている。 \nニューヨーク ブライダル ファッションウィークの公式スケジュールは、こちらから。
URL:https://ouispeakfashion.com/jp/event/new-york-bridal-fashion-week-april-2025/
CATEGORIES:Fashion Week
ATTACH;FMTTYPE=image/png:https://ouispeakfashion.com/jp/wp-content/uploads/2025/03/1-6.png
END:VEVENT
BEGIN:VEVENT
DTSTART;VALUE=DATE:20250327
DTEND;VALUE=DATE:20250331
DTSTAMP:20260420T074929
CREATED:20250325T040100Z
LAST-MODIFIED:20250325T040100Z
UID:77415-1743033600-1743379199@ouispeakfashion.com
SUMMARY:台北ファッションウィーク 2025年秋冬コレクション
DESCRIPTION:台北ファッションウィーク 2025年秋冬（Taipei Fashion Week Fall/Winter 2025）は、3月27日（木）〜3月30日（日）の4日間に渡り、開催される。同イベントの今季のテーマは、「From Life\, For Life」。台湾の先進的な繊維業界とデザイナーたちの協業により、“持続可能性”と“循環型ファッション”を掲げたビジュアルコンセプトが展開される。
URL:https://ouispeakfashion.com/jp/event/taipeifashionweek-fw25/
CATEGORIES:Fashion Week
ATTACH;FMTTYPE=image/png:https://ouispeakfashion.com/jp/wp-content/uploads/2025/03/Taipei-Fashion-Week-2025.png
END:VEVENT
BEGIN:VEVENT
DTSTART;VALUE=DATE:20250325
DTEND;VALUE=DATE:20250402
DTSTAMP:20260420T074929
CREATED:20250326T143209Z
LAST-MODIFIED:20250326T143209Z
UID:77579-1742860800-1743551999@ouispeakfashion.com
SUMMARY:上海ファッションウィーク 2025年秋冬コレクション
DESCRIPTION:上海ファッションウィーク 2025年秋冬コレクションは、2025年3月25日（水）から4月1日（火）の8日間にわたって開催される。 \n\n\n\n\n\n\n\n\n今シーズンは、「Innovascape（イノヴァスケープ）」をテーマに、約100本のデビューショーに加え、数多くのブランド展示や国際的なコラボレーションが展開されている。
URL:https://ouispeakfashion.com/jp/event/shanghai-fashion-week-fw25/
CATEGORIES:Fashion Week
ATTACH;FMTTYPE=image/png:https://ouispeakfashion.com/jp/wp-content/uploads/2025/03/OSF-Main-6-1.png
END:VEVENT
BEGIN:VEVENT
DTSTART;VALUE=DATE:20250318
DTEND;VALUE=DATE:20250320
DTSTAMP:20260420T074929
CREATED:20250227T134136Z
LAST-MODIFIED:20250227T134437Z
UID:71496-1742256000-1742428799@ouispeakfashion.com
SUMMARY:トラノイ東京（TRANOÏ TOKYO）2025年秋冬
DESCRIPTION:パリ発の著名なファッション展示会「トラノイ（TRANOÏ）」が、2025年3月18日（火）と19日（水）の2日間、東京・ベルサール渋谷ファーストにて「トラノイ東京（TRANOÏ TOKYO） 2025年秋冬コレクション」を開催する。第2回目となる今回は、国内外から約170のブランドが参加予定だ。 \nまた、2025年秋冬の特別ゲストとして、フランスのブランド「ゴシェール（GAUCHERE）」と「（ジャンヌ フリオ）JEANNE FRIOT」が参加し、最新コレクションを披露する。 \n会場となるベルサール渋谷ファーストは、「楽天 ファッションウィーク 東京」が開催される渋谷・表参道エリアに位置しており、ファッション業界関係者やバイヤーにとってアクセスしやすいロケーション。来場には事前登録が必要となるため、公式サイトより申し込みが推奨される。
URL:https://ouispeakfashion.com/jp/event/tranoi-tokyo-2025/
LOCATION:ベルサール渋谷ファースト\, 東１丁目２−２０ 住友不動産渋谷ファーストタワー B1\, 渋谷\, 東京\, 150-0011\, Japan
CATEGORIES:Fashion Tradeshow
ATTACH;FMTTYPE=image/png:https://ouispeakfashion.com/jp/wp-content/uploads/2025/02/OSF-Main-1-9.png
END:VEVENT
BEGIN:VEVENT
DTSTART;VALUE=DATE:20250317
DTEND;VALUE=DATE:20250323
DTSTAMP:20260420T074929
CREATED:20241206T093157Z
LAST-MODIFIED:20241213T145357Z
UID:54754-1742169600-1742687999@ouispeakfashion.com
SUMMARY:楽天ファッションウィーク東京 2025年秋冬コレクション
DESCRIPTION:『楽天ファッションウィーク東京 2025年秋冬コレクション』は、2025年3月17日（月）～3月22日（土）の6日間に渡り開催される。 \n公式会場にはSpiral HallやTODA HALL & CONFERENCE TOKYOが予定されている。
URL:https://ouispeakfashion.com/jp/event/tokyofashionweek-fw25/
CATEGORIES:Fashion Week
ATTACH;FMTTYPE=image/png:https://ouispeakfashion.com/jp/wp-content/uploads/2024/12/OSF-Main-6-2.png
END:VEVENT
BEGIN:VEVENT
DTSTART;VALUE=DATE:20250311
DTEND;VALUE=DATE:20250314
DTSTAMP:20260420T074929
CREATED:20250306T102922Z
LAST-MODIFIED:20250306T103310Z
UID:73260-1741651200-1741910399@ouispeakfashion.com
SUMMARY:ヤーンエキスポ 2025年春 上海
DESCRIPTION:アジアを代表するBtoB向けの糸・繊維業界展示会である「ヤーンエキスポ 2025年春 上海」は、2025年3月11日から13日までの3日間にわたり開催され、業界関係者に向けた包括的なマーケットプレイスを提供する。 \n同展示会には、アジアやヨーロッパ各国のサプライヤーが出展し、コットン、ウール、フラックス、再生フラックス、化学繊維、および糸など、多様な天然繊維およびブレンドヤーン の最新コレクションを披露。さらに、伸縮性のある糸や、ファンシーヤーン、ブレンドヤーン などの特殊製品も展示され、繊維業界の進化するニーズに応える場となる。
URL:https://ouispeakfashion.com/jp/event/yarn-expo-spring/
LOCATION:National Exhibition and Convention Center\, Shanghai\, China
CATEGORIES:Sourcing Tradeshow
ATTACH;FMTTYPE=image/png:https://ouispeakfashion.com/jp/wp-content/uploads/2025/03/Yarn-Expo-Spring.png
END:VEVENT
BEGIN:VEVENT
DTSTART;VALUE=DATE:20250311
DTEND;VALUE=DATE:20250314
DTSTAMP:20260420T074929
CREATED:20240821T200620Z
LAST-MODIFIED:20240822T041318Z
UID:32243-1741651200-1741910399@ouispeakfashion.com
SUMMARY:インターテキスタイル上海アパレルファブリックス– Spring Edition
DESCRIPTION:業界最大級のイベントであるインターテキスタイル上海アパレルファブリックス（Intertextile Shanghai Apparel Fabrics） – Spring Editionは、参加者に特別な体験を提供する展示会だ。今回のエディションで、参加者は以下のようなポイントが期待できる。 \n\n\n\nファッション生地とアクセサリー：世界中から最新のトレンドを求めるバイヤーが集まり、出展者は国別・地域別パビリオンや、ターゲットバイヤーを引きつける専用のプロダクトゾーンで自社の生地やアクセサリーを展示できる。 \n\n\n\n機能性ファッション：機能性とファッションの融合に対する需要が高まっており、スポーツウェア、カジュアルウェア、アウターウェアなどを展示する「Functional Lab」で、この市場トレンドを捉えることが可能である。 \n\n\n\nサステナビリティ：フェアの重要な要素であるサステナビリティは、現在「Texpertise Econogy」として展開されており、経済とエコロジーを組み合わせ、サステナビリティが企業の経済的成功にいかに重要かを示している。「Econogy Hub」ゾーンで展示することができ、これは以前の「All About Sustainability」ゾーンに代わるものである。 \n\n\n\nイノベーションとデジタル変革：テキスタイル業界の変革は加速しており、Intertextileは最新のイノベーションを世界に向けて発信する場を提供する。新設された「Digital Solutions Zone」で、デジタルソリューションを展示することができる。 \n\n\n\n\n\n\n\n\n\n\n\n\n\n 
URL:https://ouispeakfashion.com/jp/event/intertextile-shanghai-apparel-fabrics/
LOCATION:National Exhibition and Convention Center\, Shanghai\, China
CATEGORIES:Trade Show
ATTACH;FMTTYPE=image/png:https://ouispeakfashion.com/jp/wp-content/uploads/2024/08/1.png
ORGANIZER;CN="Messe Frankfurt (HK) Ltd":MAILTO:textile@hongkong.messefrankfurt.com
END:VEVENT
BEGIN:VEVENT
DTSTART;VALUE=DATE:20250306
DTEND;VALUE=DATE:20250310
DTSTAMP:20260420T074929
CREATED:20250227T135514Z
LAST-MODIFIED:20250227T135917Z
UID:71503-1741219200-1741564799@ouispeakfashion.com
SUMMARY:トラノイ パリ（TRANOÏ PARIS）2025年秋冬
DESCRIPTION:トラノイ パリ（TRANOÏ PARIS）は、2025年3月6日（木）～9日（日）の4日間、パレ・ブロンニャール（Palais Brongniart）にて開催される。パリ ファッションウィーク®と同時期に行われるこのB2B向けファッションイベントでは、世界各国の新進気鋭のデザイナーやコンテンポラリーブランドが厳選され、パリの中心で特別な展示が行われる予定だ。 \n今回の2025-26年秋冬コレクションでは、テンプル マガジン（Temple Magazine）とのコラボレーションが決定。アナイス・アリアス（Anaïs Allias）とマルゴー・サラリーノ（Margaux Salarino）によって2018年に設立された同誌は、現代アートにおける多角的なアプローチで知られている。今回のトラノイ パリでは、彼らがアートディレクションを手掛け、斬新でクリエイティブな空間演出を展開する。 \nイベント概要\n\n日程： 2025年3月6日（木）～9日（日）\n時間： 10:00～19:00（最終日は18:00まで）\n会場： パレ・ブロンニャール（Palais Brongniart）\n住所： 16 Place de la Bourse\, 75002 Paris\, France\n\n来場には事前の登録が必要となるため、公式ウェブサイトより申し込みが推奨される。
URL:https://ouispeakfashion.com/jp/event/tranoi-paris-2025/
LOCATION:Palais Brongniart\, 16 Place de la bourse\, Paris\, France
CATEGORIES:Fashion Tradeshow
ATTACH;FMTTYPE=image/png:https://ouispeakfashion.com/jp/wp-content/uploads/2025/02/OSF-Main-3-10.png
END:VEVENT
BEGIN:VEVENT
DTSTART;VALUE=DATE:20250303
DTEND;VALUE=DATE:20250312
DTSTAMP:20260420T074929
CREATED:20240929T150606Z
LAST-MODIFIED:20250304T150334Z
UID:39877-1740960000-1741737599@ouispeakfashion.com
SUMMARY:パリ ファッションウィーク 2025年秋冬コレクション
DESCRIPTION:「パリ ファッションウィーク 2025年秋冬」は、2025年3月3日（月）〜2025年3月11日（火）までの9日間に渡り開催。参加ブランドは「2025年秋冬コレクション」をランウェイショー、プレゼンテーション、デジタル形式のいずれかで発表する。 \nパリ ファッションウィークは、ファッション界における最高峰のイベントであり、世界中のデザイナー、モデル、バイヤー、ファッションジャーナリストが一堂に会する場である。また、世界4大ファッションウィークで発表されるコレクションは、次のシーズンのトレンドを左右する重要なものとなり、多くの注目と期待が寄せられる。 \n「パリ ファッションウィーク 2025年秋冬」の公式スケジュールは、こちらから。
URL:https://ouispeakfashion.com/jp/event/pfw-fw25/
CATEGORIES:Fashion Week
ATTACH;FMTTYPE=image/png:https://ouispeakfashion.com/jp/wp-content/uploads/2024/09/OSF-Main-5-4.png
END:VEVENT
BEGIN:VEVENT
DTSTART;VALUE=DATE:20250226
DTEND;VALUE=DATE:20250301
DTSTAMP:20260420T074929
CREATED:20240821T194627Z
LAST-MODIFIED:20240822T042316Z
UID:32219-1740528000-1740787199@ouispeakfashion.com
SUMMARY:ベトナム国際アパレル・繊維・テキスタイル技術見本市 (VIATT)
DESCRIPTION:ベトナム国際アパレル・繊維・テキスタイル技術見本市 (VIATT) は、アセアン地域におけるテキスタイルバリューチェーン全体を網羅する総合プラットフォームである。アパレル用生地、糸・繊維、衣料品、ホームテキスタイル、技術繊維、テキスタイル加工、プリンティングソリューションなどの供給業者が一堂に集結する。 \n\n\n\n2024年に開催された初回の展示会では、17か国・地域から409の出展者が参加し、17\,262人の来場者を迎えた。 \n\n\n\n\n\n\n\n\n\n\n\n \n\n\n\n\n\n 
URL:https://ouispeakfashion.com/jp/event/2025-viatt/
LOCATION:Saigon Exhibition and Convention Center (SECC)\, Ho Chi Minh City\, Viet Nam
CATEGORIES:Trade Show
ATTACH;FMTTYPE=image/png:https://ouispeakfashion.com/jp/wp-content/uploads/2024/08/2.png
ORGANIZER;CN="Messe Frankfurt (HK) Ltd":MAILTO:textile@hongkong.messefrankfurt.com
END:VEVENT
BEGIN:VEVENT
DTSTART;VALUE=DATE:20250225
DTEND;VALUE=DATE:20250304
DTSTAMP:20260420T074929
CREATED:20241212T074613Z
LAST-MODIFIED:20250223T071336Z
UID:55496-1740441600-1741046399@ouispeakfashion.com
SUMMARY:ミラノ ファッションウィーク 2025年秋冬コレクション
DESCRIPTION:「ミラノ ファッションウィーク 2025年秋冬」は、2025年2月25日（火）〜2025年3月3日（月）までの7日間に渡り開催される。この期間中、各ブランドやデザイナーが「2025年秋冬コレクション」を、ランウェイショー、プレゼンテーション、デジタル形式などで発表する。 \nミラノファッションウィーク（MFW）は、ニューヨーク、パリ、ロンドンと並ぶ「ビッグ4」の一つとして知られ、世界で最も注目されるファッションイベントの一つだ。毎年2月と9月に開催され、次のシーズンに向けた最新コレクションが発表される。イベントはイタリアモード協会（Camera Nazionale della Moda Italiana）が主催し、フェンディ（Fendi）やプラダ（Prada）、グッチ（Gucci）といった名門ブランドに加え、新しい風を吹き込む新進気鋭デザイナーも参加する。 \n「ミラノ ファッションウィーク 2025年秋冬」の公式スケジュールはこちらから。
URL:https://ouispeakfashion.com/jp/event/mfw-fw25/
CATEGORIES:Fashion Week
ATTACH;FMTTYPE=image/png:https://ouispeakfashion.com/jp/wp-content/uploads/2025/02/OSF-Main-11.png
END:VEVENT
BEGIN:VEVENT
DTSTART;VALUE=DATE:20250220
DTEND;VALUE=DATE:20250225
DTSTAMP:20260420T074929
CREATED:20241014T101951Z
LAST-MODIFIED:20241217T123307Z
UID:42264-1740009600-1740441599@ouispeakfashion.com
SUMMARY:ロンドン ファッションウィーク 2025年秋冬コレクション
DESCRIPTION:ロンドン ファッションウィーク 2025年秋冬コレクションは、2025年2月20日から2025年2月24日の5日間に渡って開催される。 \nロンドンファッションウィーク（LFW）は、ニューヨーク、パリ、ミラノと並ぶ「ビッグ4」の世界的なファッションイベントの一つであり、各ブランドがランウェイショー、プレゼンテーション、デジタル形式で最新コレクションを発表する。毎年2月と9月に行われ、バーバリー（Burberry）、ヴィヴィアン ウエストウッド（Vivienne Westwood）、アレキサンダー マックイーン（Alexander McQueen）などの象徴的なファッションハウスと新進気鋭デザイナーの両方を紹介し、その多様性、創造性、革新性で知られている。 \nロンドン ファッションウィーク 2025年秋冬の公式スケジュールと参加ブランドはこちらから。
URL:https://ouispeakfashion.com/jp/event/lfw-fw25/
CATEGORIES:Fashion Week
ATTACH;FMTTYPE=image/png:https://ouispeakfashion.com/jp/wp-content/uploads/2024/10/OSF-Main-5-4.png
END:VEVENT
BEGIN:VEVENT
DTSTART;VALUE=DATE:20250206
DTEND;VALUE=DATE:20250212
DTSTAMP:20260420T074929
CREATED:20241211T140628Z
LAST-MODIFIED:20241211T141550Z
UID:55321-1738800000-1739318399@ouispeakfashion.com
SUMMARY:ニューヨークファッションウィーク 2025年秋冬コレクション
DESCRIPTION:「ニューヨーク ファッションウィーク 2025年秋冬」は、2025年2月6日（木）から2月11日（火）の6日間にわたり開催される。この期間中、各ブランドやデザイナーが「2025年秋冬コレクション」を、ランウェイショー、プレゼンテーション、デジタル形式などで発表する。 \n\n\n\n\n\n\nニューヨークファッションウィーク（NYFW）は、パリ、ミラノ、ロンドンと並ぶ「ビッグ4」の一つとして知られ、世界で最も権威のあるファッションイベントの一つだ。毎年2月と9月に開催され、次のシーズンに向けた最新コレクションが発表される。イベントはアメリカファッションデザイナー協議会（CFDA）が主催し、確立されたデザイナーから新進気鋭のデザイナーまで、多様なブランドが参加する。
URL:https://ouispeakfashion.com/jp/event/nyfw-2025fw/
CATEGORIES:Fashion Week
ATTACH;FMTTYPE=image/png:https://ouispeakfashion.com/jp/wp-content/uploads/2024/12/New-York-Fashion-Week-2025-FallWinter.png
END:VEVENT
BEGIN:VEVENT
DTSTART;VALUE=DATE:20250131
DTEND;VALUE=DATE:20250204
DTSTAMP:20260420T074929
CREATED:20241014T094240Z
LAST-MODIFIED:20241014T094240Z
UID:42259-1738281600-1738627199@ouispeakfashion.com
SUMMARY:ベルリンファッションウィーク 2025年秋冬コレクション
DESCRIPTION:ベルリンファッションウィーク（Berlin Fashion Week）2025年秋冬コレクションは、2025年1月31日から2月3日までの4日間に渡って開催される。 \nベルリンファッションウィークは、毎年1月と7月に開催されるドイツの主要なファッションイベントであり、注目の新進デザイナーやクリエイティブな才能の発表の場である。確立されたブランドとアバンギャルドなデザイナーが融合し、サステナビリティや革新的なファッションコンセプトに焦点を当てている。ランウェイショーやトレードフェア、展示会などが行われ、世界中からファッション業界のプロフェッショナルやメディア、インフルエンサーを惹きつけている。
URL:https://ouispeakfashion.com/jp/event/berlin-fashion-week-fw25/
CATEGORIES:Fashion Week
ATTACH;FMTTYPE=image/png:https://ouispeakfashion.com/jp/wp-content/uploads/2024/10/Berlin-Fashion-Week.png
END:VEVENT
BEGIN:VEVENT
DTSTART;VALUE=DATE:20250127
DTEND;VALUE=DATE:20250201
DTSTAMP:20260420T074929
CREATED:20241017T110522Z
LAST-MODIFIED:20241217T082342Z
UID:42680-1737936000-1738367999@ouispeakfashion.com
SUMMARY:コペンハーゲン ファッションウィーク 2025年秋冬コレクション
DESCRIPTION:コペンハーゲンファッションウィーク2025年秋冬コレクション（Copenhagen Fashion Week Fall/Winter 2025）は、2025年1月27日から31日に開催される。 \n北欧のトップデザイナーらが集うこのイベントは、ファッションの革新と持続可能性に焦点を当てたイベントだ。ショーやプレゼンテーションを通じて、創造的なコレクションと責任あるプラクティスが発信され、新進デザイナーの支援も行われる。 \nコペンハーゲンファッションウィーク2025年秋冬コレクションの詳細なスケジュールは、こちらから。
URL:https://ouispeakfashion.com/jp/event/copenhagen-fashion-week-fw25/
CATEGORIES:Fashion Week
ATTACH;FMTTYPE=image/png:https://ouispeakfashion.com/jp/wp-content/uploads/2024/10/Black-and-Ivory-Modern-Name-YouTube-Channel-Art-1.png
END:VEVENT
BEGIN:VEVENT
DTSTART;VALUE=DATE:20250127
DTEND;VALUE=DATE:20250131
DTSTAMP:20260420T074929
CREATED:20240930T182631Z
LAST-MODIFIED:20250103T083359Z
UID:40437-1737936000-1738281599@ouispeakfashion.com
SUMMARY:パリ オートクチュールウィーク 2025年春夏コレクション
DESCRIPTION:パリ オートクチュールウィーク 2025年春夏コレクションは、2025年1月27日（月）から1月30日（木）までの4日間に渡って開催される。各ブランドは、ランウェイショーまたはプレゼンテーション形式でオートクチュールの2025年春夏コレクションを発表する。 \n「パリ オートクチュールウィーク 2025年春夏」の公式日程と参加ブランドはこちらから。
URL:https://ouispeakfashion.com/jp/event/paris-haute-couture-week-spring-summer-2025/
CATEGORIES:Fashion Week
ATTACH;FMTTYPE=image/png:https://ouispeakfashion.com/jp/wp-content/uploads/2024/10/OSF-Main-11.png
END:VEVENT
BEGIN:VEVENT
DTSTART;VALUE=DATE:20250121
DTEND;VALUE=DATE:20250127
DTSTAMP:20260420T074929
CREATED:20240929T171656Z
LAST-MODIFIED:20250131T202944Z
UID:39896-1737417600-1737935999@ouispeakfashion.com
SUMMARY:パリ ファッションウィーク メンズ 2025年秋冬コレクション
DESCRIPTION:パリ ファッションウィーク メンズ 2025年秋冬コレクション（Paris Fashion Week Menswear Fall/Winter 2025）は、パリ現地時間の2025年1月21日（火）から2025年1月26日（日）までの6日間に渡り開催される。参加ブランドは「2025年秋冬コレクション」をランウェイショーまたはプレゼンテーション形式で発表する。 \nパリ ファッションウィーク メンズ 2025年秋冬の公式スケジュールと参加ブランドはこちらから。
URL:https://ouispeakfashion.com/jp/event/paris-fashion-week-menswear-fall-winter-2025/
CATEGORIES:Fashion Week
ATTACH;FMTTYPE=image/png:https://ouispeakfashion.com/jp/wp-content/uploads/2024/09/3-1.png
END:VEVENT
BEGIN:VEVENT
DTSTART;VALUE=DATE:20250117
DTEND;VALUE=DATE:20250122
DTSTAMP:20260420T074929
CREATED:20241213T143955Z
LAST-MODIFIED:20250115T212251Z
UID:55546-1737072000-1737503999@ouispeakfashion.com
SUMMARY:ミラノ ファッションウィーク メンズ 2025年秋冬コレクション
DESCRIPTION:ミラノ ファッションウィーク メンズ 2025年秋冬コレクションは、2025年1月17日から2025年1月21日の5日間に渡り開催される。 \nミラノファッションウィーク メンズ（Milano Moda Uomo）は、メンズファッションに特化したイベントで、毎年1月と6月に行われる。イタリアファッション協会が主催し、ジョルジオ アルマーニ（Giorgio Armani）、プラダ（Prada）、グッチ（Gucci）、ドルチェ＆ガッバーナ（Dolce & Gabbana）、ヴェルサーチ（Versace）などの著名ブランドが参加し、最新のコレクションを発表している。
URL:https://ouispeakfashion.com/jp/event/mfw-mens-fw25/
CATEGORIES:Fashion Show
ATTACH;FMTTYPE=image/png:https://ouispeakfashion.com/jp/wp-content/uploads/2024/12/OSF-Main.png
END:VEVENT
BEGIN:VEVENT
DTSTART;VALUE=DATE:20250114
DTEND;VALUE=DATE:20250118
DTSTAMP:20260420T074929
CREATED:20241015T121750Z
LAST-MODIFIED:20241017T114051Z
UID:42385-1736812800-1737158399@ouispeakfashion.com
SUMMARY:ピッティ・ウォモ 107
DESCRIPTION:ピッティ・ウオモ（Pitti Immagine Uomo）は、毎年2回イタリアのフィレンチェで開催される世界有数のメンズファッションの祭典だ。第107回目のピッティ・ウオモは、2025年1月14日から2025年1月17日の4日間に渡って開かれる。 \nまた、MM6 メゾン マルジェラ（MM6 Maison Margiela）がゲストデザイナーを務め、イベントのために特別にデザインしたメンズコレクションを発表する予定である。
URL:https://ouispeakfashion.com/jp/event/pitti-immagine-uomo107/
CATEGORIES:Fashion Tradeshow
ATTACH;FMTTYPE=image/png:https://ouispeakfashion.com/jp/wp-content/uploads/2024/10/1-5.png
END:VEVENT
BEGIN:VEVENT
DTSTART;VALUE=DATE:20250106
DTEND;VALUE=DATE:20250108
DTSTAMP:20260420T074929
CREATED:20241017T104945Z
LAST-MODIFIED:20241017T113657Z
UID:42676-1736121600-1736294399@ouispeakfashion.com
SUMMARY:マジック マイアミ
DESCRIPTION:マジック マイアミ（MAGIC Miami）は、2025年1月6日から7日にマイアミ・コンベンションセンターで開催される、即時仕入れに焦点を当てたウィメンズマーケットイベントだ。 \nトレンドを意識したアパレル、フットウェア、アクセサリー、ホーム、ビューティーブランドが出展され、ホリデー後のリテールの在庫補充や新しいトレンド探索、業界内の重要なつながりを築く場を提供する。また、手頃な価格帯からミドルレンジまで、幅広いコレクションが揃っている。
URL:https://ouispeakfashion.com/jp/event/magic-miami%e2%88%922025/
LOCATION:Miami Convention Center\, Miami\, FL\, United States
CATEGORIES:Fashion Tradeshow
ATTACH;FMTTYPE=image/png:https://ouispeakfashion.com/jp/wp-content/uploads/2024/10/OSF-Main-7-5.png
END:VEVENT
BEGIN:VEVENT
DTSTART;VALUE=DATE:20241211
DTEND;VALUE=DATE:20241213
DTSTAMP:20260420T074929
CREATED:20241017T103230Z
LAST-MODIFIED:20241017T103230Z
UID:42670-1733875200-1734047999@ouispeakfashion.com
SUMMARY:ブロッサム・プルミエール・ヴィジョン 2026年春夏
DESCRIPTION:ブロッサム・プルミエール・ヴィジョン （Blossom Première Vision）は、2024年12月11日から12日にかけてパリのカルー・デュ・タンプルで開催されるファッション業界向けのプレコレクションイベント。 \n2026年春夏シーズンのプレコレクションを展示するグローバルなテキスタイル、ファブリック、アクセサリーのトップ企業が集結する。このイベントは、イノベーションと高品質な素材に焦点を当て、業界の専門家向けに新しいトレンドを紹介する。
URL:https://ouispeakfashion.com/jp/event/%e3%83%96%e3%83%ad%e3%83%83%e3%82%b5%e3%83%a0%e3%83%bb%e3%83%97%e3%83%ab%e3%83%9f%e3%82%a8%e3%83%bc%e3%83%ab%e3%83%bb%e3%83%b4%e3%82%a3%e3%82%b8%e3%83%a7%e3%83%b3-2026%e5%b9%b4%e6%98%a5%e5%a4%8f/
LOCATION:Le Carreau du Temple\, 4 rue Eugène Spuller\, Paris\, 75003\, France
CATEGORIES:Sourcing Tradeshow
ATTACH;FMTTYPE=image/png:https://ouispeakfashion.com/jp/wp-content/uploads/2024/10/BLOSSOM-PREMIERE-VISION.png
END:VEVENT
BEGIN:VEVENT
DTSTART;VALUE=DATE:20241204
DTEND;VALUE=DATE:20241206
DTSTAMP:20260420T074929
CREATED:20241017T101903Z
LAST-MODIFIED:20241017T103509Z
UID:42664-1733270400-1733443199@ouispeakfashion.com
SUMMARY:デニム・プルミエール・ヴィジョン・ミラノ 2026年春夏
DESCRIPTION:デニム・プルミエール・ヴィジョン・ミラノ（Denim Première Vision Milan）は、2024年12月4日から5日にかけてミラノのスーパースタジオ・ピウで開催される、デニム業界の最新トレンドを紹介するイベント。 \n来場者は、2026年春夏コレクションを展示する様々なブランドや若手デザイナーによる展示を通じて、イノベーションに触れることが出来る。またワークショップやカンファレンスも開催され、物理的なイベントとオンライン市場を組み合わせたハイブリッド体験が提供される。
URL:https://ouispeakfashion.com/jp/event/denim-premiere-vision-milan/
LOCATION:Superstudio Più\, Milan\, Italy
CATEGORIES:Fashion Tradeshow
ATTACH;FMTTYPE=image/png:https://ouispeakfashion.com/jp/wp-content/uploads/2024/10/OSF-Main-5-10.png
END:VEVENT
BEGIN:VEVENT
DTSTART;VALUE=DATE:20241120
DTEND;VALUE=DATE:20241122
DTSTAMP:20260420T074929
CREATED:20241015T104242Z
LAST-MODIFIED:20241015T104242Z
UID:42366-1732060800-1732233599@ouispeakfashion.com
SUMMARY:パフォーマンス デイズ（米国、ポートランド）
DESCRIPTION:米国、ポートランドにて開催されるパフォーマンス デイズ（PERFORMANCE DAYS（PERFORMANCE DAYS in Portland\, USA）は、スポーツ、アウトドア、アクティブライフスタイル向けの機能性ファブリックや素材に特化した展示会である。今シーズンは、2024年11月20日から21日の2日間にかけて、オレゴン・コンベンション・センターにて行われる。 \nポートランドで開かれるパフォーマンス デイズの主な特徴は以下の通り： \n\n機能性ファブリックの展示：このイベントでは、吸湿速乾、防風、防水、サステナブルな素材など、パフォーマンス性の高い最新のテキスタイルが紹介される。スポーツ、アウトドア、アスレジャー向けの最先端の素材を展示する出展者が集まる。\nサステナビリティ：パフォーマンス デイズでは、サステナビリティが大きな焦点となっており、環境に優しい素材や技術を紹介する出展者が多く参加している。リサイクル素材や生分解性のファブリック、環境負荷を低減する製造技術などが展示される。\n革新的な技術：この展示会では、スマートファブリックや通気性、温度調整機能を備えた素材など、テキスタイル技術の進化が強調される。これらの革新が、運動能力や快適性をどのように向上させるかを体験できる。\n教育セミナーやワークショップ：イベント中には、業界リーダーがファブリック技術やサステナビリティ、アクティブウェアやアウトドア産業のトレンドや課題について議論するセミナーやワークショップ、専門家によるパネルディスカッションが行われる。\nネットワーキングの機会：パフォーマンス デイズは、スポーツウェアやアウトドア業界のデザイナー、バイヤー、プロダクトマネージャー、ファブリックサプライヤーにとって重要なネットワーキングの場であり、新たなパートナーシップを築き、市場トレンドを把握する機会を提供する。\nトレンドフォーラム：この展示会では、今後のシーズンに向けた素材やカラーのトレンドがキュレーションされた「トレンドフォーラム」も開催され、パフォーマンスアパレル市場におけるデザインの方向性に関する洞察が得られる。
URL:https://ouispeakfashion.com/jp/event/2024-performance-days-in-portland/
LOCATION:Oregon Convention Center\, Portland\, OR\, United States
CATEGORIES:Sourcing Tradeshow
ATTACH;FMTTYPE=image/png:https://ouispeakfashion.com/jp/wp-content/uploads/2024/10/パフォーマンス-デイズ.png
END:VEVENT
BEGIN:VEVENT
DTSTART;VALUE=DATE:20241119
DTEND;VALUE=DATE:20241124
DTSTAMP:20260420T074929
CREATED:20241014T084057Z
LAST-MODIFIED:20241014T084057Z
UID:42256-1731974400-1732406399@ouispeakfashion.com
SUMMARY:2024年度 マイアミ ファッションウィーク（MIAFW）
DESCRIPTION:アメリカで2番目に重要なファッションイベントとされているマイアミファッションウィーク（MIAFW）。2024年度は、11月19日から11月23日の４日間に渡って開催される。 \nこのイベントは、ファッション、美容、音楽、アート、チャリティー、最新トレンド、ガストロノミー、ラグジュアリー、ライフスタイルが融合する場とされ、会期中は、200以上のメディア、マイアミのトップVIP、6\,000人以上の来場者が参加する。
URL:https://ouispeakfashion.com/jp/event/miafw-2024/
CATEGORIES:Fashion Week
ATTACH;FMTTYPE=image/png:https://ouispeakfashion.com/jp/wp-content/uploads/2024/10/Miami-Fashion-Week.png
END:VEVENT
BEGIN:VEVENT
DTSTART;VALUE=DATE:20241108
DTEND;VALUE=DATE:20241112
DTSTAMP:20260420T074929
CREATED:20241015T102540Z
LAST-MODIFIED:20241015T102540Z
UID:42361-1731024000-1731369599@ouispeakfashion.com
SUMMARY:2024年11月 テックスワールド アディスアベバ
DESCRIPTION:テックスワールド アディスアベバ（Texworld Addis Ababa）は、エチオピアおよびアフリカ全域の繊維・アパレル産業に焦点を当てた展示会である。今シーズンは、2024年11月8日から2024年11月11日の4日間に渡って開催される。 \n世界的に展開しているテックスワールドブランドの一部として、テックスワールド アディスアベバは、製造業者、バイヤー、業界関係者が集まり、アフリカの繊維とファッション分野でのビジネス機会を探るためのプラットフォームを提供している。 \nテックスワールド アディスアベバの主な特徴は以下の通り： \n\n繊維・アパレルの調達：この展示会には、地元および国際的な出展者が集まり、繊維業界の様々なセグメント（生地、繊維、アクセサリー、既製服など）を紹介している。バイヤーにとって、アフリカの繊維製造能力を探索するための調達ハブとして機能している。\n持続可能な実践への焦点：他のテックスワールド展示会と同様に、アディスアベバ版でも、持続可能で環境に優しい実践に焦点を当てている。出展者は革新的な素材、オーガニック生地、サステナブルな製造プロセスを紹介している。\nネットワーキングの機会：テックスワールド アディスアベバは、デザイナー、ブランド、卸売業者、製造業者などの業界専門家にとって重要なネットワーキングプラットフォームであり、コラボレーションや知識交換を促進し、アフリカの繊維・アパレル産業の成長を支援している。\n教育的セミナーやワークショップ：展示会では、市場のトレンド、業界の課題、アフリカの繊維産業における機会に焦点を当てたセミナーやワークショップ、パネルディスカッションが開催される。これらのセッションは、参加者に最新の業界動向や将来の展望についての洞察を提供することを目的としている。\n戦略的な立地：エチオピア、特にアディスアベバは、その戦略的な立地、政府の支援、競争力のある労働コストにより、繊維・アパレル生産の成長ハブとなっている。テックスワールド アディスアベバは、これらの利点を強調し、地域への投資を促進している。
URL:https://ouispeakfashion.com/jp/event/2024-texworld-addis-ababa/
CATEGORIES:Sourcing Tradeshow
ATTACH;FMTTYPE=image/png:https://ouispeakfashion.com/jp/wp-content/uploads/2024/10/OSF-Main-7-4.png
END:VEVENT
BEGIN:VEVENT
DTSTART;VALUE=DATE:20241023
DTEND;VALUE=DATE:20241025
DTSTAMP:20260420T074929
CREATED:20241015T095320Z
LAST-MODIFIED:20241015T095747Z
UID:42354-1729641600-1729814399@ouispeakfashion.com
SUMMARY:2024年10月 キングピンズ アムステルダム
DESCRIPTION:キングピンズ アムステルダム（Kingpins Amsterdam）は、オランダのアムステルダムで年に2回開催されるデニムの展示会であり、今シーズンは、10月23日から10月24日の2日間にかけてシュガーファクトリーで行われる。同展示会は、デニムのサプライチェーン全体に焦点を当てており、ファブリックサプライヤー、製造業者、化学会社、デニム工場などが参加する。 \nキングピンズ アムステルダムの主な特徴は次の通り： \n革新的なデニムの紹介：この展示会では、サステナブルで環境に優しい実践に焦点を当てた最先端のデニム技術が紹介される。ブランドやサプライヤーが、最新のファブリック技術、サステナブルな染色プロセス、環境に配慮した製造技術を展示する。 \n出展者：このイベントには、デニム工場、化学サプライヤー、衣料品製造業者、技術プロバイダーなど、業界のリーディングプレイヤーが集結し、参加者は多岐にわたるデニム関連製品やサービスを探索する機会が提供される。 \nサステナビリティ重視：サステナビリティに強く焦点を当てており、水の節約技術やエコフレンドリーな繊維、循環型ファッションの取り組みなど、環境への影響を減らすための革新が多く紹介される。 \nネットワーキングとコラボレーション：Kingpins Amsterdamは、バイヤー、デザイナー、業界の専門家が集まり、アイデアを交換し、パートナーシップを築き、トレンドについて話し合うネットワーキングのハブである。この親密な環境により、深い会話やコラボレーションの機会が促進される。 \n教育プログラム：展示会では、セミナーやワークショップ、パネルディスカッションが行われ、業界のリーダーたちが市場トレンドや革新、サステナビリティ戦略に関する洞察を共有する。これらのプログラムは、参加者に学びやインスピレーションを与える。
URL:https://ouispeakfashion.com/jp/event/kingpins-amsterdam-2024/
LOCATION:Sugarfactory\, Kristalpromenade 7\, Halfweg\, PD\, 1165\, Netherlands
CATEGORIES:Fashion Tradeshow
ATTACH;FMTTYPE=image/png:https://ouispeakfashion.com/jp/wp-content/uploads/2024/10/OSF-Main-5-6.png
END:VEVENT
END:VCALENDAR