BEGIN:VCALENDAR
VERSION:2.0
PRODID:-//Oui Speak Fashion Japan (OSF)® [ウィ スピーク ファッション ジャパン] - ECPv6.15.20//NONSGML v1.0//EN
CALSCALE:GREGORIAN
METHOD:PUBLISH
X-WR-CALNAME:Oui Speak Fashion Japan (OSF)® [ウィ スピーク ファッション ジャパン]
X-ORIGINAL-URL:https://ouispeakfashion.com/jp
X-WR-CALDESC:Oui Speak Fashion Japan (OSF)® [ウィ スピーク ファッション ジャパン] のイベント
REFRESH-INTERVAL;VALUE=DURATION:PT1H
X-Robots-Tag:noindex
X-PUBLISHED-TTL:PT1H
BEGIN:VTIMEZONE
TZID:UTC
BEGIN:STANDARD
TZOFFSETFROM:+0000
TZOFFSETTO:+0000
TZNAME:UTC
DTSTART:20240101T000000
END:STANDARD
END:VTIMEZONE
BEGIN:VTIMEZONE
TZID:Australia/Melbourne
BEGIN:STANDARD
TZOFFSETFROM:+1100
TZOFFSETTO:+1000
TZNAME:AEST
DTSTART:20240406T160000
END:STANDARD
BEGIN:DAYLIGHT
TZOFFSETFROM:+1000
TZOFFSETTO:+1100
TZNAME:AEDT
DTSTART:20241005T160000
END:DAYLIGHT
BEGIN:STANDARD
TZOFFSETFROM:+1100
TZOFFSETTO:+1000
TZNAME:AEST
DTSTART:20250405T160000
END:STANDARD
BEGIN:DAYLIGHT
TZOFFSETFROM:+1000
TZOFFSETTO:+1100
TZNAME:AEDT
DTSTART:20251004T160000
END:DAYLIGHT
BEGIN:STANDARD
TZOFFSETFROM:+1100
TZOFFSETTO:+1000
TZNAME:AEST
DTSTART:20260404T160000
END:STANDARD
BEGIN:DAYLIGHT
TZOFFSETFROM:+1000
TZOFFSETTO:+1100
TZNAME:AEDT
DTSTART:20261003T160000
END:DAYLIGHT
END:VTIMEZONE
BEGIN:VTIMEZONE
TZID:Asia/Tokyo
BEGIN:STANDARD
TZOFFSETFROM:+0900
TZOFFSETTO:+0900
TZNAME:JST
DTSTART:20240101T000000
END:STANDARD
END:VTIMEZONE
BEGIN:VEVENT
DTSTART;VALUE=DATE:20250505
DTEND;VALUE=DATE:20250506
DTSTAMP:20260420T073117
CREATED:20250312T053231Z
LAST-MODIFIED:20250312T054203Z
UID:75596-1746403200-1746489599@ouispeakfashion.com
SUMMARY:メットガラ 2025
DESCRIPTION:2025年のメットガラ（2025 Met Gala）は、2025年5月5日にニューヨークのメトロポリタン美術館で開催され、コスチューム・インスティチュート（The Costume Institute）の年間展覧会のオープニングを飾る。 \n今年のテーマは「Superfine: Tailoring Black Style（華麗なるブラック・スタイル）」。モニカ・L・ミラー（Monica L. Miller）の著書 『Slaves to Fashion: Black Dandyism and the Styling of Black Diasporic Identity』に着想を得たもので、ブラック・ダンディズムの豊かな歴史と文化的意義を探る内容となっている。 \n詳細はこちら：2025年メットガラのテーマは「Superfine: Tailoring Black Style（華麗なるブラック・スタイル）」に
URL:https://ouispeakfashion.com/jp/event/2025-met-gala/
LOCATION:The Metropolitan Museum of Art\, New York\, NY\, United States
CATEGORIES:Fashion Event
ATTACH;FMTTYPE=image/png:https://ouispeakfashion.com/jp/wp-content/uploads/2025/03/2-6-1.png
END:VEVENT
BEGIN:VEVENT
DTSTART;VALUE=DATE:20250514
DTEND;VALUE=DATE:20250517
DTSTAMP:20260420T073117
CREATED:20250419T100324Z
LAST-MODIFIED:20250419T103814Z
UID:82873-1747180800-1747439999@ouispeakfashion.com
SUMMARY:Tokyo Textile Scope 2026 Spring/Summer
DESCRIPTION:日本ファッションウィーク推進機構（JFW）は、2025年5月14日（水）から3日間にわたり、新たな総合テキスタイル展「Tokyo Textile Scope（TTS）2026 Spring/Summer」を東京都立産業貿易センター浜松町館にて初開催する。 \n同展は、これまでのテキスタイル展示会の枠を超え、感性とテクノロジー、産地とグローバル市場をつなぐ“次世代型の出会いと創造の場”として企画された。83社の出展者が、2階から5階までのフロアをフル活用して最新素材を披露し、国内外のバイヤーやデザイナーに向けて日本の繊維の多様性と実力を発信する。 \n同展の詳細はこちらから。
URL:https://ouispeakfashion.com/jp/event/tokyo-textile-scope-2026-spring-summer/
LOCATION:東京都立産業貿易センター 浜松町館\, 東京ポートシティ竹芝オフィスタワー\, 東京都\, 港区海岸１丁目７−１\, 105-7501\, Japan
CATEGORIES:Sourcing Tradeshow
ATTACH;FMTTYPE=image/png:https://ouispeakfashion.com/jp/wp-content/uploads/2025/04/OSF-Main-4-2.png
END:VEVENT
BEGIN:VEVENT
DTSTART;VALUE=DATE:20250515
DTEND;VALUE=DATE:20250516
DTSTAMP:20260420T073117
CREATED:20250503T193339Z
LAST-MODIFIED:20250503T193339Z
UID:85627-1747267200-1747353599@ouispeakfashion.com
SUMMARY:グッチ（Gucci）2026年クルーズショー
DESCRIPTION:グッチ（Gucci）は、2026年クルーズ コレクションのファッションショーを、2025年5月15日にイタリアのフィレンツェにて開催する。ショーのタイトルは「Gucci Firenze」。1921年にブランドが誕生したこの街に敬意を表し、歴史と創造性を繋ぐ特別な一夜となる。 \nブランド創設者グッチオ・グッチ（Guccio Gucci）は、ロンドンの名門ザ・サヴォイ ホテルでの勤務経験を糧に、帰国後、フィレンツェにレザーグッズのショップ兼アトリエを構えた。このルーツを辿り、昨年ブランドは、ロンドンでのクルーズショーを開催。そして今回は、グッチの原点であるフィレンツェに舞台を移し、過去と未来を紡ぐ対話を続けていく。
URL:https://ouispeakfashion.com/jp/event/gucci-2026-cruise-show/
LOCATION:Florence\, Italy
CATEGORIES:Fashion Show
ATTACH;FMTTYPE=image/png:https://ouispeakfashion.com/jp/wp-content/uploads/2025/05/OSF-Main-4.png
END:VEVENT
BEGIN:VEVENT
DTSTART;VALUE=DATE:20250522
DTEND;VALUE=DATE:20250523
DTSTAMP:20260420T073117
CREATED:20250419T084839Z
LAST-MODIFIED:20250419T084839Z
UID:82870-1747872000-1747958399@ouispeakfashion.com
SUMMARY:ルイ ヴィトン（Louis Vuitton）2026年クルーズショー
DESCRIPTION:ルイ ヴィトン（Louis Vuitton）は、2026年クルーズ・コレクションを2025年5月22日（木）にフランスのアヴィニョンで発表する。会場に選ばれたのは、ユネスコ世界遺産に登録されている14世紀のゴシック建築「法王庁宮殿（Palais des Papes）」であり、同地でファッションショーが開催されるのは今回が初めてとなる。 \nウィメンズ・アーティスティック・ディレクターのニコラ・ジェスキエール（Nicolas Ghesquière）が手がけるこの最新コレクションは、歴史的な空間と現代のファッションを融合させた特別な演出となることが期待されている。 \n詳細はこちらから。
URL:https://ouispeakfashion.com/jp/event/louis-vuitton-cruise2026/
LOCATION:Palais des Papes\, Pl. du Palais\, Avignon\, 84000\, France
CATEGORIES:Fashion Show
ATTACH;FMTTYPE=image/png:https://ouispeakfashion.com/jp/wp-content/uploads/2025/04/OSF-Main-3-5.png
END:VEVENT
BEGIN:VEVENT
DTSTART;VALUE=DATE:20250527
DTEND;VALUE=DATE:20250528
DTSTAMP:20260420T073117
CREATED:20250503T195521Z
LAST-MODIFIED:20250503T195521Z
UID:85631-1748304000-1748390399@ouispeakfashion.com
SUMMARY:ディオール（Dior）2026年クルーズショー
DESCRIPTION:2025年5月27日、ディオール（Dior）は、マリア・グラツィア・キウリ（Maria Grazia Chiuri）の故郷であるローマにて2026年クルーズ コレクションを発表する。 \nアテネ、セビリア、メキシコシティ、エディンバラに続く今回の開催地は、イタリアとディオールとの間に長年培われてきた深い文化的つながりを象徴するものであり、その絆は今後も力強く更新されていく。
URL:https://ouispeakfashion.com/jp/event/dior-2026-cruise-show/
LOCATION:Rome\, Italy
CATEGORIES:Fashion Show
ATTACH;FMTTYPE=image/png:https://ouispeakfashion.com/jp/wp-content/uploads/2025/05/OSF-Main-5.png
END:VEVENT
BEGIN:VEVENT
DTSTART;VALUE=DATE:20250611
DTEND;VALUE=DATE:20250612
DTSTAMP:20260420T073117
CREATED:20250222T183618Z
LAST-MODIFIED:20250222T183751Z
UID:70238-1749600000-1749686399@ouispeakfashion.com
SUMMARY:ゼニア（ZEGNA）2026年春夏ショー
DESCRIPTION:イタリアのラグジュアリー・メンズブランド、ゼニア（ZEGNA）は、2025年6月11日に、「2026年春夏ショー」をドバイで開催する。 \nゼニアは、これまでミラノ ファッションウィークで新作を発表してきたが、今回は初めてミラノ以外のスケジュールでコレクションを披露し、イタリアのクラフツマンシップと革新性を示していく。 \n詳細はこちらから：ゼニア（ZEGNA）、2026年春夏コレクションをドバイで発表へ
URL:https://ouispeakfashion.com/jp/event/zegna-ss26/
LOCATION:Dubai\, Dubai\, United Arab Emirates
CATEGORIES:Fashion Show
ATTACH;FMTTYPE=image/jpeg:https://ouispeakfashion.com/jp/wp-content/uploads/2025/02/ZEGNA-SS25-Fashion-Show-June-2024_Milan_HERO.jpg
END:VEVENT
BEGIN:VEVENT
DTSTART;VALUE=DATE:20250617
DTEND;VALUE=DATE:20250618
DTSTAMP:20260420T073117
CREATED:20250220T174825Z
LAST-MODIFIED:20250220T175544Z
UID:69684-1750118400-1750204799@ouispeakfashion.com
SUMMARY:マックス マーラ（Max Mara） 2026年リゾートショー
DESCRIPTION:マックスマーラ（Max Mara）は、「2026年リゾートショー」を、2025年6月17日（火）にイタリアのカゼルタ宮殿で開催する。 \nカゼルタ宮殿は、イタリア・カンパニア州カゼルタに位置し、ナポリから北へ約35kmにある。18世紀にブルボン＝シチリア家が王宮として建設したもので、広大な敷地と壮麗な建築が特徴だ。ヴェルサイユ宮殿を彷彿とさせる庭園を有し、その規模と美しさから世界的に知られている。 \nイベントの詳細はこちらから。
URL:https://ouispeakfashion.com/jp/event/max-mara-2026-resort/
LOCATION:Reggia di Caserta\, Piazza Carlo di Borbone\, Caserta\, CE\, 81100\, Italy
CATEGORIES:Fashion Show
ATTACH;FMTTYPE=image/png:https://ouispeakfashion.com/jp/wp-content/uploads/2025/02/OSF-Main-4-5.png
END:VEVENT
BEGIN:VEVENT
DTSTART;VALUE=DATE:20250617
DTEND;VALUE=DATE:20250621
DTSTAMP:20260420T073117
CREATED:20250326T145048Z
LAST-MODIFIED:20250326T150245Z
UID:77588-1750118400-1750463999@ouispeakfashion.com
SUMMARY:ピッティ・ウォモ 108
DESCRIPTION:ピッティ・ウォモ108（Pitti Uomo 108）は、2025年6月17日（火）から20日（金）まで、イタリア・フィレンツェのフォルテッツァ・ダ・バッソで開催される。 \nピッティ・ウォモは、世界有数のメンズファッションの祭典として知られており、毎年2回、フィレンツェで開催される国際的な展示会として知られ、世界中のブランドやバイヤーが集する。会場では、最新のメンズウェアやアクセサリーが披露されるほか、ビジネスとネットワーキングの場としても高く評価されている。 \nまた今季は、オム プリッセ イッセイ ミヤケ（HOMME PLISSÉ ISSEY MIYAKE）が「名誉招待ブランド（Guest of Honor）」として選出されており、6月18日にフィレンツェ市内で本イベントのために特別に制作されたメンズコレクションを発表する予定である。 \nイベント詳細: \n\n日程: 2025年6月17日（火）～6月20日（金）\n会場: フォルテッツァ・ダ・バッソ（イタリア・フィレンツェ）\n開催時間:\n\n6月17日～19日: 午前9時～午後6時\n6月20日: 午前9時～午後4時\n\n\n\n登録とチケット情報: \n来場者は事前登録とデジタルチケットの購入が推奨される。 チケットはPITTISMARTアプリを通じて購入可能で、購入時期により価格が異なる。 \n\nイベント開始前: 25ユーロ\nイベント期間中: 35ユーロ\n\n 
URL:https://ouispeakfashion.com/jp/event/pitti-uomo-108/
LOCATION:Fortezza da Basso\, Florence\, Italy
CATEGORIES:Fashion Tradeshow
ATTACH;FMTTYPE=image/png:https://ouispeakfashion.com/jp/wp-content/uploads/2025/03/OSF-Main-8-1.png
END:VEVENT
BEGIN:VEVENT
DTSTART;VALUE=DATE:20250620
DTEND;VALUE=DATE:20250625
DTSTAMP:20260420T073117
CREATED:20241014T110106Z
LAST-MODIFIED:20250609T122029Z
UID:42268-1750377600-1750809599@ouispeakfashion.com
SUMMARY:ミラノ ファッションウィーク メンズ 2026年春夏コレクション
DESCRIPTION:『ミラノ ファッションウィーク メンズ 2026年春夏コレクション』は、2025年6月20日から2025年6月24日の5日間に渡り、開催される。 \n「ミラノファッションウィーク メンズ（Milano Moda Uomo）」は、メンズファッションに特化したイベントで、毎年1月と6月に行われる。イタリアファッション協会が主催し、ジョルジオ アルマーニ（Giorgio Armani）、プラダ（Prada）、グッチ（Gucci）、ドルチェ＆ガッバーナ（Dolce & Gabbana）、ヴェルサーチ（Versace）などの著名ブランドが参加し、最新のコレクションを発表している。 \nミラノ ファッションウィーク メンズ 2026年春夏コレクションの公式スケジュールと参加ブランド一覧はこちらから。
URL:https://ouispeakfashion.com/jp/event/mfw-mens-ss26/
CATEGORIES:Fashion Week
ATTACH;FMTTYPE=image/png:https://ouispeakfashion.com/jp/wp-content/uploads/2024/10/Milan-Fashion-Week-Menswear.png
END:VEVENT
BEGIN:VEVENT
DTSTART;VALUE=DATE:20250624
DTEND;VALUE=DATE:20250630
DTSTAMP:20260420T073117
CREATED:20240930T181039Z
LAST-MODIFIED:20250609T122338Z
UID:40360-1750723200-1751241599@ouispeakfashion.com
SUMMARY:パリ・メンズ・ファッションウィーク 2026年春夏コレクション
DESCRIPTION:『パリ・メンズ・ファッションウィーク 2026年春夏コレクション（Paris Fashion Week Menswear Spring/Summer 2026）』は、パリ現地時間の2025年6月24日（火）から6月29日（日）までの6日間に渡り開催される。 \n参加ブランドは「2026年春夏コレクション」をランウェイショーまたはプレゼンテーション形式で発表する。 \n『パリ ファッションウィーク メンズ 2026年春夏コレクション』の公式スケジュールと参加ブランド一覧はこちらから。
URL:https://ouispeakfashion.com/jp/event/paris-fashion-week-menswear-spring-summer-2026/
CATEGORIES:Fashion Week
ATTACH;FMTTYPE=image/png:https://ouispeakfashion.com/jp/wp-content/uploads/2024/09/2.png
END:VEVENT
BEGIN:VEVENT
DTSTART;VALUE=DATE:20250630
DTEND;VALUE=DATE:20250704
DTSTAMP:20260420T073117
CREATED:20250509T080017Z
LAST-MODIFIED:20250509T080224Z
UID:87163-1751241600-1751587199@ouispeakfashion.com
SUMMARY:ベルリン ファッションウィーク 2026年春夏コレクション
DESCRIPTION:ベルリン ファッションウィーク（BERLIN FASHION WEEK）2026年春夏コレクションは、2025年6月30日（月）〜7月3日（木）の4日間に渡って開催される。 \nベルリンならではの実験的かつ多様性に富んだ空気の中で、ファッションとアート、音楽、テクノロジーが融合する同イベントは、伝統的なランウェイの枠を超えた没入型の体験を提供する点でも注目されている。 \nまた、環境意識の高いブランドが集結する「サステナブルファッション」の拠点としても広く知られ、循環型ファッション、エシカル生産、透明性のあるクリエイションを軸に、国内外の関係者の関心を集めている。
URL:https://ouispeakfashion.com/jp/event/berlin-fashion-week-ss26/
CATEGORIES:Fashion Week
ATTACH;FMTTYPE=image/png:https://ouispeakfashion.com/jp/wp-content/uploads/2025/05/OSF-Main-1-4.png
END:VEVENT
BEGIN:VEVENT
DTSTART;VALUE=DATE:20250701
DTEND;VALUE=DATE:20250703
DTSTAMP:20260420T073117
CREATED:20250406T133534Z
LAST-MODIFIED:20250406T134613Z
UID:80009-1751328000-1751500799@ouispeakfashion.com
SUMMARY:エディション・スペシャル・バイ・ラックスパック 2025
DESCRIPTION:エディション・スペシャル・バイ・ラックスパック 2025（Edition Spéciale by LUXE PACK）は、持続可能なパッケージングとサーキュラーエコノミー（循環型経済）に特化した展示会である。ラグジュアリーブランドのための環境配慮型パッケージソリューションを集め、最新のサステナビリティ・イノベーションや素材、デザインに出会える場として注目されている。 \n開催日：2025年7月1日（火）〜2日（水）会場：フランス・パリ カルーゼル・デュ・ルーヴル（Carrousel du Louvre\, Paris） \n展示会への来場バッジの申し込みは、以下のリンクより登録可能。来場者バッジのお申し込みはこちら \n 
URL:https://ouispeakfashion.com/jp/event/edition-speciale-by-luxe-pack-2025/
LOCATION:Venue Carrousel du Louvre\, 99 rue de Rivoli\, Paris\, 75001\, France
CATEGORIES:Sourcing Tradeshow
ATTACH;FMTTYPE=image/png:https://ouispeakfashion.com/jp/wp-content/uploads/2025/04/Edition-Speciale-by-LUXE-PACK-.png
END:VEVENT
BEGIN:VEVENT
DTSTART;VALUE=DATE:20250707
DTEND;VALUE=DATE:20250711
DTSTAMP:20260420T073117
CREATED:20240930T183944Z
LAST-MODIFIED:20250609T125109Z
UID:40440-1751846400-1752191999@ouispeakfashion.com
SUMMARY:パリ オートクチュールウィーク 2025年-2026年秋冬コレクション
DESCRIPTION:『パリ オートクチュールウィーク 2025年-2026年秋冬コレクション』は、パリ現地時間の2025年7月7日（月）から7月10日（木）までの4日間に渡って開催される。各ブランドは、ランウェイショーまたはプレゼンテーション形式でオートクチュールの2025-2026年秋冬コレクションを発表する。 \n『パリ オートクチュールウィーク 2025年-2026年秋冬コレクション』の公式スケジュールと参加ブランド一覧はこちらから。
URL:https://ouispeakfashion.com/jp/event/paris-haute-couture-week-fall-winter-2025-2026/
CATEGORIES:Fashion Week
ATTACH;FMTTYPE=image/png:https://ouispeakfashion.com/jp/wp-content/uploads/2024/10/OSF-Main-12.png
END:VEVENT
BEGIN:VEVENT
DTSTART;VALUE=DATE:20250723
DTEND;VALUE=DATE:20250726
DTSTAMP:20260420T073117
CREATED:20250526T165041Z
LAST-MODIFIED:20250526T165510Z
UID:90804-1753228800-1753487999@ouispeakfashion.com
SUMMARY:テックスワールド & アパレル・ソーシング ニューヨーク 2025（Texworld and Apparel Sourcing NYC 2025）
DESCRIPTION:テックスワールド & アパレル・ソーシング ニューヨーク 2025（Texworld and Apparel Sourcing NYC 2025）は、2025年7月23日（水）〜7月25日（金）の3日間、ニューヨークのジャヴィッツセンターで開催される。 \nこのトレードショーは、テキスタイル、アパレル、アクセサリー分野における国際的な調達イベントとして知られ、業界を牽引する存在だ。会期中は、世界中からメーカーやサプライヤー、ファッション業界のバイヤーが集まり、グローバルなビジネスの場として機能している。 \nまた、サステナビリティに関する最新のイノベーションやトレンド予測、専門的な教育セッションに加え、業界関係者同士のネットワーキングの機会も充実しており、多様な発見と出会いが交差する画期的な機会となっている。 \n来場バッジの申請は、こちらのフォームから。
URL:https://ouispeakfashion.com/jp/event/texworld-and-apparel-sourcing-nyc-2025/
LOCATION:Jacob Javits Convention Center\, 429 11th Ave\, New York\, 10001\, United States
CATEGORIES:Sourcing Tradeshow
ATTACH;FMTTYPE=image/webp:https://ouispeakfashion.com/jp/wp-content/uploads/2025/05/Texworld.webp
END:VEVENT
BEGIN:VEVENT
DTSTART;VALUE=DATE:20250729
DTEND;VALUE=DATE:20250801
DTSTAMP:20260420T073117
CREATED:20250526T170659Z
LAST-MODIFIED:20250526T170659Z
UID:90810-1753747200-1754006399@ouispeakfashion.com
SUMMARY:テックスワールド & アパレル・ソーシング・ロサンゼルス 2025（Texworld and Apparel Sourcing Los Angeles 2025）
DESCRIPTION:テックスワールド & アパレル・ソーシング・ロサンゼルス 2025（Texworld and Apparel Sourcing Los Angeles 2025）は、2025年7月29日（火）〜7月31日（木）の3日間、ロサンゼルスのカリフォルニア・マーケット・センターで開催される。 \nこのトレードショーは、テキスタイル、アパレル、アクセサリー分野における国際的な調達イベントとして知られ、業界を牽引する存在だ。会期中は、世界中からメーカーやサプライヤー、ファッション業界のバイヤーが集まり、グローバルなビジネスの場として機能している。 \nまた、サステナビリティに関する最新のイノベーションやトレンド予測、専門的な教育セッションに加え、業界関係者同士のネットワーキングの機会も充実しており、多様な発見と出会いが交差する画期的な機会となっている。 \n来場バッジの申請は、こちらのフォームから。 \n 
URL:https://ouispeakfashion.com/jp/event/texworld-and-apparel-sourcing-los-angeles-2025/
LOCATION:California Market Center\, 110 E 9th St\, Los Angeles\, CA\, 90079\, United States
CATEGORIES:Fashion Tradeshow,Sourcing Tradeshow
ATTACH;FMTTYPE=image/webp:https://ouispeakfashion.com/jp/wp-content/uploads/2025/05/Texworld_August_13_2024_Event_Photos_-168.webp.2560.webp
END:VEVENT
BEGIN:VEVENT
DTSTART;VALUE=DATE:20250804
DTEND;VALUE=DATE:20250809
DTSTAMP:20260420T073117
CREATED:20250620T132927Z
LAST-MODIFIED:20250719T210419Z
UID:93231-1754265600-1754697599@ouispeakfashion.com
SUMMARY:コペンハーゲン ファッションウィーク 2026年春夏コレクション
DESCRIPTION:コペンハーゲンファッションウィーク2026年春夏コレクション（Copenhagen Fashion Week Spring/Summer 2026）は、2025年8月4日から8日に開催される。 \n北欧のトップデザイナーらが集うこのイベントは、ファッションの革新と持続可能性に焦点を当てたイベントだ。ショーやプレゼンテーションを通じて、創造的なコレクションと責任あるプラクティスが発信され、新進デザイナーの支援も行われる。
URL:https://ouispeakfashion.com/jp/event/copenhagen-fashion-week-spring-summer-2026/
LOCATION:Copenhagen\, Copenhagen\, Denmark
CATEGORIES:Fashion Week
ATTACH;FMTTYPE=image/png:https://ouispeakfashion.com/jp/wp-content/uploads/2025/06/CPHFW.png
END:VEVENT
BEGIN:VEVENT
DTSTART;VALUE=DATE:20250901
DTEND;VALUE=DATE:20250907
DTSTAMP:20260420T073117
CREATED:20250713T085600Z
LAST-MODIFIED:20250713T090102Z
UID:101289-1756684800-1757203199@ouispeakfashion.com
SUMMARY:楽天ファッションウィーク東京 2026年春夏コレクション
DESCRIPTION:『楽天ファッションウィーク東京 2026年春夏コレクション』は、2025年9月1日（月）～9月6日（土）の6日間に渡り開催され、各デザイナーが2026年春夏の最新コレクションをランウェイショーまたはプレゼンテーション形式で発表する。 \nイベントは一般社団法人日本ファッション・ウィーク推進機構（JFWO）が主催し、2019年より楽天がタイトルスポンサーを務めている。2026年春夏シーズンでは、渋谷ヒカリエ ヒカリエホールA・Bをはじめとする公式会場でコレクション発表が行われる。
URL:https://ouispeakfashion.com/jp/event/rakuten-fashionweek-tokyo-ss26/
LOCATION:渋谷ヒカリエ\, 東京都\, 渋谷区渋谷2丁目21-1\, 150-8510\, Japan
CATEGORIES:Fashion Week
ATTACH;FMTTYPE=image/png:https://ouispeakfashion.com/jp/wp-content/uploads/2025/04/OSF-Main-1-3.png
END:VEVENT
BEGIN:VEVENT
DTSTART;VALUE=DATE:20250902
DTEND;VALUE=DATE:20250905
DTSTAMP:20260420T073117
CREATED:20250701T085506Z
LAST-MODIFIED:20250713T083109Z
UID:99854-1756771200-1757030399@ouispeakfashion.com
SUMMARY:インターテキスタイル上海 アパレルファブリックス 秋 2025（Intertextile Shanghai Apparel Fabrics – Autumn Edition）
DESCRIPTION:インターテキスタイル上海アパレルファブリックス 秋展2025（Intertextile Shanghai Apparel Fabrics – Autumn Edition 2025 / ITSA25）は、2025年9月2日（火）〜9月4日（木）の3日間にわたり、上海の国家会展中心（National Exhibition and Convention Center）で開催される。 \n世界最大級の規模と包括性を誇るアパレル素材の国際見本市として知られるこのイベントには、世界各地からテキスタイルメーカー、アパレルブランド、バイヤー、業界関係者が集結。中国市場への新規参入やパートナーシップの構築を目指す企業にとって、またとないビジネス機会となっている。 \n展示品目は、コットン、ウール、シルク、リネン、ラミーなどの天然繊維から、人造繊維、機能性・スポーツ素材、プリントファブリック、ランジェリーやスイムウェア用の生地、刺繍・レース、糸・ヤーン、さらにはアクセサリーや繊維業界向けのCAD/CAM/CIM技術、スタイリング、業界出版物まで多岐にわたる。 \nさらに、次シーズンのトレンド情報や市場動向を把握できるセミナーや展示、国際的なネットワーキングの場も豊富に用意されており、ブランドやバイヤーにとってビジネスに新たな付加価値を加える場として注目されている。 \n来場バッジの申請は、こちらのフォームから。
URL:https://ouispeakfashion.com/jp/event/lntertextile-shanghai-apparel-fabrics-autumn-edition-2025/
LOCATION:National Exhibition and Convention Center (Shanghai)\, 168 East Yinggang Road\, Shanghai\, China
CATEGORIES:Sourcing Tradeshow
ATTACH;FMTTYPE=image/png:https://ouispeakfashion.com/jp/wp-content/uploads/2025/07/OSF-Main.png
ORGANIZER;CN="Messe Frankfurt (HK) Ltd":MAILTO:textile@hongkong.messefrankfurt.com
END:VEVENT
BEGIN:VEVENT
DTSTART;VALUE=DATE:20250910
DTEND;VALUE=DATE:20250911
DTSTAMP:20260420T073117
CREATED:20250814T165358Z
LAST-MODIFIED:20250814T165358Z
UID:102510-1757462400-1757548799@ouispeakfashion.com
SUMMARY:ラルフ ローレン（Ralph Lauren）2026年春コレクション
DESCRIPTION:ラルフ ローレン（Ralph Lauren）は、2026年春コレクションを9月10日（現地時間）にニューヨークのマディソン・アベニュー650番地のプライベートデザインスタジオで発表する。 \n今回は親密な雰囲気のショーとなり、時間は未公表。近年同氏は自身にゆかりのある場所でショーを開催しており、今回も創作の原点であるニューヨークから着想を得ている。
URL:https://ouispeakfashion.com/jp/event/ralph-lauren-spring2026/
LOCATION:650 Madison Avenue\, 650 Madison Avenue\, New York\, NY\, United States
CATEGORIES:Fashion Show
ATTACH;FMTTYPE=image/png:https://ouispeakfashion.com/jp/wp-content/uploads/2025/08/1-2.png
END:VEVENT
BEGIN:VEVENT
DTSTART;VALUE=DATE:20250911
DTEND;VALUE=DATE:20250917
DTSTAMP:20260420T073117
CREATED:20241014T114619Z
LAST-MODIFIED:20241014T114619Z
UID:42273-1757548800-1758067199@ouispeakfashion.com
SUMMARY:ニューヨーク ファッションウィーク 2026年春夏コレクション
DESCRIPTION:「ニューヨーク ファッションウィーク 2026年春夏」は、2025年9月11日〜 2025年9月16日（水）の6日間に渡って開催され、各デザイナーが「2026年春夏コレクション」をランウェイショー、プレゼンテーション、デジタル形式のいずれかで発表する。 \n\n\n\n\n\n\nニューヨークファッションウィーク（NYFW）は、パリ、ミラノ、ロンドンと並ぶ「ビッグ4」の一つであり、世界で最も権威のあるファッションイベントの一つである。毎年2月と9月に開催され、次のシーズンに向けた最新コレクションが発表される。イベントはアメリカファッションデザイナー協議会（CFDA）が主催し、確立されたデザイナーから新進気鋭のデザイナーまで、多様なブランドが参加する。
URL:https://ouispeakfashion.com/jp/event/nyfw-ss26/
CATEGORIES:Fashion Week
ATTACH;FMTTYPE=image/png:https://ouispeakfashion.com/jp/wp-content/uploads/2024/10/New-York-Fashion-Week.png
END:VEVENT
BEGIN:VEVENT
DTSTART;VALUE=DATE:20250918
DTEND;VALUE=DATE:20250919
DTSTAMP:20260420T073117
CREATED:20250427T105217Z
LAST-MODIFIED:20250427T105304Z
UID:84145-1758153600-1758239999@ouispeakfashion.com
SUMMARY:キャロリーナ ヘレラ（Carolina Herrera）2026年春夏ショー
DESCRIPTION:ニューヨークを拠点とするラグジュアリーブランド、キャロリーナ ヘレラ（Carolina Herrera）は、2026年春夏コレクションを9月18日にスペインのマドリードで発表する。ショーの会場は現時点では非公開とされているが、その前夜には、親交の深いゲストたちを招いたプライベートディナーが予定されており、ブランドの世界観に浸る特別な時間が用意される。 \nこのコレクションは、2023年のリオデジャネイロ、2024年のメキシコシティで開催されたリゾートショーに続く“デスティネーション型”の第3弾だ。しかし今回は、メインラインとしては初めて、ニューヨーク ファッションウィークを離れての発表となり、ブランドの歴史においても異例の試みとなる。
URL:https://ouispeakfashion.com/jp/event/carolina-herrera-ss26/
LOCATION:Madrid\, Madrid\, Spain
CATEGORIES:Fashion Show
ATTACH;FMTTYPE=image/png:https://ouispeakfashion.com/jp/wp-content/uploads/2025/04/OSF-Main-15.png
END:VEVENT
BEGIN:VEVENT
DTSTART;VALUE=DATE:20250918
DTEND;VALUE=DATE:20250923
DTSTAMP:20260420T073117
CREATED:20250713T091532Z
LAST-MODIFIED:20250803T042205Z
UID:101294-1758153600-1758585599@ouispeakfashion.com
SUMMARY:ロンドン ファッションウィーク 2026年春夏コレクション
DESCRIPTION:ロンドン ファッションウィーク 2026年春夏コレクションは、2025年9月18日から2025年9月22日の5日間に渡って開催される。 \nロンドンファッションウィーク（LFW）は、ニューヨーク、パリ、ミラノと並ぶ「ビッグ4」の世界的なファッションイベントの一つであり、各ブランドがランウェイショー、プレゼンテーション、デジタル形式で最新コレクションを発表する。毎年2月と9月に行われ、バーバリー（Burberry）、ヴィヴィアン ウエストウッド（Vivienne Westwood）、アレキサンダー マックイーン（Alexander McQueen）などの象徴的なファッションハウスと新進気鋭デザイナーの両方を紹介し、その多様性、創造性、革新性で知られている。 \nロンドン ファッションウィーク 2026年春夏コレクションの公式スケジュールはこちらから。
URL:https://ouispeakfashion.com/jp/event/london-fashion-week-spring-summer-2026/
CATEGORIES:Fashion Week
ATTACH;FMTTYPE=image/png:https://ouispeakfashion.com/jp/wp-content/uploads/2025/07/OSF-Main-13.png
END:VEVENT
BEGIN:VEVENT
DTSTART;VALUE=DATE:20250923
DTEND;VALUE=DATE:20250930
DTSTAMP:20260420T073117
CREATED:20250713T092941Z
LAST-MODIFIED:20250713T092941Z
UID:101298-1758585600-1759190399@ouispeakfashion.com
SUMMARY:ミラノ ファッションウィーク 2026年春夏コレクション
DESCRIPTION:「ミラノ ファッションウィーク 2026年春夏」は、2025年9月23日（火）〜2025年9月29日（月）までの7日間に渡り開催される。この期間中、各ブランドやデザイナーが「2026年春夏コレクション」を、ランウェイショー、プレゼンテーション、デジタル形式などで発表する。 \nミラノファッションウィーク（MFW）は、ニューヨーク、パリ、ロンドンと並ぶ「ビッグ4」の一つとして知られ、世界で最も注目されるファッションイベントの一つだ。毎年2月と9月に開催され、次のシーズンに向けた最新コレクションが発表される。イベントはイタリアモード協会（Camera Nazionale della Moda Italiana）が主催し、フェンディ（Fendi）やプラダ（Prada）、グッチ（Gucci）といった名門ブランドに加え、新しい風を吹き込む新進気鋭デザイナーも参加する。
URL:https://ouispeakfashion.com/jp/event/milan-fashion-week-spring-summer-2026/
CATEGORIES:Fashion Week
ATTACH;FMTTYPE=image/webp:https://ouispeakfashion.com/jp/wp-content/uploads/2025/07/OSF-Main-1.webp
END:VEVENT
BEGIN:VEVENT
DTSTART;VALUE=DATE:20250929
DTEND;VALUE=DATE:20251002
DTSTAMP:20260420T073117
CREATED:20250406T132319Z
LAST-MODIFIED:20250406T134344Z
UID:80001-1759104000-1759363199@ouispeakfashion.com
SUMMARY:ラックスパックモナコ 2025
DESCRIPTION:ラックスパックモナコ2025（LUXE PACK Monaco）は、「クリエイティブ・パッケージングのプレミア展示会」として知られ、世界中の最先端パッケージメーカーとラグジュアリーブランドが一堂に会する場である。ビューティー、フレグランス、ファッション、グルメなど、多彩な業界に向けたハイエンドかつ革新的なデザインと技術力にフォーカスし、世界的なトレンドの発信地として確固たる地位を築いている。 \n開催日：2025年9月29日（月）〜10月1日（水）会場：フランス・モナコ グリマルディ・フォーラム（Grimaldi Forum\, Monaco） \n展示会への来場バッジの申し込みは、以下のリンクより登録可能。\n来場者バッジのお申し込みはこちら
URL:https://ouispeakfashion.com/jp/event/luxe-pack-monaco-2025/
LOCATION:Grimaldi Forum\, 10 Av. Princesse Grâce\, Monaco\, 98000\, Monaco
CATEGORIES:Sourcing Tradeshow
ATTACH;FMTTYPE=image/png:https://ouispeakfashion.com/jp/wp-content/uploads/2025/04/OSF-Main-3-2.png
END:VEVENT
BEGIN:VEVENT
DTSTART;VALUE=DATE:20250929
DTEND;VALUE=DATE:20251008
DTSTAMP:20260420T073117
CREATED:20240929T165403Z
LAST-MODIFIED:20250803T031237Z
UID:39891-1759104000-1759881599@ouispeakfashion.com
SUMMARY:パリファッションウィーク 2026年春夏コレクション
DESCRIPTION:パリファッションウィーク 2026年春夏（Paris Fashion Week Spring/Summer 2026）は、2025年9月29日（月）から2025年10月7日（火）までの9日間に渡り開催。参加ブランドは「2026年春夏コレクション」をランウェイショー、プレゼンテーション、またはデジタル形式で発表する。 \nパリファッションウィーク 2026年春夏コレクションの公式スケジュールは、こちらから。
URL:https://ouispeakfashion.com/jp/event/paris-fashion-week-spring-summer-2026/
LOCATION:Paris\, Paris\, France
CATEGORIES:Fashion Week
ATTACH;FMTTYPE=image/webp:https://ouispeakfashion.com/jp/wp-content/uploads/2025/08/OSF-Main-4.webp
END:VEVENT
BEGIN:VEVENT
DTSTART;VALUE=DATE:20251009
DTEND;VALUE=DATE:20251017
DTSTAMP:20260420T073117
CREATED:20250718T212221Z
LAST-MODIFIED:20250718T212221Z
UID:101609-1759968000-1760659199@ouispeakfashion.com
SUMMARY:上海ファッションウィーク 2026年春夏コレクション
DESCRIPTION:『上海ファッションウィーク 2026年春夏コレクション』は、2025年10月9日（木）から16日（木）にかけて開催される。 \n期間中は、上海市内の10ヶ所以上の象徴的なファッション拠点を舞台に、「初公開のショー」「初開催の展示会」「初お披露目のコレクション」などが集中的に展開される予定だ。 \nまた、会期中には、1\,000を超えるブランドが最新コレクションを発表し、多様な形式で大胆なプレゼンテーションを行う。
URL:https://ouispeakfashion.com/jp/event/shanghai-fashion-week-spring-summer-2026/
LOCATION:shanghai\, Shanghai\, China
CATEGORIES:Fashion Week
ATTACH;FMTTYPE=image/webp:https://ouispeakfashion.com/jp/wp-content/uploads/2025/07/OSF-Main-1-3.webp
END:VEVENT
BEGIN:VEVENT
DTSTART;VALUE=DATE:20251014
DTEND;VALUE=DATE:20251017
DTSTAMP:20260420T073117
CREATED:20250731T234252Z
LAST-MODIFIED:20251002T011706Z
UID:102190-1760400000-1760659199@ouispeakfashion.com
SUMMARY:2025年10月 ニューヨーク ブライダル ファッションウィーク
DESCRIPTION:2025年10月14日から2025年10月16日までの3日間にわたり、ニューヨーク ブライダル ファッションウィーク（NYBFW）が開催される。 同イベントは、世界中のブライダルデザイナーが最新のウェディングドレスコレクションを発表する場として知られている。
URL:https://ouispeakfashion.com/jp/event/new-york-bridal-fashion-week-october-2025/
LOCATION:New York
CATEGORIES:Fashion Week
ATTACH;FMTTYPE=image/webp:https://ouispeakfashion.com/jp/wp-content/uploads/2025/08/New-York-Bridal-Fashion-Week.webp
END:VEVENT
BEGIN:VEVENT
DTSTART;VALUE=DATE:20251016
DTEND;VALUE=DATE:20251020
DTSTAMP:20260420T073117
CREATED:20250918T200941Z
LAST-MODIFIED:20250922T173041Z
UID:104855-1760572800-1760918399@ouispeakfashion.com
SUMMARY:台北ファッションウィーク 2026年春夏コレクション
DESCRIPTION:「台北ファッションウィーク 2026年春夏コレクション（Taipei Fashion Week Spring/Summer 2026）」は、10月16日（木）から19日（日）まで4日間に渡り開催される。各ブランドは、2026年春夏コレクションをランウェイ、プレゼンテーション形式で発表する。
URL:https://ouispeakfashion.com/jp/event/taipei-fashion-week-ss26-2/
LOCATION:松山文創園区\, Taipei City\, Taiwan
CATEGORIES:Fashion Week
ATTACH;FMTTYPE=image/png:https://ouispeakfashion.com/jp/wp-content/uploads/2025/09/Taipei-Fashion-Week-SpringSummer-2026-scaled.png
END:VEVENT
BEGIN:VEVENT
DTSTART;VALUE=DATE:20251026
DTEND;VALUE=DATE:20251027
DTSTAMP:20260420T073117
CREATED:20250731T223435Z
LAST-MODIFIED:20250731T223435Z
UID:102171-1761436800-1761523199@ouispeakfashion.com
SUMMARY:ヴォーグ ワールド2025 ハリウッド（Vogue World 2025: Hollywood）
DESCRIPTION:『ヴォーグ ワールド・ハリウッド（Vogue World: Hollywood）』は、2025年10月26日にロサンゼルスの歴史あるパラマウント・ピクチャーズ・ロットにて開催される、ファッションと映画の関係にフォーカスした一夜限りのスペシャルイベントである。 \n『ヴォーグ ワールド（Vogue World）』の第4弾として行われる今回のショーは、モデル、俳優、ダンサー、ミュージシャンが一堂に会し、映画の名作衣装と最新のファッションコレクションを融合させたシネマティックな世界を演出する。 \nまた、収益の100％は、ロサンゼルスの山火事で影響を受けた映画業界の衣装デザイナーらを支援する「エンターテインメント・コミュニティ基金」に寄付され、コスチューム・デザイナーズ・ギルドやUCLAの衣装デザインプログラムとも連携して復興支援が行われる。アナ・ウィンターやニコラ・ジェスキエールらが構想に関わり、コリーン・アトウッド、ルース・E・カーター、キャサリン・マーティンなど名だたる衣装デザイナーが参加する豪華なプロジェクトとなっている。
URL:https://ouispeakfashion.com/jp/event/vogue-world-2025-hollywood/
LOCATION:Paramount Pictures Studios Lot\, 5400 Melrose Ave\, Los Angeles\, CA\, 90038\, United States
CATEGORIES:Fashion Event
ATTACH;FMTTYPE=image/png:https://ouispeakfashion.com/jp/wp-content/uploads/2025/08/Vogue-World-2025Hollywood.png
END:VEVENT
BEGIN:VEVENT
DTSTART;VALUE=DATE:20251103
DTEND;VALUE=DATE:20251104
DTSTAMP:20260420T073117
CREATED:20250731T033009Z
LAST-MODIFIED:20250731T033755Z
UID:102130-1762128000-1762214399@ouispeakfashion.com
SUMMARY:アメリカファッション協議会（CFDA）ファッションアワード
DESCRIPTION:アメリカファッションデザイナー協議会（Council of Fashion Designers of America\, CFDA）主催の「CFDA ファッションアワード（CFDA Fashion Awards）」は、米国ファッション業界において最も権威ある賞のひとつとして知られている。このアワードは、同協議会が1981年より毎年開催しており、ウィメンズウェア、メンズウェア、アクセサリー、イノベーション、ジャーナリズム、功労賞など、幅広いカテゴリーで卓越した功績を讃える。 \nなお、「2025年 CFDA ファッションアワード」は11月3日（月）にニューヨークの自然史博物館（American Museum of Natural History）で開催される予定であり、アマゾン ファッション（Amazon Fashion）が引き続きプレゼンティング・パートナーを務めるほか、グーグル ショッピング（Google Shopping）が新進デザイナー部門をサポートする。
URL:https://ouispeakfashion.com/jp/event/cfda-fashion-awards-2025/
LOCATION:American Museum of Natural History\, 200 Central Park W\, New York\, NY\, 10024\, United States
CATEGORIES:Fashion Event
ATTACH;FMTTYPE=image/png:https://ouispeakfashion.com/jp/wp-content/uploads/2025/07/CFDA-Fashion-Awards.png
END:VEVENT
END:VCALENDAR