BEGIN:VCALENDAR
VERSION:2.0
PRODID:-//Oui Speak Fashion Japan (OSF)® [ウィ スピーク ファッション ジャパン] - ECPv6.15.20//NONSGML v1.0//EN
CALSCALE:GREGORIAN
METHOD:PUBLISH
X-WR-CALNAME:Oui Speak Fashion Japan (OSF)® [ウィ スピーク ファッション ジャパン]
X-ORIGINAL-URL:https://ouispeakfashion.com/jp
X-WR-CALDESC:Oui Speak Fashion Japan (OSF)® [ウィ スピーク ファッション ジャパン] のイベント
REFRESH-INTERVAL;VALUE=DURATION:PT1H
X-Robots-Tag:noindex
X-PUBLISHED-TTL:PT1H
BEGIN:VTIMEZONE
TZID:Asia/Tokyo
BEGIN:STANDARD
TZOFFSETFROM:+0900
TZOFFSETTO:+0900
TZNAME:JST
DTSTART:20240101T000000
END:STANDARD
END:VTIMEZONE
BEGIN:VTIMEZONE
TZID:Asia/Krasnoyarsk
BEGIN:STANDARD
TZOFFSETFROM:+0700
TZOFFSETTO:+0700
TZNAME:+07
DTSTART:20250101T000000
END:STANDARD
END:VTIMEZONE
BEGIN:VTIMEZONE
TZID:UTC
BEGIN:STANDARD
TZOFFSETFROM:+0000
TZOFFSETTO:+0000
TZNAME:UTC
DTSTART:20250101T000000
END:STANDARD
END:VTIMEZONE
BEGIN:VEVENT
DTSTART;VALUE=DATE:20251117
DTEND;VALUE=DATE:20251120
DTSTAMP:20260420T091621
CREATED:20250720T195951Z
LAST-MODIFIED:20250814T170844Z
UID:101858-1763337600-1763596799@ouispeakfashion.com
SUMMARY:国際アパレル＆テキスタイルフェア 2025ドバイ
DESCRIPTION:国際アパレル＆テキスタイルフェア 2025ドバイ（International Apparel & Textile Fair 以下、 IATF）は、アパレル、テキスタイル、ファッションアクセサリー、フットウェア、その他関連製品を対象とした、湾岸地域を代表する国際的なB2Bファッション調達見本市である。第20回目を迎える今回は、2025年11月17日〜19日にドバイ・ワールド・トレード・センターで開催され、25カ国以上から450社以上の出展者、GCC諸国・アフリカ・ヨーロッパを中心とする5\,000人以上のバイヤーが一堂に会する予定である。 \nIATFは、バイヤー、小売業者、メーカー、デザイナー、調達担当者にとって、最新のコレクションに触れ、信頼できるサプライヤーとつながり、新たなトレンドを一か所で発見できる貴重な機会を提供するものである。 \n今回からは、新設パビリオン「Moda Sole & Accessories」も登場し、フットウェア、ハンドバッグ、ファッションアクセサリーをフィーチャーすることで、既存のアパレルおよびテキスタイルカテゴリーに新たな魅力を加える構成となっている。 \n主な見どころは以下の通りである：– 25カ国以上からの出展者450社以上– GCC諸国、アフリカ、ヨーロッパからの質の高いバイヤー5\,000人以上– ホストバイヤープログラムと専用バイヤーラウンジの設置 \n最新の生地を調達したい、信頼できる生産パートナーを見つけたい、ブランドの認知度を拡大したい、あるいはグローバルなファッショントレンドを把握したいと考える業界関係者にとって、IATFドバイは、世界でも最も活気ある市場のひとつでビジネスを加速させるための重要なプラットフォームとなる。 \n来場バッジの申請は、こちらのフォームから。
URL:https://ouispeakfashion.com/jp/event/2025-the-international-apparel-and-textile-fair-dubai/
LOCATION:Dubai World Trade Centre\, Trade Centre 2\, Dubai\, United Arab Emirates
CATEGORIES:Fashion Tradeshow,Sourcing Tradeshow
ATTACH;FMTTYPE=image/png:https://ouispeakfashion.com/jp/wp-content/uploads/2025/07/OSF-Main-4-4.png
ORGANIZER;CN="Bhavna Nihalani":MAILTO:bhavna@internationaltextilefair.com
END:VEVENT
BEGIN:VEVENT
DTSTART;VALUE=DATE:20251202
DTEND;VALUE=DATE:20251203
DTSTAMP:20260420T091621
CREATED:20250717T174003Z
LAST-MODIFIED:20250717T174056Z
UID:101469-1764633600-1764719999@ouispeakfashion.com
SUMMARY:シャネル（Chanel）メティエダール・ショー
DESCRIPTION:シャネル（Chanel）は、12月2日にメティエダール・コレクションをニューヨークで開催する。ニューヨークでの発表は2018年以来7年ぶりとなり、クリエイティブ・ディレクターに就任したマチュー・ブレイジー（Matthieu Blazy）にとって初のメティエダール・コレクションとなる。 \nメティエダール・コレクションは、2002年に故カール・ラガーフェルド（Karl Lagerfeld）が創設した特別なランウェイショーであり、シャネル傘下の職人アトリエによる卓越したクラフツマンシップを称える場として知られている。 \nなお、ショーの開催場所については後日発表される予定だ。 \n詳細はこちらから。
URL:https://ouispeakfashion.com/jp/event/chanel-metiers-dart-show-2026/
LOCATION:New York
CATEGORIES:Fashion Show
ATTACH;FMTTYPE=image/png:https://ouispeakfashion.com/jp/wp-content/uploads/2025/07/OSF-Main-16.png
END:VEVENT
BEGIN:VEVENT
DTSTART;VALUE=DATE:20251205
DTEND;VALUE=DATE:20251208
DTSTAMP:20260420T091621
CREATED:20250731T204546Z
LAST-MODIFIED:20250731T221542Z
UID:102159-1764892800-1765151999@ouispeakfashion.com
SUMMARY:アート・バーゼル・マイアミ・ビーチ（Art Basel Miami Beach 2025）
DESCRIPTION:アート・バーゼル・マイアミ・ビーチ（Art Basel Miami Beach） は、世界でも最も権威ある現代アートフェアのひとつで、毎年12月初旬にアメリカ・フロリダ州マイアミ・ビーチで開催されている。1970年にスイス・バーゼルで始まった「アート・バーゼル」のアメリカ版として位置づけられている。 \n2025年は、12月5日から7日までの3日間にわたり、マイアミ・ビーチ・コンベンションセンターにて開催される予定である。
URL:https://ouispeakfashion.com/jp/event/art-basel-miami-beach/
LOCATION:Miami Beach Convention Center\, 1901 Convention Center Drive\, Miami Beach\, Florida\, 33139\, United States
CATEGORIES:Trade Show
ATTACH;FMTTYPE=image/png:https://ouispeakfashion.com/jp/wp-content/uploads/2025/08/1.png
END:VEVENT
BEGIN:VEVENT
DTSTART;VALUE=DATE:20260106
DTEND;VALUE=DATE:20260110
DTSTAMP:20260420T091621
CREATED:20251206T001658Z
LAST-MODIFIED:20251206T005219Z
UID:110109-1767657600-1768003199@ouispeakfashion.com
SUMMARY:CES 2026（コンシューマー・エレクトロニクス・ショー 2026）
DESCRIPTION:CES 2026（コンシューマー・エレクトロニクス・ショー 2026）は、世界最大級のテクノロジー見本市であり、家電、デジタル機器、AI、ロボティクス、モビリティなど、最新のイノベーションが集結する国際展示会である。1967年にニューヨークで初開催されて以来、グローバル企業からスタートアップまで数千社が参加し、年間20万人以上が訪れる、世界のテクノロジー産業を象徴するイベントへと成長。 \nイノベーションの最前線を体験できる CES は、ブランド発表、プロダクトローンチ、業界ネットワーキングなど、企業・クリエイター・投資家・メディアを結びつける重要な場として位置付けられている。 \n2026年のCESは、例年通り ラスベガス・コンベンションセンター を中心に開催され、AI、次世代モビリティ、ヘルステック、スマートホーム、XR（AR/VR）、ロボティクスなどの分野がさらに拡大すると予測されている。
URL:https://ouispeakfashion.com/jp/event/ces-2026/
LOCATION:Las Vegas Convention Center\, 3150 Paradise Rd\, Las Vegas\, NV\, 89109\, United States
CATEGORIES:Trade Show
ATTACH;FMTTYPE=image/jpeg:https://ouispeakfashion.com/jp/wp-content/uploads/2025/12/CTA_CES_2025_Opening_Day_Keynote-scaled.jpg
END:VEVENT
BEGIN:VEVENT
DTSTART;VALUE=DATE:20260111
DTEND;VALUE=DATE:20260114
DTSTAMP:20260420T091621
CREATED:20251206T004509Z
LAST-MODIFIED:20251206T004509Z
UID:110113-1768089600-1768348799@ouispeakfashion.com
SUMMARY:NRF 2026（リテールズ・ビッグ・ショー 2026）
DESCRIPTION:全米小売業協会（National Retail Federation\, NRF）が主催する「リテールズ・ビッグ・ショー（Retail’s Big Show）」は、世界最大級のリテールカンファレンスであり、毎年1月にニューヨークで開催される国際イベントである。テクノロジー、サプライチェーン、顧客体験、店舗設計、デジタルマーケティングなど、小売産業の未来を形づくる最新トレンドが一堂に会する。 \n1911年に設立されたNRFは世界最大の小売業団体であり、その年次イベントであるリテールズ・ビッグ・ショーには、世界中から40\,000人以上の参加者、6\,000以上のリテールブランド、数百社のテック企業・スタートアップが集まる。小売業界における最重要カンファレンスとして、企業の意思決定者、イノベーター、投資家、メディアが最新の戦略とソリューションを共有する場となっている。 \nイノベーションとビジネスが交差するNRFでは、基調講演、パネルディスカッション、展示会、スタートアップ向けインキュベーション、ネットワーキングイベントなどが展開され、新しい顧客体験やオムニチャネル戦略、AI・データ活用など、リテールの未来を方向づけるトピックが数多く取り上げられる。 \n2026年のNRF は、例年通りニューヨークのジャビッツ・センターを中心に開催され、AIと自動化、ラストマイル物流、パーソナライゼーション、店舗DX、リテールメディアなどの分野でさらなる進化が期待されている。
URL:https://ouispeakfashion.com/jp/event/nrf-2026/
LOCATION:Jacob Javits Convention Center\, 429 11th Ave\, New York\, 10001\, United States
CATEGORIES:Trade Show
ATTACH;FMTTYPE=image/jpeg:https://ouispeakfashion.com/jp/wp-content/uploads/2025/12/2025nrf-recap-keynote-1500x1000-1.jpg
END:VEVENT
BEGIN:VEVENT
DTSTART;VALUE=DATE:20260116
DTEND;VALUE=DATE:20260121
DTSTAMP:20260420T091621
CREATED:20260116T204132Z
LAST-MODIFIED:20260116T204308Z
UID:110992-1768521600-1768953599@ouispeakfashion.com
SUMMARY:ミラノ ファッションウィーク メンズ 2026年秋冬コレクション
DESCRIPTION:ミラノ ファッションウィーク 2026年秋冬コレクション（Milan Fashion Week Menswer  Fall/Winter 2026）は、ミラノ現地時間 2026年1月16日（金）から1月20日（火）の5日間にかけて開催される。
URL:https://ouispeakfashion.com/jp/event/milan-fashion-week-menswear-fw26/
LOCATION:Milano\, Milano\, Italy
CATEGORIES:Fashion Week
ATTACH;FMTTYPE=image/png:https://ouispeakfashion.com/jp/wp-content/uploads/2025/01/OSF-Main-9.png
END:VEVENT
BEGIN:VEVENT
DTSTART;VALUE=DATE:20260120
DTEND;VALUE=DATE:20260126
DTSTAMP:20260420T091621
CREATED:20251218T222416Z
LAST-MODIFIED:20251226T033549Z
UID:110366-1768867200-1769385599@ouispeakfashion.com
SUMMARY:パリ ファッションウィーク メンズ 2026年秋冬コレクション
DESCRIPTION:パリ ファッションウィーク メンズ 2026年秋冬コレクション（Paris Fashion Week Menswear Fall/Winter 2026）は、パリ現地時間の2026年1月20日（火）から2026年1月25日（日）までの6日間に渡り開催される。参加ブランドは「2026年秋冬コレクション」をランウェイショーまたはプレゼンテーション形式で発表する。 \nパリ ファッションウィーク メンズ 2026年秋冬の公式スケジュールと参加ブランドはこちらから。
URL:https://ouispeakfashion.com/jp/event/paris-fashion-week-menswear-fw26/
LOCATION:Paris\, Paris\, France
CATEGORIES:Fashion Week
ATTACH;FMTTYPE=image/png:https://ouispeakfashion.com/jp/wp-content/uploads/2024/04/Screenshot-2024-04-29-at-11.04.08 AM.png
END:VEVENT
BEGIN:VEVENT
DTSTART;VALUE=DATE:20260126
DTEND;VALUE=DATE:20260130
DTSTAMP:20260420T091621
CREATED:20251218T201840Z
LAST-MODIFIED:20251226T043951Z
UID:110362-1769385600-1769731199@ouispeakfashion.com
SUMMARY:パリ オートクチュールウィーク 2026年春夏コレクション
DESCRIPTION:パリ オートクチュールウィーク 2026年春夏コレクション（Paris Haute Couture Week Spring/Summer 2026）は、パリ現地時間の2026年1月26日（月）から1月29日（木）までの4日間にわたって開催される。各ブランドは、ランウェイショーまたはプレゼンテーション形式でオートクチュールの2026年春夏コレクションを発表する。 \n『パリ オートクチュールウィーク 2026年春夏コレクション』の公式スケジュールと参加ブランド一覧はこちらから。
URL:https://ouispeakfashion.com/jp/event/paris-haute-couture-week-ss26/
LOCATION:Paris\, Paris\, France
CATEGORIES:Fashion Week
ATTACH;FMTTYPE=image/webp:https://ouispeakfashion.com/jp/wp-content/uploads/2025/12/CHANEL-2.webp
END:VEVENT
BEGIN:VEVENT
DTSTART;VALUE=DATE:20260130
DTEND;VALUE=DATE:20260203
DTSTAMP:20260420T091621
CREATED:20251130T024409Z
LAST-MODIFIED:20251130T024409Z
UID:109766-1769731200-1770076799@ouispeakfashion.com
SUMMARY:ベルリン ファッションウィーク 2026年秋冬コレクション
DESCRIPTION:ベルリン ファッションウィーク（Berlin Fashion Week）の2026年秋冬コレクションは、2026年1月30日〜2月2日（現地時間） に開催される。 \n革新的で前衛的なデザインを特徴とするベルリン ファッションウィークは、サステナビリティ、カルチャー、クラフトマンシップに焦点を当てながら、欧州ファッションシーンにおける独自の存在感を築いてきたイベントだ。毎シーズン、国内外の新進気鋭デザイナーが集い、ランウェイショーやプレゼンテーション、アートを融合した多彩なプログラムを展開し、ベルリンならではの創造性と都市文化を世界へ発信している。 \n2026年秋冬シーズンもまた、ベルリンのクリエイティブシーンを象徴するデザイナーたちが最新コレクションを披露し、ファッションを通じて都市の多様性と表現の自由を体現する場となる予定だ。
URL:https://ouispeakfashion.com/jp/event/berlin-fashion-week-aw26/
CATEGORIES:Fashion Week
ATTACH;FMTTYPE=image/jpeg:https://ouispeakfashion.com/jp/wp-content/uploads/2025/11/13_rebekka_ruetz_SS26_Backstge_1_by_Milena-Zara_for_BFW.jpg
END:VEVENT
BEGIN:VEVENT
DTSTART;VALUE=DATE:20260131
DTEND;VALUE=DATE:20260201
DTSTAMP:20260420T091621
CREATED:20250814T170507Z
LAST-MODIFIED:20250814T170507Z
UID:102514-1769817600-1769903999@ouispeakfashion.com
SUMMARY:モンクレール グルノーブル（Moncler Grenoble）2026年秋冬ショー
DESCRIPTION:モンクレール グルノーブル（Moncler Grenoble）は、2026年秋冬コレクションを2026年1月31日に、米コロラド州アスペンで発表する。 \n北米を代表する高級スキーリゾートの一つであるアスペンを舞台に、没入感あふれるウィンターウィークエンド体験として展開される予定だ。
URL:https://ouispeakfashion.com/jp/event/moncler-grenoble-fall-winter-2026-show/
LOCATION:Aspen\, Aspen\, CO\, United States
CATEGORIES:Fashion Show
ATTACH;FMTTYPE=image/png:https://ouispeakfashion.com/jp/wp-content/uploads/2025/08/OSF-Main-3-2.png
END:VEVENT
BEGIN:VEVENT
DTSTART;VALUE=DATE:20260201
DTEND;VALUE=DATE:20260202
DTSTAMP:20260420T091621
CREATED:20251130T002842Z
LAST-MODIFIED:20251130T002842Z
UID:109755-1769904000-1769990399@ouispeakfashion.com
SUMMARY:アルベルタ フェレッティ（Alberta Ferretti）2026年秋冬ショー
DESCRIPTION:「アルベルタ フェレッティ（Alberta Ferretti）」は、2026年2月1日（現地時間）にドバイで最新コレクションを発表する。 \nこれは、ブランドにとって中東で開催する初の本格的なランウェイショーであり、今回はドバイ・ファッションウィーク（Dubai Fashion Week／DFW）2026年秋冬シーズンのゲストデザイナーとして参加する。 \nショーは、通称「d3」として知られるドバイ・デザイン・ディストリクトにて行われ、同イベントのオープニングを飾る予定だ。
URL:https://ouispeakfashion.com/jp/event/alberta-ferretti-fw26/
LOCATION:Dubai\, Dubai\, United Arab Emirates
CATEGORIES:Fashion Show
ATTACH;FMTTYPE=image/webp:https://ouispeakfashion.com/jp/wp-content/uploads/2025/11/OSF-Main-10.webp
END:VEVENT
BEGIN:VEVENT
DTSTART;VALUE=DATE:20260201
DTEND;VALUE=DATE:20260207
DTSTAMP:20260420T091621
CREATED:20251130T004338Z
LAST-MODIFIED:20251130T004735Z
UID:109757-1769904000-1770422399@ouispeakfashion.com
SUMMARY:ドバイ ファッションウィーク 2026年秋冬コレクション
DESCRIPTION:ドバイ ファッションウィーク（Dubai Fashion Week／DFW）2026年秋冬コレクションは、2026年2月1日〜6日（現地時間）に開催される。 \nドバイ・デザイン・ディストリクト（d3）とアラブ・ファッション・カウンシル（AFC）が共同で主催するこのドバイ・ファッションウィークは、同国のクリエイティビティとファッションビジネスを世界へ発信するとともに、アラブ地域のファッション産業の発展を牽引するプラットフォームとして機能している。 \nさらに、AFCとd3は「中東ファッションの創造性を国際水準へと引き上げること」を共通のビジョンに掲げ、ドバイ国内外の主要市場で展示機会を創出し、地域ブランドのグローバル展開を力強く後押ししている。
URL:https://ouispeakfashion.com/jp/event/dubai-fashion-week-fw26/
LOCATION:Dubai\, Dubai\, United Arab Emirates
CATEGORIES:Fashion Week
ATTACH;FMTTYPE=image/webp:https://ouispeakfashion.com/jp/wp-content/uploads/2025/11/Dubai-Fashion-Week.webp
END:VEVENT
BEGIN:VEVENT
DTSTART;VALUE=DATE:20260211
DTEND;VALUE=DATE:20260217
DTSTAMP:20260420T091621
CREATED:20251130T032348Z
LAST-MODIFIED:20260116T210430Z
UID:109773-1770768000-1771286399@ouispeakfashion.com
SUMMARY:ニューヨーク ファッションウィーク 2026年秋冬コレクション
DESCRIPTION:ニューヨーク ファッションウィーク（New York Fashion Week\, NYFW）2026年秋冬は、2026年2月11日（水）から2月16日（月）までの6日間 にわたり開催され、アメリカを代表するファッションを世界に向けて発信する。 \nロンドン、パリ、ミラノと並ぶ「ビッグ4」の一つとして知られるニューヨーク ファッションウィークは、ランウェイショー、プレゼンテーション、デジタル施策など多彩な形式で最新コレクションを披露する。ラルフ ローレン、マイケル・コース、トリー バーチ、プロエンザ スクーラーといった著名ブランドから、新世代の米国デザイナーまで幅広いラインナップが集結することが特徴だ。多様性、カルチャー、商業性が融合するニューヨーク ファッションウィークは、毎シーズン、世界のファッショントレンドに大きな影響を与えている。 \nニューヨーク ファッションウィーク 2026年秋冬の公式スケジュールと参加ブランドはこちらから。
URL:https://ouispeakfashion.com/jp/event/nyfw-aw26/
LOCATION:New York
CATEGORIES:Fashion Week
ATTACH;FMTTYPE=image/webp:https://ouispeakfashion.com/jp/wp-content/uploads/2025/11/New-York-Fashion-Week-Autumn-Winter-2026.webp
END:VEVENT
BEGIN:VEVENT
DTSTART;VALUE=DATE:20260219
DTEND;VALUE=DATE:20260224
DTSTAMP:20260420T091621
CREATED:20250731T225654Z
LAST-MODIFIED:20260217T175056Z
UID:102175-1771459200-1771891199@ouispeakfashion.com
SUMMARY:ロンドン ファッションウィーク 2026年秋冬コレクション
DESCRIPTION:ロンドン ファッションウィーク 2026年秋冬コレクションは、2026年2月19日から2026年2月23日の5日間に渡って開催される。 \nロンドンファッションウィーク（LFW）は、ニューヨーク、パリ、ミラノと並ぶ「ビッグ4」の世界的なファッションイベントの一つであり、各ブランドがランウェイショー、プレゼンテーション、デジタル形式で最新コレクションを発表する。毎年2月と9月に行われ、バーバリー（Burberry）、ヴィヴィアン ウエストウッド（Vivienne Westwood）、アレキサンダー マックイーン（Alexander McQueen）などの象徴的なファッションハウスと新進気鋭デザイナーの両方を紹介し、その多様性、創造性、革新性で知られている。 \nロンドン ファッションウィーク 2026年秋冬の公式日程はこちらから。
URL:https://ouispeakfashion.com/jp/event/london-fashion-week-autumn-winter-2026/
LOCATION:London\, London\, United Kingdom
CATEGORIES:Fashion Week
ATTACH;FMTTYPE=image/webp:https://ouispeakfashion.com/jp/wp-content/uploads/2026/02/OSF-Main-1-13.webp
END:VEVENT
BEGIN:VEVENT
DTSTART;VALUE=DATE:20260224
DTEND;VALUE=DATE:20260304
DTSTAMP:20260420T091621
CREATED:20250731T232307Z
LAST-MODIFIED:20260219T223501Z
UID:102181-1771891200-1772582399@ouispeakfashion.com
SUMMARY:ミラノ ファッションウィーク 2026年秋冬コレクション
DESCRIPTION:「ミラノ ファッションウィーク 2026年秋冬」は、2026年2月24日〜2026年3月2日までの7日間に渡り開催される。この期間中、各ブランドやデザイナーが「2026年秋冬コレクション」を、ランウェイショー、プレゼンテーション、デジタル形式などで発表する。 \nミラノファッションウィーク（MFW）は、ニューヨーク、パリ、ロンドンと並ぶ「ビッグ4」の一つとして知られ、世界で最も注目されるファッションイベントの一つだ。毎年2月と9月に開催され、次のシーズンに向けた最新コレクションが発表される。イベントはイタリアモード協会（Camera Nazionale della Moda Italiana）が主催し、フェンディ（Fendi）やプラダ（Prada）、グッチ（Gucci）といった名門ブランドに加え、新しい風を吹き込む新進気鋭デザイナーも参加する。 \nミラノ ファッションウィーク 2026年秋冬の公式スケジュールは、こちらから。
URL:https://ouispeakfashion.com/jp/event/milan-fashion-week-fall-winter-2026/
LOCATION:Milano\, Milano\, Italy
CATEGORIES:Fashion Week
ATTACH;FMTTYPE=image/webp:https://ouispeakfashion.com/jp/wp-content/uploads/2025/08/OSF-Main-3-1.webp
END:VEVENT
BEGIN:VEVENT
DTSTART;VALUE=DATE:20260226
DTEND;VALUE=DATE:20260301
DTSTAMP:20260420T091621
CREATED:20250701T091348Z
LAST-MODIFIED:20250701T093306Z
UID:99861-1772064000-1772323199@ouispeakfashion.com
SUMMARY:ベトナム国際アパレル・繊維・テキスタイル技術見本市 (VIATT 2026)
DESCRIPTION:ベトナム国際アパレル・繊維・テキスタイル技術見本市 （Vietnam International Trade Fair for Apparel\, Textiles and Textile Technologies / VATT26）は、2026年2月26日（木）〜2月28日（土）の3日間にわたり、ベトナム・ホーチミン市で開催される。 \nベトナムは、世界第3位のアパレル・テキスタイル輸出国であり、縫製機器においても世界最大級の輸入国のひとつとして知られ、開催地となるホーチミンは、ベトナム最大の国際空港と港湾を有し、海外直接投資の約35%が集まる経済の中枢だ。 \nこの展示会では、ファイバー、ヤーン、アパレルファブリック、産業用繊維をはじめ、紡績機、織機、縫製・プリント機器、ホームテキスタイル、完成品のガーメントまで、幅広い製品が出展対象となる。 \nアジア市場へのアクセスを狙う企業にとって、業界のダイナミズムを体感できる絶好の機会だ。 \n来場バッジの申請は、こちらのフォームから。
URL:https://ouispeakfashion.com/jp/event/viatt-2026/
LOCATION:Saigon Exhibition and Convention Center (SECC)\, Ho Chi Minh City\, Viet Nam
CATEGORIES:Sourcing Tradeshow
ATTACH;FMTTYPE=image/png:https://ouispeakfashion.com/jp/wp-content/uploads/2025/07/VIATT-2026.png
ORGANIZER;CN="Messe Frankfurt (HK) Ltd":MAILTO:textile@hongkong.messefrankfurt.com
END:VEVENT
BEGIN:VEVENT
DTSTART;VALUE=DATE:20260302
DTEND;VALUE=DATE:20260311
DTSTAMP:20260420T091621
CREATED:20250731T233024Z
LAST-MODIFIED:20250731T233024Z
UID:102186-1772409600-1773187199@ouispeakfashion.com
SUMMARY:パリファッションウィーク 2026年秋冬コレクション
DESCRIPTION:パリファッションウィーク 2026年秋冬（Paris Fashion Week Fall/Winter 2026）は、2026年3月2日から2026年3月10日までの9日間に渡り開催される。 \n参加ブランドは「2026年春夏コレクション」をランウェイショー、プレゼンテーション、またはデジタル形式で発表する。
URL:https://ouispeakfashion.com/jp/event/paris-fashion-week-fall-winter-2026/
LOCATION:Paris\, Paris\, France
CATEGORIES:Fashion Week
ATTACH;FMTTYPE=image/webp:https://ouispeakfashion.com/jp/wp-content/uploads/2025/08/OSF-Main-1-1.webp
END:VEVENT
BEGIN:VEVENT
DTSTART;VALUE=DATE:20260311
DTEND;VALUE=DATE:20260314
DTSTAMP:20260420T091621
CREATED:20250713T083032Z
LAST-MODIFIED:20250713T083032Z
UID:101280-1773187200-1773446399@ouispeakfashion.com
SUMMARY:インターテキスタイル上海 アパレルファブリックス 春 2026（Intertextile Shanghai Apparel Fabrics – Spring Edition）
DESCRIPTION:インターテキスタイル上海アパレルファブリックス 春展2026（Intertextile Shanghai Apparel Fabrics – Spring Edition/（ITSAS26）は、2026年3月11日（水）〜3月13日（金）の3日間にわたり、上海の国家会展中心（National Exhibition and Convention Center）で開催される。 \n世界最大級の規模と包括性を誇るアパレル素材の国際見本市として知られるこのイベントには、世界各地からテキスタイルメーカー、アパレルブランド、バイヤー、業界関係者が集結。中国市場への新規参入やパートナーシップの構築を目指す企業にとって、またとないビジネス機会となっている。 \n展示品目は、コットン、ウール、シルク、リネン、ラミーなどの天然繊維から、人造繊維、機能性・スポーツ素材、プリントファブリック、ランジェリーやスイムウェア用の生地、刺繍・レース、糸・ヤーン、さらにはアクセサリーや繊維業界向けのCAD/CAM/CIM技術、スタイリング、業界出版物まで多岐にわたる。 \nさらに、次シーズンのトレンド情報や市場動向を把握できるセミナーや展示、国際的なネットワーキングの場も豊富に用意されており、ブランドやバイヤーにとってビジネスに新たな付加価値を加える場として注目されている。 \n来場バッジの申請は、こちらのフォームから。
URL:https://ouispeakfashion.com/jp/event/intertextile-shanghai-apparel-fabrics-spring-edition/
LOCATION:National Exhibition and Convention Center (Shanghai)\, 168 East Yinggang Road\, Shanghai\, China
CATEGORIES:Sourcing Tradeshow
ATTACH;FMTTYPE=image/png:https://ouispeakfashion.com/jp/wp-content/uploads/2025/07/Intertextile-Shanghai-Apparel-Fabrics-–-Spring-Edition.png
ORGANIZER;CN="Messe Frankfurt (HK) Ltd":MAILTO:textile@hongkong.messefrankfurt.com
END:VEVENT
BEGIN:VEVENT
DTSTART;VALUE=DATE:20260316
DTEND;VALUE=DATE:20260322
DTSTAMP:20260420T091621
CREATED:20251130T022738Z
LAST-MODIFIED:20251130T022738Z
UID:109763-1773619200-1774137599@ouispeakfashion.com
SUMMARY:楽天ファッションウィーク東京 2026年秋冬コレクション
DESCRIPTION:楽天ファッションウィーク東京（Rakuten Fashion Week Tokyo）2026年秋冬は、2026年3月16日（月）から21日（土）までの6日間 にわたり開催される。この期間中、参加デザイナーたちはランウェイショーまたはプレゼンテーション形式で最新の2026年秋冬コレクションを発表する。 \n同イベントは、日本ファッション・ウィーク推進機構（JFWO）が主催し、2019年から楽天がタイトルスポンサーを務めている。2026年秋冬シーズンでは、渋谷ヒカリエのホールAおよびホールBをはじめとする公式会場でコレクションが披露される予定だ。
URL:https://ouispeakfashion.com/jp/event/rakuten-fashion-week-tokyo-fw26/
LOCATION:渋谷ヒカリエ\, 東京都\, 渋谷区渋谷2丁目21-1\, 150-8510\, Japan
CATEGORIES:Fashion Week
ATTACH;FMTTYPE=image/webp:https://ouispeakfashion.com/jp/wp-content/uploads/2025/11/OSF-Main-1-3-1755x900.png-1.webp
END:VEVENT
BEGIN:VEVENT
DTSTART;VALUE=DATE:20260325
DTEND;VALUE=DATE:20260402
DTSTAMP:20260420T091621
CREATED:20260327T204057Z
LAST-MODIFIED:20260327T204057Z
UID:120245-1774396800-1775087999@ouispeakfashion.com
SUMMARY:上海ファッションウィーク 2026年秋冬
DESCRIPTION:「上海ファッションウィーク 2026年秋冬コレクション（Shanghai Fashion Week Fall/Winter 2026）」は、2026年3月25日から4月1日までの期間にわたり、中国・上海にて開催される。 \n同イベントは、アジアを代表するファッションウィークの一つとして、ランウェイショーに加え、展示会やショールーム、ポップアップイベントなどを含む複合的なファッションプラットフォームとして展開される。
URL:https://ouispeakfashion.com/jp/event/shanghai-fashion-week-fw26/
LOCATION:shanghai\, Shanghai\, China
CATEGORIES:Fashion Week
ATTACH;FMTTYPE=image/jpeg:https://ouispeakfashion.com/jp/wp-content/uploads/2026/03/Shanghai-Fashion-Week.-Susan-Fang-KongLei.jpg
END:VEVENT
BEGIN:VEVENT
DTSTART;VALUE=DATE:20260326
DTEND;VALUE=DATE:20260330
DTSTAMP:20260420T091621
CREATED:20260326T201822Z
LAST-MODIFIED:20260327T211835Z
UID:120155-1774483200-1774828799@ouispeakfashion.com
SUMMARY:台北ファッションウィーク 2026年秋冬
DESCRIPTION:「台北ファッションウィーク 2026年秋冬（Taipei Fashion Week Autumn/Winter 2026）」は、3月26日（木）から29日（日）まで4日間にわたり、松山文創園区にて開催される。 \n各ブランドは、2026年秋冬コレクションをランウェイやプレゼンテーション形式で発表するほか、「Live（ライブ）」をテーマに、ライブ配信の強化や一般来場者への開放、サステナブルデザインに焦点を当てた取り組みが展開される。
URL:https://ouispeakfashion.com/jp/event/taipei-fashion-week-aw26/
LOCATION:松山文創園区\, Taipei City\, Taiwan
CATEGORIES:Fashion Week
ATTACH;FMTTYPE=image/png:https://ouispeakfashion.com/jp/wp-content/uploads/2026/03/OSF-Main-5-1.png
END:VEVENT
BEGIN:VEVENT
DTSTART;VALUE=DATE:20260408
DTEND;VALUE=DATE:20260411
DTSTAMP:20260420T091621
CREATED:20260327T205319Z
LAST-MODIFIED:20260327T205622Z
UID:120249-1775606400-1775865599@ouispeakfashion.com
SUMMARY:2026年4月 ニューヨーク ブライダル ファッションウィーク
DESCRIPTION:「2026年4月 ニューヨーク ブライダル ファッションウィーク（New York Bridal Fashion Week\, NYBFW April 2026）」は、2026年4月8日から10日までの期間にわたり、アメリカ・ニューヨークにて開催される。 \n同イベントは、米国ファッションデザイナー協議会（CFDA）が公式ファッションカレンダーとして管理するブライダル特化型のファッションウィークであり、世界中のトップブライダルブランドおよび新進デザイナーが最新コレクションを発表する場として位置づけられている。
URL:https://ouispeakfashion.com/jp/event/nybfw-2026april/
LOCATION:New York
CATEGORIES:Fashion Week
ATTACH;FMTTYPE=image/webp:https://ouispeakfashion.com/jp/wp-content/uploads/2026/03/NYBFW2026.webp
END:VEVENT
BEGIN:VEVENT
DTSTART;VALUE=DATE:20260417
DTEND;VALUE=DATE:20260418
DTSTAMP:20260420T091621
CREATED:20251218T232022Z
LAST-MODIFIED:20251218T232058Z
UID:110375-1776384000-1776470399@ouispeakfashion.com
SUMMARY:プッチ（Pucci）、2026年 春夏ショー
DESCRIPTION:イタリアのラグジュアリーブランド「プッチ（Pucci）」は、2026年春のランウェイショーを4月17日（現地時間）に、シチリアで開催する。 \nアーティスティック・ディレクターのカミーユ・ミセリ（Camille Miceli）が手がける最新コレクションは「L’Alba（夜明け）」と名付けられ、同ブランドにとって象徴的なデスティネーションショーの最新章となる。 \n今回の舞台として選ばれたシチリアは、歴史、自然、文化が多層的に存在する土地であり、ファッション界においても近年とりわけ注目を集めている地域だ。詳細はこちらから。
URL:https://ouispeakfashion.com/jp/event/pucci-ss26/
LOCATION:Sicilia\, Sicilia\, Italy
CATEGORIES:Fashion Show
ATTACH;FMTTYPE=image/webp:https://ouispeakfashion.com/jp/wp-content/uploads/2025/12/Emilio-Pucci-Archive.webp
END:VEVENT
BEGIN:VEVENT
DTSTART;VALUE=DATE:20260419
DTEND;VALUE=DATE:20260427
DTSTAMP:20260420T091621
CREATED:20260327T225319Z
LAST-MODIFIED:20260327T225638Z
UID:120266-1776556800-1777247999@ouispeakfashion.com
SUMMARY:ミラノ デザインウィーク 2026
DESCRIPTION:「ミラノ デザインウィーク 2026（Milan Design Week 2026）」は、2026年4月19日から4月26日までの期間にわたり、イタリア・ミラノにて開催される。インテリア、プロダクト、建築、ファッション、テクノロジーなど、幅広い分野が交差する世界最大規模のデザインイベントの一つである。 \n同イベントは、国際家具見本市「ミラノサローネ（Salone del Mobile.Milano）」を中核とし、ミラノ市内で展開される「フォーリサローネ（Fuorisalone）」と連動して開催される。展示会場での発表に加え、ショールームやギャラリー、ブランドスペースでのインスタレーションが市内各所で行われ、ミラノ全体がデザインの発信拠点として機能する点が特徴だ。 \n期間中には、世界中のブランドやデザイナー、建築家、企業が集結し、新作発表やコンセプト展示、コラボレーションなど多彩なプロジェクトが展開される。近年は、サステナビリティや新素材、デジタル技術との融合といったテーマが注目されており、デザインを通じた社会課題へのアプローチも重要な潮流となっている。
URL:https://ouispeakfashion.com/jp/event/milan-design-week-2026/
LOCATION:Milano\, Milano\, Italy
CATEGORIES:Sourcing Tradeshow
ATTACH;FMTTYPE=image/webp:https://ouispeakfashion.com/jp/wp-content/uploads/2026/03/OSF-Main-8-5.webp
END:VEVENT
BEGIN:VEVENT
DTSTART;VALUE=DATE:20260421
DTEND;VALUE=DATE:20260422
DTSTAMP:20260420T091621
CREATED:20260327T210408Z
LAST-MODIFIED:20260327T210408Z
UID:120253-1776729600-1776815999@ouispeakfashion.com
SUMMARY:アメリカン・イメージ・アワード 2026
DESCRIPTION:「アメリカン・イメージ・アワード 2026（American Image Awards 2026）」は、2026年4月21日にアメリカ・ニューヨークにて開催される。同イベントは、「アメリカン・アパレル・アンド・フットウェア・アソシエーション（American Apparel & Footwear Association\, AAFA）」が主催する年次アワードであり、アメリカのファッションおよびアパレル産業における卓越した功績を称えることを目的としている。 \nアワードでは、デザイナーやブランドリーダー、企業、革新者など、業界を牽引する人物や組織が対象となり、デザイン、リーダーシップ、サステナビリティ、イノベーションといった多様な領域において顕著な成果を挙げた存在が表彰される。 \nイベントは、ガラディナー形式で開催され、グローバルな業界関係者が一堂に会する交流の場としても機能し、ビジネス機会の創出やネットワーキングの促進において重要な役割を果たしている。
URL:https://ouispeakfashion.com/jp/event/american-image-awards-2026/
CATEGORIES:Fashion Event
ATTACH;FMTTYPE=image/webp:https://ouispeakfashion.com/jp/wp-content/uploads/2026/03/OSF-Main-6-14.webp
END:VEVENT
BEGIN:VEVENT
DTSTART;VALUE=DATE:20260421
DTEND;VALUE=DATE:20260427
DTSTAMP:20260420T091621
CREATED:20260327T230307Z
LAST-MODIFIED:20260327T230409Z
UID:120273-1776729600-1777247999@ouispeakfashion.com
SUMMARY:2026年 ミラノサローネ 国際家具見本市
DESCRIPTION:ミラノサローネ 国際家具見本市『正式名称：サローネ・デル・モービレ・ミラノ 2026（Salone del Mobile.Milano 2026）』は、2026年4月21日から4月26日までの期間にわたり、イタリア・ミラノのフィエラ ミラノ（Rho Fiera Milano）にて開催される。1961年に創設された同見本市は、世界最大規模の国際家具・デザイン見本市として知られ、ミラノ・デザインウィークの中核を担う存在として知られる。 \n同イベントは、家具、照明、インテリア、プロダクトデザインなど幅広い分野を網羅し、世界中のブランドやメーカー、デザイナーが新作を発表する場として機能する。展示は、商業性とクリエイティビティの両面を兼ね備えた構成となっており、バイヤーや建築家、デザイナー、メディアなど、グローバルな業界関係者が集結。 \nまた、サローネは単なる展示会にとどまらず、文化的・社会的テーマを反映したインスタレーションや特別プロジェクトも展開される。特に近年は、サステナビリティや循環型デザイン、テクノロジーとの融合といったテーマが重要な軸となっており、デザインの未来を提示するプラットフォームとしての役割を強めている。
URL:https://ouispeakfashion.com/jp/event/salone-del-mobile-milano-2026/
LOCATION:Rho Fiera Milano\, Strada Statale Sempione\, 28\, Milano\, MI\, 20017\, Italy
CATEGORIES:Trade Show
ATTACH;FMTTYPE=image/webp:https://ouispeakfashion.com/jp/wp-content/uploads/2026/03/OSF-Main-9.webp
END:VEVENT
BEGIN:VEVENT
DTSTART;VALUE=DATE:20260428
DTEND;VALUE=DATE:20260429
DTSTAMP:20260420T091621
CREATED:20251218T230710Z
LAST-MODIFIED:20251218T231316Z
UID:110370-1777334400-1777420799@ouispeakfashion.com
SUMMARY:シャネル（Chanel）2027年 クルーズショー
DESCRIPTION:シャネル（Chanel）は、2026年4月28日（現地時間）に、フランス南西部に位置するビアリッツで「クルーズ 2027年 コレクション」を発表する。 \nビアリッツは、ガブリエル・シャネル（Gabrielle Chanel）がブランド初のクチュールハウスを構えたゆかりの地として知られ、メゾンにとって象徴的な意味をもつ都市である。 \n詳細は、こちらから。 \n 
URL:https://ouispeakfashion.com/jp/event/chanel-cruise2027/
LOCATION:Biarritz\, Biarritz\, France
CATEGORIES:Fashion Show
ATTACH;FMTTYPE=image/webp:https://ouispeakfashion.com/jp/wp-content/uploads/2025/12/chanel-1.webp
END:VEVENT
BEGIN:VEVENT
DTSTART;VALUE=DATE:20260513
DTEND;VALUE=DATE:20260514
DTSTAMP:20260420T091621
CREATED:20251130T002144Z
LAST-MODIFIED:20251130T002144Z
UID:109751-1778630400-1778716799@ouispeakfashion.com
SUMMARY:ディオール（Dior）2027年クルーズショー
DESCRIPTION:「ディオール（Dior）」は、クリエイティブディレクターに就任したジョナサン・アンダーソン（Jonathan Anderson） による初のクルーズコレクションを、2026年5月13日（現地時間）にロサンゼルスで開催する。 \n現時点で会場の詳細は明かされておらず、詳細は後日伝えられる。
URL:https://ouispeakfashion.com/jp/event/dior-cruise2027/
LOCATION:Los Angeles\, Los Angeles
CATEGORIES:Fashion Show
ATTACH;FMTTYPE=image/webp:https://ouispeakfashion.com/jp/wp-content/uploads/2025/11/OSF-Main-11.webp
END:VEVENT
BEGIN:VEVENT
DTSTART;VALUE=DATE:20260516
DTEND;VALUE=DATE:20260517
DTSTAMP:20260420T091621
CREATED:20251130T001509Z
LAST-MODIFIED:20251130T002358Z
UID:109747-1778889600-1778975999@ouispeakfashion.com
SUMMARY:グッチ（Gucci）2027年クルーズショー
DESCRIPTION:アーティスティック・ディレクターのデムナ（Demna）率いるグッチ（Gucci）は、2027年クルーズ コレクションを、2026年5月16日（現地時間）にニューヨークで披露する。 \nこれは、 2026年2月に予定されているデムナ体制初のファッションショーに続く大型プロジェクトであり、グッチにとって新章の幕開けを象徴するイベントとなる。 \n会場および演出の詳細は、後日発表予定。
URL:https://ouispeakfashion.com/jp/event/gucci-cruise2027/
LOCATION:New York
CATEGORIES:Fashion Show
ATTACH;FMTTYPE=image/webp:https://ouispeakfashion.com/jp/wp-content/uploads/2025/11/OSF-Main-12.webp
END:VEVENT
BEGIN:VEVENT
DTSTART;VALUE=DATE:20260520
DTEND;VALUE=DATE:20260521
DTSTAMP:20260420T091621
CREATED:20251121T225244Z
LAST-MODIFIED:20251130T000939Z
UID:109629-1779235200-1779321599@ouispeakfashion.com
SUMMARY:ルイ ヴィトン（Louis Vuitton）2027年クルーズショー
DESCRIPTION:ルイ ヴィトン（Louis Vuitton）は、2026年5月20日にニューヨークで、ニコラ・ジェスキエール（Nicolas Ghesquière）によるクルーズ2027コレクションを発表する。 \n世界有数のファッション都市で開催されるこのショーは、現代ラグジュアリーを再解釈するジェスキエールのビジョンを体現する新たな章となる。 \n会場および演出の詳細は、後日発表予定。
URL:https://ouispeakfashion.com/jp/event/louis-vuitton-cruise-2027-show/
LOCATION:New York
CATEGORIES:Fashion Show
ATTACH;FMTTYPE=image/webp:https://ouispeakfashion.com/jp/wp-content/uploads/2025/11/Louis-Vuitton.webp
END:VEVENT
END:VCALENDAR