BEGIN:VCALENDAR
VERSION:2.0
PRODID:-//Oui Speak Fashion Japan (OSF)® [ウィ スピーク ファッション ジャパン] - ECPv6.15.20//NONSGML v1.0//EN
CALSCALE:GREGORIAN
METHOD:PUBLISH
X-WR-CALNAME:Oui Speak Fashion Japan (OSF)® [ウィ スピーク ファッション ジャパン]
X-ORIGINAL-URL:https://ouispeakfashion.com/jp
X-WR-CALDESC:Oui Speak Fashion Japan (OSF)® [ウィ スピーク ファッション ジャパン] のイベント
REFRESH-INTERVAL;VALUE=DURATION:PT1H
X-Robots-Tag:noindex
X-PUBLISHED-TTL:PT1H
BEGIN:VTIMEZONE
TZID:Asia/Tokyo
BEGIN:STANDARD
TZOFFSETFROM:+0900
TZOFFSETTO:+0900
TZNAME:JST
DTSTART:20250101T000000
END:STANDARD
END:VTIMEZONE
BEGIN:VEVENT
DTSTART;VALUE=DATE:20260623
DTEND;VALUE=DATE:20260629
DTSTAMP:20260420T082648
CREATED:20260327T211509Z
LAST-MODIFIED:20260327T211535Z
UID:120257-1782172800-1782691199@ouispeakfashion.com
SUMMARY:パリ ファッションウィーク メンズ 2027年春夏
DESCRIPTION:「パリ ファッションウィーク メンズ 2027年春夏（Paris Fashion Week Men’s Spring/Summer 2027）」は、2026年6月23日から6月28日までの期間にわたり、フランス・パリにて開催される。メンズファッションにおける世界最高峰の舞台の一つとして位置づけられ、世界中のトップメゾンから新進デザイナーまでが最新コレクションを発表する。 \n同イベントは、フランス・オートクチュール・プレタポルテ連合（Fédération de la Haute Couture et de la Mode）が公式に主催・統括するファッションウィークであり、ミラノやロンドンと並び、グローバルメンズファッションのトレンドを牽引する重要な役割を担っている。 \n期間中は、ランウェイショーに加え、プレゼンテーションやショールーム形式の展示も行われ、バイヤーやメディア、インフルエンサーなど世界各国の業界関係者が集結する。ラグジュアリーブランドによるクリエイションと、ストリートや新世代ブランドの台頭が交差することで、パリならではの多層的なファッションシーンが展開される。
URL:https://ouispeakfashion.com/jp/event/paris-fashion-week-mens-spring-summer-2027/
LOCATION:Paris\, Paris\, France
CATEGORIES:Fashion Week
ATTACH;FMTTYPE=image/jpeg:https://ouispeakfashion.com/jp/wp-content/uploads/2026/03/shutterstock_377382433-scaled.jpg
END:VEVENT
BEGIN:VEVENT
DTSTART;VALUE=DATE:20260706
DTEND;VALUE=DATE:20260710
DTSTAMP:20260420T082648
CREATED:20260327T213136Z
LAST-MODIFIED:20260327T213150Z
UID:120263-1783296000-1783641599@ouispeakfashion.com
SUMMARY:パリ オートクチュールウィーク 2026年秋冬
DESCRIPTION:「パリ オートクチュールウィーク 2026年秋冬（Paris Haute Couture Fall/Winter 2026–2027）」は、2026年7月6日から7月9日までの期間にわたり、フランス・パリにて開催される。オートクチュールは、ファッションにおける最高峰の領域として位置づけられ、卓越したクラフツマンシップと創造性を体現する舞台である。 \n同イベントは、フランス・オートクチュール・プレタポルテ連合（Fédération de la Haute Couture et de la Mode）によって公式に主催・統括されており、「オートクチュール」の称号は厳格な基準を満たした限られたメゾンのみに与えられる。その制度自体が、世界的に見ても極めて高い独自性と権威性を持つ。 \n期間中は、歴史あるメゾンに加え、ゲストメンバーとして招待されたブランドが、ランウェイショーやプレゼンテーション形式で最新コレクションを発表する。各ルックは、オーダーメイドを前提とした一点物として制作され、精緻な手仕事や革新的な技術、そして芸術性を融合させた作品の披露となる。
URL:https://ouispeakfashion.com/jp/event/paris-haute-couture-fall-winter-2026/
LOCATION:Paris\, Paris\, France
CATEGORIES:Fashion Week
ATTACH;FMTTYPE=image/png:https://ouispeakfashion.com/jp/wp-content/uploads/2024/10/OSF-Main-12.png
END:VEVENT
END:VCALENDAR